Workbook

Sheet січень 2026
B1: УПРАВЛІННЯ ОСВІТИ ПЕРВОМАЙСЬКОЇ МІСЬКОЇ РАДИ
D2: КАРТКА АНАЛІТИЧНОГО ОБЛІКУ КАСОВИХ ВИДАТКІВ
D3: за січень 2026 року
B4: ЗАГАЛЬНИЙ ФОНД
B5: грн. коп.
D6: Заробітна плата | E6: Нарахування на оплату праці | F6: предмети, обладнання та інвентар (1021, 1183, 1184, 1291, 1292 | G6: Медикаменти та перевязувальні матеріали | H6: продукти харчування | I6: продукти харчування 1403 та 1700 | J6: оплата послуг (крім комунальних) | K6: Видатки на відрядження | L6: оплата теплопостачання | M6: оплата водопостачання та водовідведення | N6: оплата електроенергії | O6: оплата природного газу | P6: оплата інших енергоносіїв (с/сміття) | Q6: Інші поточні видатки
D7: 2111 | E7: 2120 | F7: 2210 | G7: 2220 | H7: 2230 | I7: 2230 (7фонд) | J7: 2240 | K7: 2250 | L7: 2271 | M7: 2272 | N7: 2273 | O7: 2274 | P7: 2275 | Q7: 2800 | W7: за поточний місяць | Y7: з початку року
A8: касові видатки на початок періоду | C8: =D8+E8+F8+G8+H8+I8+J8+K8+L8+M8+N8+O8+P8+Q8+R8+S8+T8+U8+V8 -> 0 | W8: Х | Y8: Х
B9: Заклади дошкільної освіти
A10: 1 | B10: № 1 Ластівка | D10: 501374.82 | E10: 113546 | H10: 9065.8 | L10: 291210.66 | W10: =SUM(D10:V10) -> 915197.28 | Y10: =W10+C10 -> 915197.28
A11: 2 | B11: № 2 Сонечко | D11: 581333.91 | E11: 133863.68 | H11: 8963.4 | L11: 216755.25 | W11: =SUM(D11:V11) -> 940916.24 | Y11: =W11+C11 -> 940916.24
A12: 3 | B12: № 3 Дюймовочка | D12: 330859.28 | E12: 80128.56 | H12: 4119 | Q12: 882.87 | W12: =SUM(D12:V12) -> 415989.71 | Y12: =W12+C12 -> 415989.71
A13: 4 | W13: =SUM(D13:V13) -> 0 | Y13: =W13+C13 -> 0
A14: 5 | B14: № 5 Золота рибка | D14: 533131.33 | E14: 117042.31 | H14: 1278 | L14: 452102.23 | W14: =SUM(D14:V14) -> 1103553.9 | Y14: =W14+C14 -> 1103553.9
A15: 6 | B15: № 6 Дзвіночок | D15: 455515.1 | E15: 98323.86 | H15: 9280 | L15: 415032.32 | W15: =SUM(D15:V15) -> 978151.28 | Y15: =W15+C15 -> 978151.28
A16: 7 | B16: № 7 Перлинка | D16: 691728.99 | E16: 152295.29 | H16: 11206.8 | L16: 467172.31 | W16: =SUM(D16:V16) -> 1322403.4 | Y16: =W16+C16 -> 1322403.4
A17: 8 | B17: № 8 Вербиченька | D17: 455850.85 | E17: 103933 | H17: 2749 | Q17: 882.87 | W17: =SUM(D17:V17) -> 563415.72 | Y17: =W17+C17 -> 563415.72
A18: 9 | B18: № 9 Краплинка | D18: 405335.48 | E18: 85425 | H18: 8324.4 | L18: 175801.06 | W18: =SUM(D18:V18) -> 674885.94 | Y18: =W18+C18 -> 674885.94
A19: 10 | B19: № 10 Білочка | D19: 454135.83 | E19: 99947.81 | H19: 10995 | L19: 277511.71 | W19: =SUM(D19:V19) -> 842590.35 | Y19: =W19+C19 -> 842590.35
A20: 11 | B20: № 11 Дивограй | D20: 298549.77 | E20: 65017.56 | H20: 3769.2 | L20: 275115.33 | W20: =SUM(D20:V20) -> 642451.86 | Y20: =W20+C20 -> 642451.86
A21: 12 | B21: № 12 Струмочок | D21: 477221.76 | E21: 110084.51 | H21: 5932 | Q21: 882.87 | W21: =SUM(D21:V21) -> 594121.14 | Y21: =W21+C21 -> 594121.14
A22: 13 | B22: № 13 Журавлик | D22: 432998.01 | E22: 98471.35 | H22: 9371.52 | Q22: 882.87 | W22: =SUM(D22:V22) -> 541723.75 | Y22: =W22+C22 -> 541723.75
A23: 14 | B23: № 14 Казка | D23: 400043.85 | E23: 83476.59 | H23: 10724.5 | Q23: 882.87 | W23: =SUM(D23:V23) -> 495127.81 | Y23: =W23+C23 -> 495127.81
A24: 15 | B24: № 15 Пізнайко | D24: 828517.55 | E24: 188060.19 | H24: 12577.2 | L24: 189426.15 | W24: =SUM(D24:V24) -> 1218581.1 | Y24: =W24+C24 -> 1218581.1
A25: 16 | B25: № 16 Калинонька | D25: 311383.47 | E25: 63434.38 | H25: 2572.4 | L25: 120943.52 | W25: =SUM(D25:V25) -> 498333.77 | Y25: =W25+C25 -> 498333.77
A26: 17 | B26: Грушівський ЗДО Червона калина | D26: 141126.3 | E26: 27841.76 | H26: 623 | Q26: 1399.81 | W26: =SUM(D26:V26) -> 170990.87 | Y26: =W26+C26 -> 170990.87
A27: 18 | B27: Кінецьпільський ЗДО Струмочок | D27: 204881.06 | E27: 43487.55 | H27: 1124 | Q27: 882.87 | W27: =SUM(D27:V27) -> 250375.48 | Y27: =W27+C27 -> 250375.48
A28: 19 | B28: Підгороднянський ЗДО Ромашка | D28: 190900.36 | E28: 45060.69 | H28: 1672.6 | Q28: 1399.81 | W28: =SUM(D28:V28) -> 239033.46 | Y28: =W28+C28 -> 239033.46
W29: =SUM(D29:V29) -> 0 | Y29: =W29+C29 -> 0
B30: Разом по 0611010 | C30: =SUM(C10:C29) -> 0 | D30: =SUM(D10:D29) -> 7694887.7 | E30: =SUM(E10:E29) -> 1709440.1 | F30: =SUM(F10:F29) -> 0 | G30: =SUM(G10:G29) -> 0 | H30: =SUM(H10:H29) -> 114347.82 | I30: =SUM(I10:I29) -> 0 | J30: =SUM(J10:J29) -> 0 | ... W30: =SUM(W10:W29) -> 12407843 | Y30: =SUM(Y10:Y29) -> 12407843
B31: Гімназії, ліцеї
A32: 1 | B32: № 1 | D32: 1177173.7 | E32: 263286.31 | H32: 13461 | Q32: 225.11 | W32: =SUM(D32:V32) -> 1454146.1 | Y32: =W32+C32 -> 1454146.1
A33: 2 | B33: № 2 | D33: 984876.86 | E33: 208241.83 | Q33: 225.11 | W33: =SUM(D33:V33) -> 1193343.8 | Y33: =W33+C33 -> 1193343.8
A34: 3 | B34: № 3 (0,5) | D34: 641317 | E34: 141087.99 | H34: 3398 | J34: 2737 | Q34: 225.1 | W34: =SUM(D34:V34) -> 788765.09 | Y34: =W34+C34 -> 788765.09
A35: 4 | B35: № 4 | D35: 1447401 | E35: 321869.45 | H35: 8340 | L35: 419848.97 | W35: =SUM(D35:V35) -> 2197459.4 | Y35: =W35+C35 -> 2197459.4
A36: 5 | B36: № 5 | D36: =575+1961701.31 -> 1962276.3 | E36: 452006.58 | H36: 33392 | L36: 630151 | W36: =SUM(D36:V36) -> 3077825.9 | Y36: =W36+C36 -> 3077825.9
A37: 6 | B37: № 6 (0,1) | D37: 568583.7 | E37: 128311.61 | H37: 2115 | Q37: 225.1 | W37: =SUM(D37:V37) -> 699235.41 | Y37: =W37+C37 -> 699235.41
A38: 7 | B38: № 7 (0,5) | D38: 525172.45 | E38: 119399.26 | H38: 3398 | Q38: 225.1 | W38: =SUM(D38:V38) -> 648194.81 | Y38: =W38+C38 -> 648194.81
A39: 8 | B39: № 8 | D39: 526342.26 | E39: 111210.21 | Q39: 225.1 | W39: =SUM(D39:V39) -> 637777.57 | Y39: =W39+C39 -> 637777.57
A40: 9 | B40: № 9 | D40: 979236.88 | E40: 217582.53 | H40: 11546 | Q40: 225.1 | W40: =SUM(D40:V40) -> 1208590.5 | Y40: =W40+C40 -> 1208590.5
...

Sheet лютий 2026
B1: УПРАВЛІННЯ ОСВІТИ ПЕРВОМАЙСЬКОЇ МІСЬКОЇ РАДИ
D2: КАРТКА АНАЛІТИЧНОГО ОБЛІКУ КАСОВИХ ВИДАТКІВ
D3: за лютий 2026 року
B4: ЗАГАЛЬНИЙ ФОНД
B5: грн. коп.
D6: Заробітна плата | E6: Нарахування на оплату праці | F6: предмети, обладнання та інвентар | G6: Медикаменти та перевязувальні матеріали | H6: продукти харчування | I6: продукти харчування 1403 та 1700 | J6: оплата послуг (крім комунальних) | K6: Видатки на відрядження | L6: оплата теплопостачання | M6: оплата водопостачання та водовідведення | N6: оплата електроенергії | O6: оплата природного газу | P6: оплата інших енергоносіїв (с/сміття) | Q6: Інші поточні видатки
D7: 2111 | E7: 2120 | F7: 2210 | G7: 2220 | H7: 2230 | I7: 2230 (7фонд) | J7: 2240 | K7: 2250 | L7: 2271 | M7: 2272 | N7: 2273 | O7: 2274 | P7: 2275 | Q7: 2800 | W7: за поточний місяць | Y7: з початку року
A8: касові видатки на початок періоду | C8: =D8+E8+F8+G8+H8+I8+J8+K8+L8+M8+N8+O8+P8+Q8+R8+S8+T8+U8+V8 -> 0 | D8: ='січень 2026'!D81 -> 0 | E8: ='січень 2026'!E81 -> 0 | F8: ='січень 2026'!F81 -> 0 | G8: ='січень 2026'!G81 -> 0 | H8: ='січень 2026'!H81 -> 0 | I8: ='січень 2026'!I81 -> 0 | J8: ='січень 2026'!J81 -> 0 | K8: ='січень 2026'!K81 -> 0 | ... V8: ='січень 2026'!V81 -> 0 | W8: Х | Y8: Х
B9: Заклади дошкільної освіти
A10: 1 | B10: № 1 Ластівка | C10: ='січень 2026'!Y10 -> 915197.28 | D10: 470069.47 | E10: 110779.74 | F10: 17524.81 | H10: 7321.04 | J10: 774.02 | L10: 450879.34 | M10: 7947.26 | N10: 44322.93 | P10: 222.84 | W10: =SUM(D10:V10) -> 1109841.5 | Y10: =W10+C10 -> 2025038.7
A11: 2 | B11: № 2 Сонечко | C11: ='січень 2026'!Y11 -> 940916.24 | D11: 654745.07 | E11: 147755.73 | F11: 10502.8 | H11: 8154 | J11: 774.02 | L11: 374723.06 | M11: 6468.7 | N11: 45499.5 | P11: 668.52 | W11: =SUM(D11:V11) -> 1249291.4 | Y11: =W11+C11 -> 2190207.6
A12: 3 | B12: № 3 Дюймовочка | C12: ='січень 2026'!Y12 -> 415989.71 | D12: 242413.49 | E12: 59140.86 | F12: 8709.8 | H12: 2015 | J12: 773.03 | M12: 2530.35 | N12: 54011.47 | O12: 72287.24 | P12: 445.68 | W12: =SUM(D12:V12) -> 442326.92 | Y12: =W12+C12 -> 858316.63
A13: 4 | B13: № 4 Дельфін | C13: ='січень 2026'!Y13 -> 0 | W13: =SUM(D13:V13) -> 0 | Y13: =W13+C13 -> 0
A14: 5 | B14: № 5 Золота рибка | C14: ='січень 2026'!Y14 -> 1103553.9 | D14: 542187.6 | E14: 126444.31 | F14: 34223.84 | H14: 11736.5 | J14: 773.03 | L14: 564510.16 | M14: 3234.35 | N14: 70777.98 | P14: 884.23 | W14: =SUM(D14:V14) -> 1354772 | Y14: =W14+C14 -> 2458325.9
A15: 6 | B15: № 6 Дзвіночок | C15: ='січень 2026'!Y15 -> 978151.28 | D15: 516007.81 | E15: 113226.47 | F15: 25180.82 | H15: 11897.34 | J15: 774.02 | L15: 625581.02 | M15: 7854.85 | N15: 45019.03 | P15: 3298.03 | W15: =SUM(D15:V15) -> 1348839.4 | Y15: =W15+C15 -> 2326990.7
A16: 7 | B16: № 7 Перлинка | C16: ='січень 2026'!Y16 -> 1322403.4 | D16: 571254.28 | E16: 134518.15 | F16: 53621.33 | H16: 5280.6 | J16: 773.03 | L16: 652089.54 | M16: 8316.9 | N16: 148624.69 | P16: 1363.19 | W16: =SUM(D16:V16) -> 1575841.7 | Y16: =W16+C16 -> 2898245.1
A17: 8 | B17: № 8 Вербиченька | C17: ='січень 2026'!Y17 -> 563415.72 | D17: 451881.45 | E17: 107871.06 | F17: 11892.81 | H17: 5994.02 | J17: 17993.03 | N17: 51596.44 | O17: 114754.94 | W17: =SUM(D17:V17) -> 761983.75 | Y17: =W17+C17 -> 1325399.5
A18: 9 | B18: № 9 Краплинка | C18: ='січень 2026'!Y18 -> 674885.94 | D18: 389072.11 | E18: 85551.91 | F18: 20793.8 | H18: 8006.4 | J18: 731.15 | L18: 155172.35 | M18: 2772.3 | N18: 46155.51 | P18: 445.68 | W18: =SUM(D18:V18) -> 708701.21 | Y18: =W18+C18 -> 1383587.2
A19: 10 | B19: № 10 Білочка | C19: ='січень 2026'!Y19 -> 842590.35 | D19: 349694.28 | E19: 86219.75 | F19: 20110.83 | H19: 560.4 | J19: 773.03 | L19: 365239.31 | M19: 3049.53 | N19: 36310.71 | P19: 222.84 | W19: =SUM(D19:V19) -> 862180.68 | Y19: =W19+C19 -> 1704771
A20: 11 | B20: № 11 Дивограй | C20: ='січень 2026'!Y20 -> 642451.86 | D20: 271400.44 | E20: 68135.98 | F20: 8475.8 | H20: 751.2 | J20: 881.15 | L20: 425346.68 | M20: 2957.12 | N20: 48144.36 | P20: 222.84 | W20: =SUM(D20:V20) -> 826315.57 | Y20: =W20+C20 -> 1468767.4
A21: 12 | B21: № 12 Струмочок | C21: ='січень 2026'!Y21 -> 594121.14 | D21: 412344.59 | E21: 99666.88 | F21: 8793.8 | H21: 1095 | J21: 19673.03 | M21: 1630.67 | N21: 49735.44 | O21: 120078.58 | W21: =SUM(D21:V21) -> 713017.99 | Y21: =W21+C21 -> 1307139.1
A22: 13 | B22: № 13 Журавлик | C22: ='січень 2026'!Y22 -> 541723.75 | D22: 381057.64 | E22: 88113.02 | F22: 10134.81 | H22: 150 | J22: 8833.03 | M22: 1461.98 | N22: 27133.59 | O22: 76411.69 | P22: 445.68 | W22: =SUM(D22:V22) -> 593741.44 | Y22: =W22+C22 -> 1135465.2
A23: 14 | B23: № 14 Казка | C23: ='січень 2026'!Y23 -> 495127.81 | D23: 306740.9 | E23: 81714.8 | F23: 15131.82 | H23: 783 | J23: 773.03 | M23: 4158.45 | N23: 47448.27 | O23: 117878.94 | P23: 445.68 | W23: =SUM(D23:V23) -> 575074.89 | Y23: =W23+C23 -> 1070202.7
A24: 15 | B24: № 15 Пізнайко | C24: ='січень 2026'!Y24 -> 1218581.1 | D24: 981983.71 | E24: 217998.57 | F24: 47186.8 | H24: 26495.24 | J24: 774.03 | L24: 335498.62 | M24: 4897.73 | N24: 64640.96 | P24: 1188.48 | W24: =SUM(D24:V24) -> 1680664.1 | Y24: =W24+C24 -> 2899245.2
A25: 16 | B25: № 16 Калинонька | C25: ='січень 2026'!Y25 -> 498333.77 | D25: 278822.66 | E25: 62536.85 | F25: 6618.1 | H25: 150 | J25: 773.03 | L25: 125118.68 | M25: 2310.25 | N25: 49749.65 | P25: 222.84 | W25: =SUM(D25:V25) -> 526302.06 | Y25: =W25+C25 -> 1024635.8
A26: 17 | B26: Грушівський ЗДО Червона калина | C26: ='січень 2026'!Y26 -> 170990.87 | D26: 145286.33 | E26: 29507.43 | F26: 7541.4 | H26: 2220.6 | J26: 550 | N26: 23624.69 | W26: =SUM(D26:V26) -> 208730.45 | Y26: =W26+C26 -> 379721.32
A27: 18 | B27: Кінецьпільський ЗДО Струмочок | C27: ='січень 2026'!Y27 -> 250375.48 | D27: 161749.65 | E27: 40248.5 | F27: 7298.4 | H27: 1229 | J27: 653.03 | N27: 23780.96 | O27: 55178.76 | W27: =SUM(D27:V27) -> 290138.3 | Y27: =W27+C27 -> 540513.78
A28: 19 | B28: Підгороднянський ЗДО Ромашка | C28: ='січень 2026'!Y28 -> 239033.46 | D28: 208858.08 | E28: 49590.85 | F28: 5381.4 | H28: 3617.54 | J28: 1168 | M28: 5073 | N28: 19135.57 | P28: 3298.03 | W28: =SUM(D28:V28) -> 296122.47 | Y28: =W28+C28 -> 535155.93
A29: 20 | B29: Чаусівський ЗДО | C29: ='січень 2026'!Y29 -> 0 | W29: =SUM(D29:V29) -> 0 | Y29: =W29+C29 -> 0
B30: Разом по 0611010 | C30: =SUM(C10:C29) -> 12407843 | D30: =SUM(D10:D29) -> 7335569.6 | E30: =SUM(E10:E29) -> 1709020.9 | F30: =SUM(F10:F29) -> 319123.17 | G30: =SUM(G10:G29) -> 0 | H30: =SUM(H10:H29) -> 97456.88 | I30: =SUM(I10:I29) -> 0 | J30: =SUM(J10:J29) -> 58216.69 | ... W30: =SUM(W10:W29) -> 15123886 | Y30: =SUM(Y10:Y29) -> 27531729
B31: Гімназії, ліцеї
A32: 1 | B32: № 1 | C32: ='січень 2026'!Y32 -> 1454146.1 | D32: 1163353.2 | E32: 255672.39 | F32: 47664.5 | H32: 19991.55 | I32: 3504 | J32: 6480.16 | M32: 3092.65 | N32: 77508.32 | O32: 259399.1 | W32: =SUM(D32:V32) -> 1836665.9 | Y32: =W32+C32 -> 3290812
A33: 2 | B33: № 2 | C33: ='січень 2026'!Y33 -> 1193343.8 | D33: 998377.78 | E33: 210190.78 | F33: 9674.3 | J33: 3632.06 | N33: 42392.88 | O33: 215600.27 | W33: =SUM(D33:V33) -> 1479868.1 | Y33: =W33+C33 -> 2673211.9
A34: 3 | B34: № 3 (0,5) | C34: ='січень 2026'!Y34 -> 788765.09 | D34: 639191.35 | E34: 138754.32 | F34: 48965.3 | H34: 8583.79 | I34: 7066 | J34: 9475.16 | M34: 1405.75 | N34: 27304.06 | O34: 160278.7 | P34: 222.84 | W34: =SUM(D34:V34) -> 1041247.3 | Y34: =W34+C34 -> 1830012.4
A35: 4 | B35: № 4 | C35: ='січень 2026'!Y35 -> 2197459.4 | D35: 1386409.9 | E35: 308966.3 | F35: 104850.6 | H35: 20392.09 | I35: 3942 | J35: 5627.06 | L35: 348748.51 | M35: 3419.17 | N35: 15470.4 | P35: 445.68 | W35: =SUM(D35:V35) -> 2198271.7 | Y35: =W35+C35 -> 4395731.1
A36: 5 | B36: № 5 | C36: ='січень 2026'!Y36 -> 3077825.9 | D36: 1960010.3 | E36: 436664.74 | F36: 54006.95 | H36: 39401.07 | I36: 4800 | J36: 7780.16 | L36: 616374.01 | M36: 14785.6 | N36: 58125.33 | P36: 891.36 | W36: =SUM(D36:V36) -> 3192839.5 | Y36: =W36+C36 -> 6270665.4
A37: 6 | B37: № 6 (0,1) | C37: ='січень 2026'!Y37 -> 699235.41 | D37: 562997.12 | E37: 126703.62 | F37: 38383.9 | H37: 7129.53 | J37: 1930.16 | M37: 168.69 | N37: 40274.2 | O37: 133106.17 | W37: =SUM(D37:V37) -> 910693.39 | Y37: =W37+C37 -> 1609928.8
A38: 7 | B38: № 7 (0,5) | C38: ='січень 2026'!Y38 -> 648194.81 | D38: 527689.59 | E38: 118212.5 | F38: 35042.9 | H38: 8583.79 | J38: 1352.06 | M38: 449.84 | N38: 10370.43 | O38: 102486.29 | P38: 222.84 | W38: =SUM(D38:V38) -> 804410.24 | Y38: =W38+C38 -> 1452605.1
A39: 8 | B39: № 8 | C39: ='січень 2026'!Y39 -> 637777.57 | D39: 525918.7 | E39: 111381.92 | F39: 2523.1 | J39: 1705.16 | M39: 337.38 | N39: 58529 | O39: 70070.87 | W39: =SUM(D39:V39) -> 770466.13 | Y39: =W39+C39 -> 1408243.7
A40: 9 | B40: № 9 | C40: ='січень 2026'!Y40 -> 1208590.5 | D40: 862091.08 | E40: 186994.76 | F40: 29664.3 | H40: 14134.36 | I40: 11447 | J40: 3355.16 | M40: 4528.09 | N40: 33260.88 | O40: 297784.78 | P40: 8.91 | W40: =SUM(D40:V40) -> 1443269.3 | Y40: =W40+C40 -> 2651859.8
...

Sheet березень 2026
B1: УПРАВЛІННЯ ОСВІТИ ПЕРВОМАЙСЬКОЇ МІСЬКОЇ РАДИ
D2: КАРТКА АНАЛІТИЧНОГО ОБЛІКУ КАСОВИХ ВИДАТКІВ
D3: за березень 2026 року
B4: ЗАГАЛЬНИЙ ФОНД
B5: грн. коп.
D6: Заробітна плата | E6: Нарахування на оплату праці | F6: предмети, обладнання та інвентар (1021, 1183, 1184, 1291, 1292 | G6: Медикаменти та перевязувальні матеріали | H6: продукти харчування | I6: продукти харчування 1403 та 1700 | J6: оплата послуг (крім комунальних) | K6: Видатки на відрядження | L6: оплата теплопостачання | M6: оплата водопостачання та водовідведення | N6: оплата електроенергії | O6: оплата природного газу | P6: оплата інших енергоносіїв (с/сміття, рідкі нечистоти) | Q6: інші поточні видатки | R6: допомога дітям
D7: 2111 | E7: 2120 | F7: 2210 | G7: 2220 | H7: 2230 | I7: 2230 (7фонд) | J7: 2240 | K7: 2250 | L7: 2271 | M7: 2272 | N7: 2273 | O7: 2274 | P7: 2275 | Q7: 2800 | R7: 2730 | W7: за поточний місяць | Y7: з початку року
A8: касові видатки на початок періоду | C8: =D8+E8+F8+G8+H8+I8+J8+K8+L8+M8+N8+O8+P8+Q8+R8+S8+T8+U8+V8 -> 0 | D8: ='лютий 2026'!D81 -> 0 | E8: ='лютий 2026'!E81 -> 0 | F8: ='лютий 2026'!F81 -> 0 | G8: ='лютий 2026'!G81 -> 0 | H8: ='лютий 2026'!H81 -> 0 | I8: ='лютий 2026'!I81 -> 0 | J8: ='лютий 2026'!J81 -> 0 | K8: ='лютий 2026'!K81 -> 0 | ... V8: ='лютий 2026'!V81 -> 0 | W8: Х | Y8: Х
B9: Заклади дошкільної освіти
A10: 1 | B10: № 1 Ластівка | C10: ='лютий 2026'!Y10 -> 2025038.7 | D10: 530563.71 | E10: 125117.94 | F10: 345.6 | G10: 1936 | H10: 59794.79 | J10: 1792.53 | L10: 369698.57 | M10: 7762.44 | N10: 49268.39 | P10: 445.68 | W10: =SUM(D10:V10) -> 1146725.6 | Y10: =W10+C10 -> 3171764.4
A11: 2 | B11: № 2 Сонечко | C11: ='лютий 2026'!Y11 -> 2190207.6 | D11: 676580.96 | E11: 155781.02 | F11: 604.8 | G11: 1936 | H11: 55376.32 | J11: 1957.38 | L11: 298821.31 | M11: 4620.5 | N11: 66493.83 | P11: 891.36 | W11: =SUM(D11:V11) -> 1263063.5 | Y11: =W11+C11 -> 3453271.1
A12: 3 | B12: № 3 Дюймовочка | C12: ='лютий 2026'!Y12 -> 858316.63 | D12: 357315.77 | E12: 93110.16 | F12: 259.2 | G12: 1258 | H12: 36588.34 | J12: 1293.78 | M12: 1686.9 | N12: 50743.21 | O12: 72574.33 | P12: 445.68 | W12: =SUM(D12:V12) -> 615275.37 | Y12: =W12+C12 -> 1473592
A13: 4 | B13: № 4 Дельфін | C13: ='лютий 2026'!Y13 -> 0 | W13: =SUM(D13:V13) -> 0 | Y13: =W13+C13 -> 0
A14: 5 | B14: № 5 Золота рибка | C14: ='лютий 2026'!Y14 -> 2458325.9 | D14: 744094.17 | E14: 161426.8 | G14: 1597 | H14: 57577.05 | J14: 1971.03 | L14: 548081.31 | M14: 2772.3 | N14: 94891.07 | P14: 884.23 | W14: =SUM(D14:V14) -> 1613295 | Y14: =W14+C14 -> 4071620.8
A15: 6 | B15: № 6 Дзвіночок | C15: ='лютий 2026'!Y15 -> 2326990.7 | D15: 470309.19 | E15: 100603.93 | F15: 432 | G15: 1936 | H15: 41580.03 | J15: 1530.03 | L15: 504353.39 | M15: 6468.7 | N15: 48133.92 | P15: 1782.72 | W15: =SUM(D15:V15) -> 1177129.9 | Y15: =W15+C15 -> 3504120.6
A16: 7 | B16: № 7 Перлинка | C16: ='лютий 2026'!Y16 -> 2898245.1 | D16: 815012.62 | E16: 180301.19 | G16: 1936 | H16: 159076.46 | J16: 2332.23 | L16: 591438.66 | M16: 3696.4 | N16: 133946.97 | P16: 1363.19 | W16: =SUM(D16:V16) -> 1889103.7 | Y16: =W16+C16 -> 4787348.8
A17: 8 | B17: № 8 Вербиченька | C17: ='лютий 2026'!Y17 -> 1325399.5 | D17: 488315.81 | E17: 109979.84 | F17: 432 | G17: 1258 | H17: 71433.52 | J17: 16584.93 | M17: 1405.75 | N17: 54843.5 | O17: 124654.64 | P17: 445.68 | W17: =SUM(D17:V17) -> 869353.67 | Y17: =W17+C17 -> 2194753.1
A18: 9 | B18: № 9 Краплинка | C18: ='лютий 2026'!Y18 -> 1383587.2 | D18: 427599.36 | E18: 91368.31 | F18: 432 | G18: 1597 | H18: 102374.4 | J18: 1348.6 | L18: 448396.48 | M18: 2310.25 | N18: 50386.66 | W18: =SUM(D18:V18) -> 1125813.1 | Y18: =W18+C18 -> 2509400.2
A19: 10 | B19: № 10 Білочка | C19: ='лютий 2026'!Y19 -> 1704771 | D19: 512425.17 | E19: 112492.75 | F19: 259.2 | G19: 1936 | H19: 69896.54 | J19: 1731.63 | L19: 388597.93 | M19: 3419.17 | N19: 40208.84 | W19: =SUM(D19:V19) -> 1130967.2 | Y19: =W19+C19 -> 2835738.3
A20: 11 | B20: № 11 Дивограй | C20: ='лютий 2026'!Y20 -> 1468767.4 | D20: 321450 | E20: 70083.02 | F20: 345.6 | G20: 1258 | H20: 51749.88 | J20: 1339 | L20: 373614.32 | M20: 2125.43 | N20: 61407.21 | W20: =SUM(D20:V20) -> 883372.46 | Y20: =W20+C20 -> 2352139.9
A21: 12 | B21: № 12 Струмочок | C21: ='лютий 2026'!Y21 -> 1307139.1 | D21: 544911.73 | E21: 122433.46 | F21: 518.4 | G21: 1258 | H21: 51355.64 | J21: 18571.53 | M21: 2024.28 | N21: 60839.98 | O21: 140356.88 | P21: 445.68 | W21: =SUM(D21:V21) -> 942715.58 | Y21: =W21+C21 -> 2249854.7
A22: 13 | B22: № 13 Журавлик | C22: ='лютий 2026'!Y22 -> 1135465.2 | D22: 432122.99 | E22: 99987.44 | F22: 3832 | G22: 1258 | H22: 42559.43 | J22: 1860.98 | M22: 1237.06 | N22: 50727 | O22: 80475.64 | W22: =SUM(D22:V22) -> 714060.54 | Y22: =W22+C22 -> 1849525.7
A23: 14 | B23: № 14 Казка | C23: ='лютий 2026'!Y23 -> 1070202.7 | D23: 428538.31 | E23: 93470.5 | F23: 33300 | G23: 1936 | H23: 44481.96 | J23: 1570.98 | M23: 924.1 | N23: 55751.08 | O23: 123829.76 | W23: =SUM(D23:V23) -> 783802.69 | Y23: =W23+C23 -> 1854005.4
A24: 15 | B24: № 15 Пізнайко | C24: ='лютий 2026'!Y24 -> 2899245.2 | D24: 934960.98 | E24: 205597.1 | F24: 432 | G24: 1936 | H24: 101712.14 | J24: 2510.73 | L24: 263903.35 | M24: 5729.42 | N24: 79591.94 | P24: 1188.48 | Q24: 86470 | W24: =SUM(D24:V24) -> 1684032.1 | Y24: =W24+C24 -> 4583277.4
A25: 16 | B25: № 16 Калинонька | C25: ='лютий 2026'!Y25 -> 1024635.8 | D25: 291613.4 | E25: 62177 | G25: 705 | H25: 15835.09 | J25: 6019.93 | L25: 225285.26 | M25: 462.05 | N25: 58344.15 | P25: 222.84 | W25: =SUM(D25:V25) -> 660664.72 | Y25: =W25+C25 -> 1685300.6
A26: 17 | B26: Грушівський ЗДО Червона калина | C26: ='лютий 2026'!Y26 -> 379721.32 | D26: 175218.9 | E26: 36173.26 | G26: 705 | H26: 6354.74 | J26: 921.7 | N26: 105797.4 | W26: =SUM(D26:V26) -> 325171 | Y26: =W26+C26 -> 704892.32
A27: 18 | B27: Кінецьпільський ЗДО Струмочок | C27: ='лютий 2026'!Y27 -> 540513.78 | D27: 194636.32 | E27: 42570.1 | F27: 86.4 | G27: 705 | H27: 13594.38 | J27: 1635.79 | M27: 67.64 | N27: 24018.35 | O27: 78934.13 | W27: =SUM(D27:V27) -> 356248.11 | Y27: =W27+C27 -> 896761.89
A28: 19 | B28: Підгороднянський ЗДО Ромашка | C28: ='лютий 2026'!Y28 -> 535155.93 | D28: 233673.19 | E28: 53542.64 | G28: 705 | H28: 17026.78 | J28: 677.32 | M28: 2164.48 | N28: 18086.69 | P28: 222.84 | W28: =SUM(D28:V28) -> 326098.94 | Y28: =W28+C28 -> 861254.87
A29: 20 | B29: Чаусівський ЗДО | C29: ='лютий 2026'!Y29 -> 0 | W29: =SUM(D29:V29) -> 0 | Y29: =W29+C29 -> 0
B30: Разом по 0611010 | C30: =SUM(C10:C29) -> 27531729 | D30: =SUM(D10:D29) -> 8579342.6 | E30: =SUM(E10:E29) -> 1916216.5 | F30: =SUM(F10:F29) -> 41279.2 | G30: =SUM(G10:G29) -> 25856 | H30: =SUM(H10:H29) -> 998367.49 | I30: =SUM(I10:I29) -> 0 | J30: =SUM(J10:J29) -> 65650.1 | ... W30: =SUM(W10:W29) -> 17506893 | Y30: =SUM(Y10:Y29) -> 45038622
B31: Гімназії, ліцеї
A32: 1 | B32: № 1 | C32: ='лютий 2026'!Y32 -> 3290812 | D32: 1152775.4 | E32: 252804.29 | F32: 93508.3 | G32: 4322 | H32: 115277.84 | I32: 38497 | J32: 3001.35 | M32: 2080.51 | N32: 89396.2 | O32: 267713.31 | P32: 891.36 | W32: =SUM(D32:V32) -> 2020267.5 | Y32: =W32+C32 -> 5311079.5
A33: 2 | B33: № 2 | C33: ='лютий 2026'!Y33 -> 2673211.9 | D33: 995368.82 | E33: 208802.95 | G33: 2614 | J33: 2964.74 | N33: 43479.2 | O33: 199100.01 | W33: =SUM(D33:V33) -> 1452329.7 | Y33: =W33+C33 -> 4125541.6
A34: 3 | B34: № 3 (0,5) | C34: ='лютий 2026'!Y34 -> 1830012.4 | D34: 634036.6 | E34: 143783.3 | F34: 259.2 | G34: 2614 | H34: 51159.91 | I34: 18315 | J34: 11514.55 | M34: 1124.6 | N34: 48620.13 | O34: 164502.17 | P34: 445.68 | W34: =SUM(D34:V34) -> 1076375.1 | Y34: =W34+C34 -> 2906387.5
A35: 4 | B35: № 4 | C35: ='лютий 2026'!Y35 -> 4395731.1 | D35: 1400526.3 | E35: 316199.15 | G35: 6017 | H35: 205070.86 | I35: 71764 | J35: 3064.79 | L35: 459048.49 | M35: 3511.58 | N35: 58020.02 | P35: 1337.04 | W35: =SUM(D35:V35) -> 2524559.3 | Y35: =W35+C35 -> 6920290.4
A36: 5 | B36: № 5 | C36: ='лютий 2026'!Y36 -> 6270665.4 | D36: 1899150.1 | E36: 421488.99 | F36: 78421.33 | G36: 6017 | H36: 127974.17 | I36: 21085 | J36: 4486.9 | L36: 767094.51 | M36: 12013.3 | N36: 90968.68 | P36: 891.36 | W36: =SUM(D36:V36) -> 3429591.3 | Y36: =W36+C36 -> 9700256.7
A37: 6 | B37: № 6 (0,1) | C37: ='лютий 2026'!Y37 -> 1609928.8 | D37: 572976.44 | E37: 128943.72 | F37: 345.6 | G37: 2614 | H37: 50212.6 | I37: 21753.55 | J37: 4831.3 | M37: 281.15 | N37: 48620.13 | O37: 153754.17 | W37: =SUM(D37:V37) -> 984332.66 | Y37: =W37+C37 -> 2594261.5
A38: 7 | B38: № 7 (0,5) | C38: ='лютий 2026'!Y38 -> 1452605.1 | D38: 528777.54 | E38: 118176.14 | G38: 919 | H38: 51159.91 | I38: 18315 | J38: 1689.29 | M38: 1293.29 | N38: 20906.65 | O38: 106791.05 | P38: 222.84 | W38: =SUM(D38:V38) -> 848250.71 | Y38: =W38+C38 -> 2300855.8
A39: 8 | B39: № 8 | C39: ='лютий 2026'!Y39 -> 1408243.7 | D39: 528761.18 | E39: 112039.58 | F39: 1760.4 | G39: 352 | J39: 779.5 | M39: 449.84 | N39: 63384.44 | O39: 64417.42 | W39: =SUM(D39:V39) -> 771944.36 | Y39: =W39+C39 -> 2180188.1
A40: 9 | B40: № 9 | C40: ='лютий 2026'!Y40 -> 2651859.8 | D40: 1008161.1 | E40: 222504.49 | F40: 6288.75 | G40: 3970 | H40: 99089.81 | I40: 27931.5 | J40: 2736.55 | M40: 4250.86 | N40: 44519.69 | O40: 301544.69 | P40: 1390.52 | W40: =SUM(D40:V40) -> 1722387.9 | Y40: =W40+C40 -> 4374247.7
...

Sheet квітень 2026
B1: УПРАВЛІННЯ ОСВІТИ ПЕРВОМАЙСЬКОЇ МІСЬКОЇ РАДИ
D2: КАРТКА АНАЛІТИЧНОГО ОБЛІКУ КАСОВИХ ВИДАТКІВ
D3: за квітень 2026 року
B4: ЗАГАЛЬНИЙ ФОНД
B5: грн. коп.
D6: Заробітна плата | E6: Нарахування на оплату праці | F6: предмети, обладнання та інвентар (1021, 1183, 1184, 1291, 1292 | G6: Медикаменти та перевязувальні матеріали | H6: продукти харчування | I6: продукти харчування 1403 та 1700 | J6: оплата послуг (крім комунальних) | K6: Видатки на відрядження | L6: оплата теплопостачання | M6: оплата водопостачання та водовідведення | N6: оплата електроенергії | O6: оплата природного газу | P6: оплата інших енергоносіїв (с/сміття, рідкі нечистоти) | Q6: інші поточні видатки | R6: допомога дітям | S6: спец навчання по безпеці
D7: 2111 | E7: 2120 | F7: 2210 | G7: 2220 | H7: 2230 | I7: 2230 (7фонд) | J7: 2240 | K7: 2250 | L7: 2271 | M7: 2272 | N7: 2273 | O7: 2274 | P7: 2275 | Q7: 2800 | R7: 2730 | S7: 2282 | W7: за поточний місяць | Y7: з початку року
A8: касові видатки на початок періоду | C8: =D8+E8+F8+G8+H8+I8+J8+K8+L8+M8+N8+O8+P8+Q8+R8+S8+T8+U8+V8 -> 0 | D8: ='березень 2026'!D81 -> 0 | E8: ='березень 2026'!E81 -> 0 | F8: ='березень 2026'!F81 -> 0 | G8: ='березень 2026'!G81 -> 0 | H8: ='березень 2026'!H81 -> 0 | I8: ='березень 2026'!I81 -> 0 | J8: ='березень 2026'!J81 -> 0 | K8: ='березень 2026'!K81 -> 0 | ... V8: ='березень 2026'!V81 -> 0 | W8: Х | Y8: Х
B9: Заклади дошкільної освіти
A10: 1 | B10: № 1 Ластівка | C10: ='березень 2026'!Y10 -> 3171764.4 | D10: 612426.05 | E10: 135976.3 | H10: 81585.53 | J10: 1585.28 | L10: 122042.9 | M10: 11551.25 | N10: 55815.51 | P10: 1337.04 | S10: 1748 | W10: =SUM(D10:V10) -> 1024067.9 | Y10: =W10+C10 -> 4195832.2
A11: 2 | B11: № 2 Сонечко | C11: ='березень 2026'!Y11 -> 3453271.1 | D11: 660458.17 | E11: 150848.45 | H11: 107509.81 | J11: 1585.28 | L11: 109821.87 | M11: 6930.75 | N11: 63877.92 | P11: 891.36 | S11: 828 | W11: =SUM(D11:V11) -> 1102751.6 | Y11: =W11+C11 -> 4556022.7
A12: 3 | B12: № 3 Дюймовочка | C12: ='березень 2026'!Y12 -> 1473592 | D12: 350693.79 | E12: 82581.06 | H12: 46355.97 | J12: 1585.28 | M12: 2811.5 | N12: 66913.72 | O12: 56297.3 | P12: 891.36 | Q12: 655.19 | S12: 2378 | W12: =SUM(D12:V12) -> 611163.17 | Y12: =W12+C12 -> 2084755.2
A13: 4 | B13: № 4 Дельфін | C13: ='березень 2026'!Y13 -> 0 | W13: =SUM(D13:V13) -> 0 | Y13: =W13+C13 -> 0
A14: 5 | B14: № 5 Золота рибка | C14: ='березень 2026'!Y14 -> 4071620.8 | D14: 651370.92 | E14: 143339.92 | H14: 75978.15 | J14: 5479.39 | L14: 185658.38 | M14: 6930.75 | N14: 77635.48 | P14: 2964.07 | S14: 3008 | W14: =SUM(D14:V14) -> 1152365.1 | Y14: =W14+C14 -> 5223985.9
A15: 6 | B15: № 6 Дзвіночок | C15: ='березень 2026'!Y15 -> 3504120.6 | D15: 445485.3 | E15: 98317.6 | F15: 1713.6 | H15: 90541.31 | J15: 1585.28 | L15: 165820.23 | M15: 9241 | N15: 49065.73 | P15: 1114.2 | S15: 1840 | W15: =SUM(D15:V15) -> 864724.25 | Y15: =W15+C15 -> 4368844.8
A16: 7 | B16: № 7 Перлинка | C16: ='березень 2026'!Y16 -> 4787348.8 | D16: 786021.08 | E16: 173558 | F16: 4284 | H16: 134588.18 | J16: 1585.28 | L16: 205669.46 | M16: 9241 | N16: 114306.59 | P16: 1363.19 | S16: 1458 | W16: =SUM(D16:V16) -> 1432074.8 | Y16: =W16+C16 -> 6219423.6
A17: 8 | B17: № 8 Вербиченька | C17: ='березень 2026'!Y17 -> 2194753.1 | D17: 505302.17 | E17: 113681.64 | H17: 48233.23 | J17: 16025.28 | M17: 2249.2 | N17: 60008.16 | O17: 80443.33 | P17: 445.68 | Q17: 655.19 | S17: 2378 | W17: =SUM(D17:V17) -> 829421.88 | Y17: =W17+C17 -> 3024175
A18: 9 | B18: № 9 Краплинка | C18: ='березень 2026'!Y18 -> 2509400.2 | D18: 471454.54 | E18: 99348.4 | H18: 78692.53 | J18: 200820.74 | L18: 219961.33 | M18: 5544.6 | N18: 49494.09 | P18: 891.36 | S18: 4396 | W18: =SUM(D18:V18) -> 1130603.6 | Y18: =W18+C18 -> 3640003.8
A19: 10 | B19: № 10 Білочка | C19: ='березень 2026'!Y19 -> 2835738.3 | D19: 513767.48 | E19: 115946.26 | F19: 2641.2 | H19: 46511.18 | J19: 1585.28 | L19: 137866.48 | M19: 6468.7 | N19: 90278.35 | P19: 445.68 | S19: 2378 | W19: =SUM(D19:V19) -> 917888.61 | Y19: =W19+C19 -> 3753626.9
A20: 11 | B20: № 11 Дивограй | C20: ='березень 2026'!Y20 -> 2352139.9 | D20: 296687.46 | E20: 66146.42 | H20: 43645.26 | J20: 70190.79 | L20: 120066.49 | M20: 4620.5 | N20: 46080.25 | P20: 891.36 | S20: 630 | W20: =SUM(D20:V20) -> 648958.53 | Y20: =W20+C20 -> 3001098.4
A21: 12 | B21: № 12 Струмочок | C21: ='березень 2026'!Y21 -> 2249854.7 | D21: 533849.1 | E21: 118582.4 | H21: 86871.33 | J21: 33505.28 | M21: 4498.4 | N21: 61539.85 | O21: 109850.84 | P21: 445.68 | Q21: 655.18 | S21: 1098 | W21: =SUM(D21:V21) -> 950896.06 | Y21: =W21+C21 -> 3200750.8
A22: 13 | B22: № 13 Журавлик | C22: ='березень 2026'!Y22 -> 1849525.7 | D22: 440421.41 | E22: 98397.64 | H22: 61744.54 | J22: 10487.8 | M22: 3373.8 | N22: 46339.86 | O22: 70790.24 | P22: 2525.52 | Q22: 655.18 | S22: 2378 | W22: =SUM(D22:V22) -> 737113.99 | Y22: =W22+C22 -> 2586639.7
A23: 14 | B23: № 14 Казка | C23: ='березень 2026'!Y23 -> 1854005.4 | D23: 441133.03 | E23: 94967.21 | F23: 6925.2 | H23: 65232.12 | J23: 1585.28 | M23: 5082.55 | N23: 64901.76 | O23: 106594.23 | P23: 668.52 | Q23: 655.18 | S23: 2648 | W23: =SUM(D23:V23) -> 790393.08 | Y23: =W23+C23 -> 2644398.5
A24: 15 | B24: № 15 Пізнайко | C24: ='березень 2026'!Y24 -> 4583277.4 | D24: 888180.67 | E24: 195399.75 | F24: 4284 | H24: 161284.57 | J24: 1585.28 | L24: 95110.24 | M24: 7854.85 | N24: 79699.36 | P24: 1782.72 | S24: 3476 | W24: =SUM(D24:V24) -> 1438657.4 | Y24: =W24+C24 -> 6021934.8
A25: 16 | B25: № 16 Калинонька | C25: ='березень 2026'!Y25 -> 1685300.6 | D25: 317996.41 | E25: 68728.11 | H25: 21883.86 | J25: 1585.28 | L25: 68099.44 | M25: 2310.25 | N25: 31542.26 | P25: 4382.52 | S25: 2378 | W25: =SUM(D25:V25) -> 518906.13 | Y25: =W25+C25 -> 2204206.7
A26: 17 | B26: Грушівський ЗДО Червона калина | C26: ='березень 2026'!Y26 -> 704892.32 | D26: 154402.89 | E26: 31975.92 | H26: 8199.84 | J26: 550 | N26: 31698.01 | P26: 222.84 | Q26: =39.36+1102.69+2804.3 -> 3946.35 | S26: 828 | W26: =SUM(D26:V26) -> 231823.85 | Y26: =W26+C26 -> 936716.17
A27: 18 | B27: Кінецьпільський ЗДО Струмочок | C27: ='березень 2026'!Y27 -> 896761.89 | D27: 224112.37 | E27: 51275.38 | F27: 3961.8 | H27: 22507.99 | J27: 785.29 | M27: 67.64 | N27: 25714.08 | O27: 73896.19 | Q27: 655.18 | S27: 630 | W27: =SUM(D27:V27) -> 403605.92 | Y27: =W27+C27 -> 1300367.8
A28: 19 | B28: Підгороднянський ЗДО Ромашка | C28: ='березень 2026'!Y28 -> 861254.87 | D28: 201176.3 | E28: 39152.93 | H28: 14340.88 | J28: 1103.22 | M28: 3990.76 | N28: 19950.8 | Q28: 9.8 | W28: =SUM(D28:V28) -> 279724.69 | Y28: =W28+C28 -> 1140979.6
A29: 20 | B29: Чаусівський ЗДО | C29: ='березень 2026'!Y29 -> 0 | W29: =SUM(D29:V29) -> 0 | Y29: =W29+C29 -> 0
B30: Разом по 0611010 | C30: =SUM(C10:C29) -> 45038622 | D30: =SUM(D10:D29) -> 8494939.1 | E30: =SUM(E10:E29) -> 1878223.4 | F30: =SUM(F10:F29) -> 23809.8 | G30: =SUM(G10:G29) -> 0 | H30: =SUM(H10:H29) -> 1195706.3 | I30: =SUM(I10:I29) -> 0 | J30: =SUM(J10:J29) -> 353215.31 | ... W30: =SUM(W10:W29) -> 15065140 | Y30: =SUM(Y10:Y29) -> 60103763
B31: Гімназії, ліцеї
A32: 1 | B32: № 1 | C32: ='березень 2026'!Y32 -> 5311079.5 | D32: 1185885.3 | E32: 262547.45 | F32: 74041.8 | H32: 183267.42 | I32: 20670.4 | J32: 9478.01 | M32: 5510.54 | N32: 91784.07 | O32: 128566.55 | P32: 1337.04 | Q32: 1061.89 | S32: 1656 | W32: =SUM(D32:V32) -> 1965806.5 | Y32: =W32+C32 -> 7276886
A33: 2 | B33: № 2 | C33: ='березень 2026'!Y33 -> 4125541.6 | D33: 992228.87 | E33: 209110.34 | F33: 14320 | J33: 5185.99 | M33: 449.84 | N33: 29205.79 | O33: 80602.61 | P33: 1960.99 | Q33: 1061.88 | S33: 4126 | W33: =SUM(D33:V33) -> 1338252.3 | Y33: =W33+C33 -> 5463793.9
A34: 3 | B34: № 3 (0,5) | C34: ='березень 2026'!Y34 -> 2906387.5 | D34: 681852.14 | E34: 164462.47 | F34: 8568 | H34: 88255.05 | I34: 7494.8 | J34: 10940 | K34: 600 | M34: 2980.19 | N34: 67108.43 | O34: 121600.82 | P34: 668.52 | Q34: 1061.88 | S34: 3206 | W34: =SUM(D34:V34) -> 1158798.3 | Y34: =W34+C34 -> 4065185.8
A35: 4 | B35: № 4 | C35: ='березень 2026'!Y35 -> 6920290.4 | D35: 1405111.1 | E35: 313661.01 | F35: 5728 | H35: 284764.61 | I35: 28283.6 | J35: 6005.99 | L35: 163522.71 | M35: 7854.85 | N35: 65550.78 | P35: 1782.72 | S35: 1748 | W35: =SUM(D35:V35) -> 2284013.4 | Y35: =W35+C35 -> 9204303.8
A36: 5 | B36: № 5 | C36: ='березень 2026'!Y36 -> 9700256.7 | D36: 2014973.5 | E36: 446845.11 | F36: 16440 | J36: 4920 | L36: 277499.87 | M36: 23102.5 | N36: 47014.84 | P36: 2896.92 | S36: 2180 | W36: =SUM(D36:V36) -> 2835872.8 | Y36: =W36+C36 -> 12536129
A37: 6 | B37: № 6 (0,1) | C37: ='березень 2026'!Y37 -> 2594261.5 | D37: 575097.64 | E37: 129328.84 | F37: 11726.46 | H37: 39101.66 | I37: 3280.34 | J37: 19126.67 | M37: 449.84 | N37: 31801.86 | O37: 84505.78 | P37: 222.84 | Q37: 1061.88 | S37: 2378 | W37: =SUM(D37:V37) -> 898081.81 | Y37: =W37+C37 -> 3492343.3
A38: 7 | B38: № 7 (0,5) | C38: ='березень 2026'!Y38 -> 2300855.8 | D38: 524692.62 | E38: 115665 | F38: 1432 | H38: 88255.04 | I38: 7494.8 | J38: 4605.99 | M38: 730.99 | N38: 19223.9 | O38: 68819.91 | P38: 222.84 | Q38: 1061.88 | S38: 3928 | W38: =SUM(D38:V38) -> 836132.97 | Y38: =W38+C38 -> 3136988.7
A39: 8 | B39: № 8 | C39: ='березень 2026'!Y39 -> 2180188.1 | D39: 527534.33 | E39: 112050.04 | J39: 2570 | M39: 112.46 | N39: 16627.83 | O39: 42153.29 | Q39: 1061.88 | S39: 1748 | W39: =SUM(D39:V39) -> 703857.83 | Y39: =W39+C39 -> 2884045.9
A40: 9 | B40: № 9 | C40: ='березень 2026'!Y40 -> 4374247.7 | D40: 1019434.1 | E40: 212024.6 | F40: 4284 | H40: 161527.23 | I40: 19374.05 | J40: 4920 | M40: 9425.82 | N40: 53481.64 | O40: 165384.95 | P40: 1390.52 | Q40: 1061.88 | S40: 2378 | W40: =SUM(D40:V40) -> 1654686.8 | Y40: =W40+C40 -> 6028934.5
...

Sheet травень 2026
B1: УПРАВЛІННЯ ОСВІТИ ПЕРВОМАЙСЬКОЇ МІСЬКОЇ РАДИ
D2: КАРТКА АНАЛІТИЧНОГО ОБЛІКУ КАСОВИХ ВИДАТКІВ
D3: за травень 2026 року
B4: ЗАГАЛЬНИЙ ФОНД
B5: грн. коп.
D6: Заробітна плата | E6: Нарахування на оплату праці | F6: предмети, обладнання та інвентар (1021, 1183, 1184, 1291, 1292 | G6: Медикаменти та перевязувальні матеріали | H6: продукти харчування | I6: продукти харчування 1403 та 1700 | J6: оплата послуг (крім комунальних) | K6: Видатки на відрядження | L6: оплата теплопостачання | M6: оплата водопостачання та водовідведення | N6: оплата електроенергії | O6: оплата природного газу | P6: оплата інших енергоносіїв (с/сміття, рідкі нечистоти) | Q6: інші поточні видатки | R6: допомога дітям | S6: спец навчання по безпеці
D7: 2111 | E7: 2120 | F7: 2210 | G7: 2220 | H7: 2230 | I7: 2230 (7фонд) | J7: 2240 | K7: 2250 | L7: 2271 | M7: 2272 | N7: 2273 | O7: 2274 | P7: 2275 | Q7: 2800 | R7: 2730 | S7: 2282 | W7: за поточний місяць | Y7: з початку року
A8: касові видатки на початок періоду | C8: =D8+E8+F8+G8+H8+I8+J8+K8+L8+M8+N8+O8+P8+Q8+R8+S8+T8+U8+V8 -> 0 | D8: ='квітень 2026'!D81 -> 0 | E8: ='квітень 2026'!E81 -> 0 | F8: ='квітень 2026'!F81 -> 0 | G8: ='квітень 2026'!G81 -> 0 | H8: ='квітень 2026'!H81 -> 0 | I8: ='квітень 2026'!I81 -> 0 | J8: ='квітень 2026'!J81 -> 0 | K8: ='квітень 2026'!K81 -> 0 | ... V8: ='квітень 2026'!V81 -> 0 | W8: Х | Y8: Х
A9: 1 | B9: ЦНТТУМ | C9: ='квітень 2026'!Y53 -> 1570870.8 | D9: 203820.73 | E9: 43746.5 | F9: 890 | J9: 4611.06 | M9: 373.56 | N9: 15996.28 | P9: 77.25 | W9: =SUM(D9:V9) -> 269515.38 | Y9: =C9+W9 -> 1840386.1

Sheet червень 2026 
B1: УПРАВЛІННЯ ОСВІТИ ПЕРВОМАЙСЬКОЇ МІСЬКОЇ РАДИ
D2: КАРТКА АНАЛІТИЧНОГО ОБЛІКУ КАСОВИХ ВИДАТКІВ
B4: ЗАГАЛЬНИЙ ФОНД
B5: грн. коп.
D6: Заробітна плата | E6: Нарахування на оплату праці | F6: предмети, обладнання та інвентар (1021, 1183, 1184, 1291, 1292 | G6: Медикаменти та перевязувальні матеріали | H6: продукти харчування | I6: продукти харчування 1403 та 1700 | J6: оплата послуг (крім комунальних) | K6: Видатки на відрядження | L6: оплата теплопостачання | M6: оплата водопостачання та водовідведення | N6: оплата електроенергії | O6: оплата природного газу | P6: оплата інших енергоносіїв (с/сміття, рідкі нечистоти) | Q6: інші виплати | R6: інші поточні видатки | S6: Навчання по тех безпеці
D7: 2111 | E7: 2120 | F7: 2210 | G7: 2220 | H7: 2230 | I7: 2230 (7фонд) | J7: 2240 | K7: 2250 | L7: 2271 | M7: 2272 | N7: 2273 | O7: 2274 | P7: 2275 | Q7: 2730 | R7: 2800 | S7: 2282 | W7: за поточний місяць | Y7: з початку року
A8: касові видатки на початок періоду | C8: =D8+E8+F8+G8+H8+I8+J8+K8+L8+M8+N8+O8+P8+Q8+R8+S8+T8+U8+V8 -> 0 | D8: ='травень 2026'!D23 -> 0 | E8: ='травень 2026'!E23 -> 0 | F8: ='травень 2026'!F23 -> 0 | G8: ='травень 2026'!G23 -> 0 | H8: ='травень 2026'!H23 -> 0 | I8: ='травень 2026'!I23 -> 0 | J8: ='травень 2026'!J23 -> 0 | K8: ='травень 2026'!K23 -> 0 | ... V8: ='травень 2026'!V23 -> 0 | W8: Х | Y8: Х
B9: Заклади дошкільної освіти
A10: 1 | B10: № 1 Ластівка | C10: ='травень 2026'!#REF! -> #REF! | W10: =SUM(D10:V10) -> 0 | Y10: =W10+C10 -> #REF!
A11: 2 | B11: № 2 Сонечко | C11: ='травень 2026'!#REF! -> #REF! | W11: =SUM(D11:V11) -> 0 | Y11: =W11+C11 -> #REF!
A12: 3 | B12: № 3 Дюймовочка | C12: ='травень 2026'!#REF! -> #REF! | W12: =SUM(D12:V12) -> 0 | Y12: =W12+C12 -> #REF!
A13: 4 | B13: № 4 Дельфін | C13: ='травень 2026'!#REF! -> #REF! | W13: =SUM(D13:V13) -> 0 | Y13: =W13+C13 -> #REF!
A14: 5 | B14: № 5 Золота рибка | C14: ='травень 2026'!#REF! -> #REF! | W14: =SUM(D14:V14) -> 0 | Y14: =W14+C14 -> #REF!
A15: 6 | B15: № 6 Дзвіночок | C15: ='травень 2026'!#REF! -> #REF! | W15: =SUM(D15:V15) -> 0 | Y15: =W15+C15 -> #REF!
A16: 7 | B16: № 7 Перлинка | C16: ='травень 2026'!#REF! -> #REF! | W16: =SUM(D16:V16) -> 0 | Y16: =W16+C16 -> #REF!
A17: 8 | B17: № 8 Вербиченька | C17: ='травень 2026'!#REF! -> #REF! | W17: =SUM(D17:V17) -> 0 | Y17: =W17+C17 -> #REF!
A18: 9 | B18: № 9 Краплинка | C18: ='травень 2026'!#REF! -> #REF! | W18: =SUM(D18:V18) -> 0 | Y18: =W18+C18 -> #REF!
A19: 10 | B19: № 10 Білочка | C19: ='травень 2026'!#REF! -> #REF! | W19: =SUM(D19:V19) -> 0 | Y19: =W19+C19 -> #REF!
A20: 11 | B20: № 11 Дивограй | C20: ='травень 2026'!#REF! -> #REF! | W20: =SUM(D20:V20) -> 0 | Y20: =W20+C20 -> #REF!
A21: 12 | B21: № 12 Струмочок | C21: ='травень 2026'!#REF! -> #REF! | W21: =SUM(D21:V21) -> 0 | Y21: =W21+C21 -> #REF!
... A29: 20 | B29: Чаусівський ЗДО | C29: ='травень 2026'!#REF! -> #REF! | W29: =SUM(D29:V29) -> 0 | Y29: =W29+C29 -> #REF!
B30: Разом по 0611010 | C30: =SUM(C10:C29) -> #REF! | D30: =SUM(D10:D29) -> 0 | E30: =SUM(E10:E29) -> 0 | F30: =SUM(F10:F29) -> 0 | G30: =SUM(G10:G29) -> 0 | H30: =SUM(H10:H29) -> 0 | I30: =SUM(I10:I29) -> 0 | J30: =SUM(J10:J29) -> 0 | ... W30: =SUM(W10:W29) -> 0 | Y30: =SUM(Y10:Y29) -> #REF!
B31: Гімназії, ліцеї
A32: 1 | B32: № 1 | C32: ='травень 2026'!#REF! -> #REF! | W32: =SUM(D32:V32) -> 0 | Y32: =W32+C32 -> #REF!
A33: 2 | B33: № 2 | C33: ='травень 2026'!#REF! -> #REF! | W33: =SUM(D33:V33) -> 0 | Y33: =W33+C33 -> #REF!
A34: 3 | B34: № 3 (1/2) | C34: ='травень 2026'!#REF! -> #REF! | W34: =SUM(D34:V34) -> 0 | Y34: =W34+C34 -> #REF!
A35: 4 | B35: № 4 | C35: ='травень 2026'!#REF! -> #REF! | W35: =SUM(D35:V35) -> 0 | Y35: =W35+C35 -> #REF!
A36: 5 | B36: № 5 | C36: ='травень 2026'!#REF! -> #REF! | W36: =SUM(D36:V36) -> 0 | Y36: =W36+C36 -> #REF!
A37: 6 | B37: № 6 (1/4) | C37: ='травень 2026'!#REF! -> #REF! | W37: =SUM(D37:V37) -> 0 | Y37: =W37+C37 -> #REF!
A38: 7 | B38: № 7 (1/2) | C38: ='травень 2026'!#REF! -> #REF! | W38: =SUM(D38:V38) -> 0 | Y38: =W38+C38 -> #REF!
A39: 8 | B39: № 8 | C39: ='травень 2026'!#REF! -> #REF! | W39: =SUM(D39:V39) -> 0 | Y39: =W39+C39 -> #REF!
A40: 9 | B40: № 9 | C40: ='травень 2026'!#REF! -> #REF! | W40: =SUM(D40:V40) -> 0 | Y40: =W40+C40 -> #REF!
A41: 10 | B41: № 10 (1/2) | C41: ='травень 2026'!#REF! -> #REF! | W41: =SUM(D41:V41) -> 0 | Y41: =W41+C41 -> #REF!
A42: 11 | B42: почат школа № 11 (1/2) | C42: ='травень 2026'!#REF! -> #REF! | W42: =SUM(D42:V42) -> 0 | Y42: =W42+C42 -> #REF!
A43: 12 | B43: Л Лідер | C43: ='травень 2026'!#REF! -> #REF! | W43: =SUM(D43:V43) -> 0 | Y43: =W43+C43 -> #REF!
... A49: 18 | B49: Грушівська гімназія | C49: ='травень 2026'!#REF! -> #REF! | W49: =SUM(D49:V49) -> 0 | Y49: =W49+C49 -> #REF!
B50: Разом по 0611021 | C50: =SUM(C32:C49) -> #REF! | D50: =SUM(D32:D49) -> 0 | E50: =SUM(E32:E49) -> 0 | F50: =SUM(F32:F49) -> 0 | G50: =SUM(G32:G49) -> 0 | H50: =SUM(H32:H49) -> 0 | I50: =SUM(I32:I49) -> 0 | J50: =SUM(J32:J49) -> 0 | ... W50: =SUM(W32:W49) -> 0 | Y50: =SUM(Y32:Y49) -> #REF!
B51: Заклади позашкільної освіти
A52: 1 | B52: ДЮЦНВ | C52: ='травень 2026'!#REF! -> #REF! | W52: =SUM(D52:V52) -> 0 | Y52: =C52+W52 -> #REF!
A53: 2 | B53: ЦНТТУМ | C53: ='травень 2026'!Y9 -> 1840386.1 | W53: =SUM(D53:V53) -> 0 | Y53: =C53+W53 -> 1840386.1
...

Sheet липень 2026
B1: УПРАВЛІННЯ ОСВІТИ ПЕРВОМАЙСЬКОЇ МІСЬКОЇ РАДИ
D2: КАРТКА АНАЛІТИЧНОГО ОБЛІКУ КАСОВИХ ВИДАТКІВ
D3: за липень 2026 року
B4: ЗАГАЛЬНИЙ ФОНД
B5: грн. коп.
D6: Заробітна плата (1031, 1600, 1200, 1152 | E6: Нарахування на оплату праці | F6: предмети, обладнання та інвентар (1021, 1183, 1184, 1291, 1292 | G6: Медикаменти та перевязувальні матеріали | H6: продукти харчування | I6: продукти харчування 1403 та 1700 | J6: оплата послуг (крім комунальних) | K6: Видатки на відрядження | L6: оплата теплопостачання | M6: оплата водопостачання та водовідведення | N6: оплата електроенергії | O6: оплата природного газу | P6: оплата інших енергоносіїв (с/сміття, рідкі нечистоти) | Q6: інші виплати | R6: інші поточні видатки | S6: Навчання по тех безпеці
D7: 2111 | E7: 2120 | F7: 2210 | G7: 2220 | H7: 2230 | I7: 2230 (7фонд) | J7: 2240 | K7: 2250 | L7: 2271 | M7: 2272 | N7: 2273 | O7: 2274 | P7: 2275 | Q7: 2730 | R7: 2800 | S7: 2282 | W7: за поточний місяць | Y7: з початку року
A8: касові видатки на початок періоду | C8: =D8+E8+F8+G8+H8+I8+J8+K8+L8+M8+N8+O8+P8+Q8+R8+S8+T8+U8+V8 -> 0 | D8: ='червень 2026 '!D81 -> 0 | E8: ='червень 2026 '!E81 -> 0 | F8: ='червень 2026 '!F81 -> 0 | G8: ='червень 2026 '!G81 -> 0 | H8: ='червень 2026 '!H81 -> 0 | I8: ='червень 2026 '!I81 -> 0 | J8: ='червень 2026 '!J81 -> 0 | K8: ='червень 2026 '!K81 -> 0 | ... V8: ='червень 2026 '!V81 -> 0 | W8: Х | Y8: Х
B9: Заклади дошкільної освіти
A10: 1 | B10: № 1 Ластівка | C10: ='червень 2026 '!Y10 -> #REF! | W10: =SUM(D10:V10) -> 0 | Y10: =W10+C10 -> #REF!
A11: 2 | B11: № 2 Сонечко | C11: ='червень 2026 '!Y11 -> #REF! | W11: =SUM(D11:V11) -> 0 | Y11: =W11+C11 -> #REF!
A12: 3 | B12: № 3 Дюймовочка | C12: ='червень 2026 '!Y12 -> #REF! | W12: =SUM(D12:V12) -> 0 | Y12: =W12+C12 -> #REF!
A13: 4 | B13: № 4 Дельфін | C13: ='червень 2026 '!Y13 -> #REF! | W13: =SUM(D13:V13) -> 0 | Y13: =W13+C13 -> #REF!
A14: 5 | B14: № 5 Золота рибка | C14: ='червень 2026 '!Y14 -> #REF! | W14: =SUM(D14:V14) -> 0 | Y14: =W14+C14 -> #REF!
A15: 6 | B15: № 6 Дзвіночок | C15: ='червень 2026 '!Y15 -> #REF! | W15: =SUM(D15:V15) -> 0 | Y15: =W15+C15 -> #REF!
A16: 7 | B16: № 7 Перлинка | C16: ='червень 2026 '!Y16 -> #REF! | W16: =SUM(D16:V16) -> 0 | Y16: =W16+C16 -> #REF!
A17: 8 | B17: № 8 Вербиченька | C17: ='червень 2026 '!Y17 -> #REF! | W17: =SUM(D17:V17) -> 0 | Y17: =W17+C17 -> #REF!
A18: 9 | B18: № 9 Краплинка | C18: ='червень 2026 '!Y18 -> #REF! | W18: =SUM(D18:V18) -> 0 | Y18: =W18+C18 -> #REF!
A19: 10 | B19: № 10 Білочка | C19: ='червень 2026 '!Y19 -> #REF! | W19: =SUM(D19:V19) -> 0 | Y19: =W19+C19 -> #REF!
A20: 11 | B20: № 11 Дивограй | C20: ='червень 2026 '!Y20 -> #REF! | W20: =SUM(D20:V20) -> 0 | Y20: =W20+C20 -> #REF!
A21: 12 | B21: № 12 Струмочок | C21: ='червень 2026 '!Y21 -> #REF! | W21: =SUM(D21:V21) -> 0 | Y21: =W21+C21 -> #REF!
... A29: 20 | B29: Чаусівський ЗДО | C29: ='червень 2026 '!Y29 -> #REF! | W29: =SUM(D29:V29) -> 0 | Y29: =W29+C29 -> #REF!
B30: Разом по 0611010 | C30: =SUM(C10:C29) -> #REF! | D30: =SUM(D10:D29) -> 0 | E30: =SUM(E10:E29) -> 0 | F30: =SUM(F10:F29) -> 0 | G30: =SUM(G10:G29) -> 0 | H30: =SUM(H10:H29) -> 0 | I30: =SUM(I10:I29) -> 0 | J30: =SUM(J10:J29) -> 0 | ... W30: =SUM(W10:W29) -> 0 | Y30: =SUM(Y10:Y29) -> #REF!
B31: Гімназії, ліцеї
A32: 1 | B32: № 1 | C32: ='червень 2026 '!Y32 -> #REF! | W32: =SUM(D32:V32) -> 0 | Y32: =W32+C32 -> #REF!
A33: 2 | B33: № 2 | C33: ='червень 2026 '!Y33 -> #REF! | W33: =SUM(D33:V33) -> 0 | Y33: =W33+C33 -> #REF!
A34: 3 | B34: № 3 (1/2) | C34: ='червень 2026 '!Y34 -> #REF! | W34: =SUM(D34:V34) -> 0 | Y34: =W34+C34 -> #REF!
A35: 4 | B35: № 4 | C35: ='червень 2026 '!Y35 -> #REF! | W35: =SUM(D35:V35) -> 0 | Y35: =W35+C35 -> #REF!
A36: 5 | B36: № 5 | C36: ='червень 2026 '!Y36 -> #REF! | W36: =SUM(D36:V36) -> 0 | Y36: =W36+C36 -> #REF!
A37: 6 | B37: № 6 (1/4) | C37: ='червень 2026 '!Y37 -> #REF! | W37: =SUM(D37:V37) -> 0 | Y37: =W37+C37 -> #REF!
A38: 7 | B38: № 7 (1/2) | C38: ='червень 2026 '!Y38 -> #REF! | W38: =SUM(D38:V38) -> 0 | Y38: =W38+C38 -> #REF!
A39: 8 | B39: № 8 | C39: ='червень 2026 '!Y39 -> #REF! | W39: =SUM(D39:V39) -> 0 | Y39: =W39+C39 -> #REF!
A40: 9 | B40: № 9 | C40: ='червень 2026 '!Y40 -> #REF! | W40: =SUM(D40:V40) -> 0 | Y40: =W40+C40 -> #REF!
A41: 10 | B41: № 10 (1/2) | C41: ='червень 2026 '!Y41 -> #REF! | W41: =SUM(D41:V41) -> 0 | Y41: =W41+C41 -> #REF!
A42: 11 | B42: почат школа № 11 (1/2) | C42: ='червень 2026 '!Y42 -> #REF! | W42: =SUM(D42:V42) -> 0 | Y42: =W42+C42 -> #REF!
A43: 12 | B43: Л Лідер | C43: ='червень 2026 '!Y43 -> #REF! | W43: =SUM(D43:V43) -> 0 | Y43: =W43+C43 -> #REF!
... A49: 18 | B49: Грушівська гімназія | C49: ='червень 2026 '!Y49 -> #REF! | W49: =SUM(D49:V49) -> 0 | Y49: =W49+C49 -> #REF!
B50: Разом по 0611021 | C50: =SUM(C32:C49) -> #REF! | D50: =SUM(D32:D49) -> 0 | E50: =SUM(E32:E49) -> 0 | F50: =SUM(F32:F49) -> 0 | G50: =SUM(G32:G49) -> 0 | H50: =SUM(H32:H49) -> 0 | I50: =SUM(I32:I49) -> 0 | J50: =SUM(J32:J49) -> 0 | ... W50: =SUM(W32:W49) -> 0 | Y50: =SUM(Y32:Y49) -> #REF!
B51: Заклади позашкільної освіти
A52: 1 | B52: ДЮЦНВ | C52: ='червень 2026 '!Y52 -> #REF! | W52: =SUM(D52:V52) -> 0 | Y52: =C52+W52 -> #REF!
...

Sheet серпень 2026 
B1: УПРАВЛІННЯ ОСВІТИ ПЕРВОМАЙСЬКОЇ МІСЬКОЇ РАДИ
D2: КАРТКА АНАЛІТИЧНОГО ОБЛІКУ КАСОВИХ ВИДАТКІВ
D3: за серпень 2026 року
B4: ЗАГАЛЬНИЙ ФОНД
B5: грн. коп.
D6: заробітна плата (1031, 1600, 1200, 1152 | E6: нарахування на оплату праці | F6: предмети, обладнання та інвентар (1021, 1183, 1184, 1291, 1292 | G6: медикаменти та перевязувальні матеріали | H6: продукти харчування | I6: продукти харчування 1403 та 1700 | J6: оплата послуг (крім комунальних) | K6: видатки на відрядження | L6: оплата теплопостачання | M6: оплата водопостачання та водовідведення | N6: оплата електроенергії | O6: оплата природного газу | P6: оплата інших енергоносіїв (с/сміття, вугілля) | Q6: інші виплати | R6: інші поточні видатки | S6: Навчання по тех безпеці
D7: 2111 | E7: 2120 | F7: 2210 | G7: 2220 | H7: 2230 | I7: 2230 (7фонд) | J7: 2240 | K7: 2250 | L7: 2271 | M7: 2272 | N7: 2273 | O7: 2274 | P7: 2275 | Q7: 2730 | R7: 2800 | S7: 2282 | W7: за поточний місяць | Y7: з початку року
A8: касові видатки на початок періоду | C8: =D8+E8+F8+G8+H8+I8+J8+K8+L8+M8+N8+O8+P8+Q8+R8+S8+T8+U8+V8 -> 0 | D8: ='липень 2026'!D81 -> 0 | E8: ='липень 2026'!E81 -> 0 | F8: ='липень 2026'!F81 -> 0 | G8: ='липень 2026'!G81 -> 0 | H8: ='липень 2026'!H81 -> 0 | I8: ='липень 2026'!I81 -> 0 | J8: ='липень 2026'!J81 -> 0 | K8: ='липень 2026'!K81 -> 0 | ... V8: ='липень 2026'!V81 -> 0 | W8: Х | Y8: Х
B9: Заклади дошкільної освіти
A10: 1 | B10: № 1 Ластівка | C10: ='липень 2026'!Y10 -> #REF! | W10: =SUM(D10:V10) -> 0 | Y10: =W10+C10 -> #REF!
A11: 2 | B11: № 2 Сонечко | C11: ='липень 2026'!Y11 -> #REF! | W11: =SUM(D11:V11) -> 0 | Y11: =W11+C11 -> #REF!
A12: 3 | B12: № 3 Дюймовочка | C12: ='липень 2026'!Y12 -> #REF! | W12: =SUM(D12:V12) -> 0 | Y12: =W12+C12 -> #REF!
A13: 4 | B13: № 4 Дельфін | C13: ='липень 2026'!Y13 -> #REF! | W13: =SUM(D13:V13) -> 0 | Y13: =W13+C13 -> #REF!
A14: 5 | B14: № 5 Золота рибка | C14: ='липень 2026'!Y14 -> #REF! | W14: =SUM(D14:V14) -> 0 | Y14: =W14+C14 -> #REF!
A15: 6 | B15: № 6 Дзвіночок | C15: ='липень 2026'!Y15 -> #REF! | W15: =SUM(D15:V15) -> 0 | Y15: =W15+C15 -> #REF!
A16: 7 | B16: № 7 Перлинка | C16: ='липень 2026'!Y16 -> #REF! | W16: =SUM(D16:V16) -> 0 | Y16: =W16+C16 -> #REF!
A17: 8 | B17: № 8 Вербиченька | C17: ='липень 2026'!Y17 -> #REF! | W17: =SUM(D17:V17) -> 0 | Y17: =W17+C17 -> #REF!
A18: 9 | B18: № 9 Краплинка | C18: ='липень 2026'!Y18 -> #REF! | W18: =SUM(D18:V18) -> 0 | Y18: =W18+C18 -> #REF!
A19: 10 | B19: № 10 Білочка | C19: ='липень 2026'!Y19 -> #REF! | W19: =SUM(D19:V19) -> 0 | Y19: =W19+C19 -> #REF!
A20: 11 | B20: № 11 Дивограй | C20: ='липень 2026'!Y20 -> #REF! | W20: =SUM(D20:V20) -> 0 | Y20: =W20+C20 -> #REF!
A21: 12 | B21: № 12 Струмочок | C21: ='липень 2026'!Y21 -> #REF! | W21: =SUM(D21:V21) -> 0 | Y21: =W21+C21 -> #REF!
... A29: 20 | B29: Чаусівський ЗДО | C29: ='липень 2026'!Y29 -> #REF! | W29: =SUM(D29:V29) -> 0 | Y29: =W29+C29 -> #REF!
B30: Разом по 0611010 | C30: =SUM(C10:C29) -> #REF! | D30: =SUM(D10:D29) -> 0 | E30: =SUM(E10:E29) -> 0 | F30: =SUM(F10:F29) -> 0 | G30: =SUM(G10:G29) -> 0 | H30: =SUM(H10:H29) -> 0 | I30: =SUM(I10:I29) -> 0 | J30: =SUM(J10:J29) -> 0 | ... W30: =SUM(W10:W29) -> 0 | Y30: =SUM(Y10:Y29) -> #REF!
B31: Гімназії, ліцеї
A32: 1 | B32: № 1 | C32: ='липень 2026'!Y32 -> #REF! | W32: =SUM(D32:V32) -> 0 | Y32: =W32+C32 -> #REF!
A33: 2 | B33: № 2 | C33: ='липень 2026'!Y33 -> #REF! | W33: =SUM(D33:V33) -> 0 | Y33: =W33+C33 -> #REF!
A34: 3 | B34: № 3 (1/2) | C34: ='липень 2026'!Y34 -> #REF! | W34: =SUM(D34:V34) -> 0 | Y34: =W34+C34 -> #REF!
A35: 4 | B35: № 4 | C35: ='липень 2026'!Y35 -> #REF! | W35: =SUM(D35:V35) -> 0 | Y35: =W35+C35 -> #REF!
A36: 5 | B36: № 5 | C36: ='липень 2026'!Y36 -> #REF! | W36: =SUM(D36:V36) -> 0 | Y36: =W36+C36 -> #REF!
A37: 6 | B37: № 6 (1/4) | C37: ='липень 2026'!Y37 -> #REF! | W37: =SUM(D37:V37) -> 0 | Y37: =W37+C37 -> #REF!
A38: 7 | B38: № 7 (1/2) | C38: ='липень 2026'!Y38 -> #REF! | W38: =SUM(D38:V38) -> 0 | Y38: =W38+C38 -> #REF!
A39: 8 | B39: № 8 | C39: ='липень 2026'!Y39 -> #REF! | W39: =SUM(D39:V39) -> 0 | Y39: =W39+C39 -> #REF!
A40: 9 | B40: № 9 | C40: ='липень 2026'!Y40 -> #REF! | W40: =SUM(D40:V40) -> 0 | Y40: =W40+C40 -> #REF!
A41: 10 | B41: № 10 (1/2) | C41: ='липень 2026'!Y41 -> #REF! | W41: =SUM(D41:V41) -> 0 | Y41: =W41+C41 -> #REF!
A42: 11 | B42: почат школа № 11 (1/2) | C42: ='липень 2026'!Y42 -> #REF! | W42: =SUM(D42:V42) -> 0 | Y42: =W42+C42 -> #REF!
A43: 12 | B43: Л Лідер | C43: ='липень 2026'!Y43 -> #REF! | W43: =SUM(D43:V43) -> 0 | Y43: =W43+C43 -> #REF!
... A49: 18 | B49: Грушівська гімназія | C49: ='липень 2026'!Y49 -> #REF! | W49: =SUM(D49:V49) -> 0 | Y49: =W49+C49 -> #REF!
B50: Разом по 0611021 | C50: =SUM(C32:C49) -> #REF! | D50: =SUM(D32:D49) -> 0 | E50: =SUM(E32:E49) -> 0 | F50: =SUM(F32:F49) -> 0 | G50: =SUM(G32:G49) -> 0 | H50: =SUM(H32:H49) -> 0 | I50: =SUM(I32:I49) -> 0 | J50: =SUM(J32:J49) -> 0 | ... W50: =SUM(W32:W49) -> 0 | Y50: =SUM(Y32:Y49) -> #REF!
B51: Заклади позашкільної освіти
A52: 1 | B52: ДЮЦНВ | C52: ='липень 2026'!Y52 -> #REF! | W52: =SUM(D52:V52) -> 0 | Y52: =C52+W52 -> #REF!
...

Sheet вересень 2026
B1: УПРАВЛІННЯ ОСВІТИ ПЕРВОМАЙСЬКОЇ МІСЬКОЇ РАДИ
D2: КАРТКА АНАЛІТИЧНОГО ОБЛІКУ КАСОВИХ ВИДАТКІВ
D3: за вересень 2026 року
B4: ЗАГАЛЬНИЙ ФОНД
B5: грн. коп.
D6: заробітна плата (1031, 1600, 1200, 1152 | E6: нарахування на оплату праці | F6: предмети, обладнання та інвентар (1021, 1183, 1184, 1291, 1292 | G6: медикаменти та перевязувальні матеріали | H6: продукти харчування | I6: продукти харчування 1403 та 1700 | J6: оплата послуг (крім комунальних) + (7691) | K6: видатки на відрядження | L6: оплата теплопостачання | M6: оплата водопостачання та водовідведення | N6: оплата електроенергії | O6: оплата природного газу | P6: оплата інших енергоносіїв (с/сміття) | Q6: інші виплати | R6: інші поточні видатки | S6: Навчання по тех безпеці
D7: 2111 | E7: 2120 | F7: 2210 | G7: 2220 | H7: 2230 | I7: 2230 (7фонд) | J7: 2240 | K7: 2250 | L7: 2271 | M7: 2272 | N7: 2273 | O7: 2274 | P7: 2275 | Q7: 2730 | R7: 2800 | S7: 2282 | W7: за поточний місяць | Y7: з початку року
A8: касові видатки на початок періоду | C8: =D8+E8+F8+G8+H8+I8+J8+K8+L8+M8+N8+O8+P8+Q8+R8+S8+T8+U8+V8 -> 0 | D8: ='серпень 2026 '!D81 -> 0 | E8: ='серпень 2026 '!E81 -> 0 | F8: ='серпень 2026 '!F81 -> 0 | G8: ='серпень 2026 '!G81 -> 0 | H8: ='серпень 2026 '!H81 -> 0 | I8: ='серпень 2026 '!I81 -> 0 | J8: ='серпень 2026 '!J81 -> 0 | K8: ='серпень 2026 '!K81 -> 0 | ... V8: ='серпень 2026 '!V81 -> 0 | W8: Х | Y8: Х
B9: Заклади дошкільної освіти
A10: 1 | B10: № 1 Ластівка | C10: ='серпень 2026 '!Y10 -> #REF! | W10: =SUM(D10:V10) -> 0 | Y10: =W10+C10 -> #REF!
A11: 2 | B11: № 2 Сонечко | C11: ='серпень 2026 '!Y11 -> #REF! | W11: =SUM(D11:V11) -> 0 | Y11: =W11+C11 -> #REF!
A12: 3 | B12: № 3 Дюймовочка | C12: ='серпень 2026 '!Y12 -> #REF! | W12: =SUM(D12:V12) -> 0 | Y12: =W12+C12 -> #REF!
A13: 4 | B13: № 4 Дельфін | C13: ='серпень 2026 '!Y13 -> #REF! | W13: =SUM(D13:V13) -> 0 | Y13: =W13+C13 -> #REF!
A14: 5 | B14: № 5 Золота рибка | C14: ='серпень 2026 '!Y14 -> #REF! | W14: =SUM(D14:V14) -> 0 | Y14: =W14+C14 -> #REF!
A15: 6 | B15: № 6 Дзвіночок | C15: ='серпень 2026 '!Y15 -> #REF! | W15: =SUM(D15:V15) -> 0 | Y15: =W15+C15 -> #REF!
A16: 7 | B16: № 7 Перлинка | C16: ='серпень 2026 '!Y16 -> #REF! | W16: =SUM(D16:V16) -> 0 | Y16: =W16+C16 -> #REF!
A17: 8 | B17: № 8 Вербиченька | C17: ='серпень 2026 '!Y17 -> #REF! | W17: =SUM(D17:V17) -> 0 | Y17: =W17+C17 -> #REF!
A18: 9 | B18: № 9 Краплинка | C18: ='серпень 2026 '!Y18 -> #REF! | W18: =SUM(D18:V18) -> 0 | Y18: =W18+C18 -> #REF!
A19: 10 | B19: № 10 Білочка | C19: ='серпень 2026 '!Y19 -> #REF! | W19: =SUM(D19:V19) -> 0 | Y19: =W19+C19 -> #REF!
A20: 11 | B20: № 11 Дивограй | C20: ='серпень 2026 '!Y20 -> #REF! | W20: =SUM(D20:V20) -> 0 | Y20: =W20+C20 -> #REF!
A21: 12 | B21: № 12 Струмочок | C21: ='серпень 2026 '!Y21 -> #REF! | W21: =SUM(D21:V21) -> 0 | Y21: =W21+C21 -> #REF!
... A29: 20 | B29: Чаусівський ЗДО | C29: ='серпень 2026 '!Y29 -> #REF! | W29: =SUM(D29:V29) -> 0 | Y29: =W29+C29 -> #REF!
B30: Разом по 0611010 | C30: =SUM(C10:C29) -> #REF! | D30: =SUM(D10:D29) -> 0 | E30: =SUM(E10:E29) -> 0 | F30: =SUM(F10:F29) -> 0 | G30: =SUM(G10:G29) -> 0 | H30: =SUM(H10:H29) -> 0 | I30: =SUM(I10:I29) -> 0 | J30: =SUM(J10:J29) -> 0 | ... W30: =SUM(W10:W29) -> 0 | Y30: =SUM(Y10:Y29) -> #REF!
B31: Гімназії, ліцеї
A32: 1 | B32: № 1 | C32: ='серпень 2026 '!Y32 -> #REF! | W32: =SUM(D32:V32) -> 0 | Y32: =W32+C32 -> #REF!
A33: 2 | B33: № 2 | C33: ='серпень 2026 '!Y33 -> #REF! | W33: =SUM(D33:V33) -> 0 | Y33: =W33+C33 -> #REF!
A34: 3 | B34: № 3 (1/2) | C34: ='серпень 2026 '!Y34 -> #REF! | W34: =SUM(D34:V34) -> 0 | Y34: =W34+C34 -> #REF!
A35: 4 | B35: № 4 | C35: ='серпень 2026 '!Y35 -> #REF! | W35: =SUM(D35:V35) -> 0 | Y35: =W35+C35 -> #REF!
A36: 5 | B36: № 5 | C36: ='серпень 2026 '!Y36 -> #REF! | W36: =SUM(D36:V36) -> 0 | Y36: =W36+C36 -> #REF!
A37: 6 | B37: № 6 (0,1) | C37: ='серпень 2026 '!Y37 -> #REF! | W37: =SUM(D37:V37) -> 0 | Y37: =W37+C37 -> #REF!
A38: 7 | B38: № 7 (1/2) | C38: ='серпень 2026 '!Y38 -> #REF! | W38: =SUM(D38:V38) -> 0 | Y38: =W38+C38 -> #REF!
A39: 8 | B39: № 8 | C39: ='серпень 2026 '!Y39 -> #REF! | W39: =SUM(D39:V39) -> 0 | Y39: =W39+C39 -> #REF!
A40: 9 | B40: № 9 | C40: ='серпень 2026 '!Y40 -> #REF! | W40: =SUM(D40:V40) -> 0 | Y40: =W40+C40 -> #REF!
A41: 10 | B41: № 10 (0,3) | C41: ='серпень 2026 '!Y41 -> #REF! | W41: =SUM(D41:V41) -> 0 | Y41: =W41+C41 -> #REF!
A42: 11 | B42: почат школа № 11 (1/2) | C42: ='серпень 2026 '!Y42 -> #REF! | W42: =SUM(D42:V42) -> 0 | Y42: =W42+C42 -> #REF!
A43: 12 | B43: Л Лідер | C43: ='серпень 2026 '!Y43 -> #REF! | W43: =SUM(D43:V43) -> 0 | Y43: =W43+C43 -> #REF!
... A49: 18 | B49: Грушівська гімназія | C49: ='серпень 2026 '!Y49 -> #REF! | W49: =SUM(D49:V49) -> 0 | Y49: =W49+C49 -> #REF!
B50: Разом по 0611021 | C50: =SUM(C32:C49) -> #REF! | D50: =SUM(D32:D49) -> 0 | E50: =SUM(E32:E49) -> 0 | F50: =SUM(F32:F49) -> 0 | G50: =SUM(G32:G49) -> 0 | H50: =SUM(H32:H49) -> 0 | I50: =SUM(I32:I49) -> 0 | J50: =SUM(J32:J49) -> 0 | ... W50: =SUM(W32:W49) -> 0 | Y50: =SUM(Y32:Y49) -> #REF!
B51: Заклади позашкільної освіти
A52: 1 | B52: ДЮЦНВ | C52: ='серпень 2026 '!Y52 -> #REF! | W52: =SUM(D52:V52) -> 0 | Y52: =C52+W52 -> #REF!
...

Sheet жовтень 2026
B1: УПРАВЛІННЯ ОСВІТИ ПЕРВОМАЙСЬКОЇ МІСЬКОЇ РАДИ
D2: КАРТКА АНАЛІТИЧНОГО ОБЛІКУ КАСОВИХ ВИДАТКІВ
D3: за жовтень 2026 року
B4: ЗАГАЛЬНИЙ ФОНД
B5: грн. коп.
D6: заробітна плата (в т.ч.1031, 1600, 1200, 1152) | E6: нарахування на оплату праці | F6: предмети, обладнання та інвентар (1021, 1183, 1184, 1291, 1292 | G6: медикаменти та перевязувальні матеріали | H6: продукти харчування | I6: продукти харчування 1403 та 1700 | J6: оплата послуг (крім комунальних) | K6: видатки на відрядження | L6: оплата теплопостачання | M6: оплата водопостачання та водовідведення | N6: оплата електроенергії | O6: оплата природного газу | P6: оплата інших енергоносіїв (с/сміття) | Q6: інші виплати | R6: інші поточні видатки | S6: Навчання по тех безпеці | T6: Обладнання та предмети довгострокового користування | U6: кап будівництво | V6: кап ремонт
D7: 2111 | E7: 2120 | F7: 2210 | G7: 2220 | H7: 2230 | I7: 2230 (7фонд) | J7: 2240 | K7: 2250 | L7: 2271 | M7: 2272 | N7: 2273 | O7: 2274 | P7: 2275 | Q7: 2730 | R7: 2800 | S7: 2282 | T7: 3110 | U7: 3122 | V7: 3132 | W7: за поточний місяць | Y7: з початку року
A8: касові видатки на початок періоду | C8: =D8+E8+F8+G8+H8+I8+J8+K8+L8+M8+N8+O8+P8+Q8+R8+S8+T8+U8+V8 -> 0 | D8: ='вересень 2026'!D81 -> 0 | E8: ='вересень 2026'!E81 -> 0 | F8: ='вересень 2026'!F81 -> 0 | G8: ='вересень 2026'!G81 -> 0 | H8: ='вересень 2026'!H81 -> 0 | I8: ='вересень 2026'!I81 -> 0 | J8: ='вересень 2026'!J81 -> 0 | K8: ='вересень 2026'!K81 -> 0 | ... V8: ='вересень 2026'!V81 -> 0 | W8: Х | Y8: Х
B9: Заклади дошкільної освіти
A10: 1 | B10: № 1 Ластівка | C10: ='вересень 2026'!Y10 -> #REF! | W10: =SUM(D10:V10) -> 0 | Y10: =W10+C10 -> #REF!
A11: 2 | B11: № 2 Сонечко | C11: ='вересень 2026'!Y11 -> #REF! | W11: =SUM(D11:V11) -> 0 | Y11: =W11+C11 -> #REF!
A12: 3 | B12: № 3 Дюймовочка | C12: ='вересень 2026'!Y12 -> #REF! | W12: =SUM(D12:V12) -> 0 | Y12: =W12+C12 -> #REF!
A13: 4 | B13: № 4 Дельфін | C13: ='вересень 2026'!Y13 -> #REF! | W13: =SUM(D13:V13) -> 0 | Y13: =W13+C13 -> #REF!
A14: 5 | B14: № 5 Золота рибка | C14: ='вересень 2026'!Y14 -> #REF! | W14: =SUM(D14:V14) -> 0 | Y14: =W14+C14 -> #REF!
A15: 6 | B15: № 6 Дзвіночок | C15: ='вересень 2026'!Y15 -> #REF! | W15: =SUM(D15:V15) -> 0 | Y15: =W15+C15 -> #REF!
A16: 7 | B16: № 7 Перлинка | C16: ='вересень 2026'!Y16 -> #REF! | W16: =SUM(D16:V16) -> 0 | Y16: =W16+C16 -> #REF!
A17: 8 | B17: № 8 Вербиченька | C17: ='вересень 2026'!Y17 -> #REF! | W17: =SUM(D17:V17) -> 0 | Y17: =W17+C17 -> #REF!
A18: 9 | B18: № 9 Краплинка | C18: ='вересень 2026'!Y18 -> #REF! | W18: =SUM(D18:V18) -> 0 | Y18: =W18+C18 -> #REF!
A19: 10 | B19: № 10 Білочка | C19: ='вересень 2026'!Y19 -> #REF! | W19: =SUM(D19:V19) -> 0 | Y19: =W19+C19 -> #REF!
A20: 11 | B20: № 11 Дивограй | C20: ='вересень 2026'!Y20 -> #REF! | W20: =SUM(D20:V20) -> 0 | Y20: =W20+C20 -> #REF!
A21: 12 | B21: № 12 Струмочок | C21: ='вересень 2026'!Y21 -> #REF! | W21: =SUM(D21:V21) -> 0 | Y21: =W21+C21 -> #REF!
... A29: 20 | B29: Чаусівський ЗДО | C29: ='вересень 2026'!Y29 -> #REF! | W29: =SUM(D29:V29) -> 0 | Y29: =W29+C29 -> #REF!
B30: Разом по 0611010 | C30: =SUM(C10:C29) -> #REF! | D30: =SUM(D10:D29) -> 0 | E30: =SUM(E10:E29) -> 0 | F30: =SUM(F10:F29) -> 0 | G30: =SUM(G10:G29) -> 0 | H30: =SUM(H10:H29) -> 0 | I30: =SUM(I10:I29) -> 0 | J30: =SUM(J10:J29) -> 0 | ... W30: =SUM(W10:W29) -> 0 | Y30: =SUM(Y10:Y29) -> #REF!
B31: Гімназії, ліцеї
A32: 1 | B32: № 1 | C32: ='вересень 2026'!Y32 -> #REF! | W32: =SUM(D32:V32) -> 0 | Y32: =W32+C32 -> #REF!
A33: 2 | B33: № 2 | C33: ='вересень 2026'!Y33 -> #REF! | W33: =SUM(D33:V33) -> 0 | Y33: =W33+C33 -> #REF!
A34: 3 | B34: № 3 (0,5) | C34: ='вересень 2026'!Y34 -> #REF! | W34: =SUM(D34:V34) -> 0 | Y34: =W34+C34 -> #REF!
A35: 4 | B35: № 4 | C35: ='вересень 2026'!Y35 -> #REF! | W35: =SUM(D35:V35) -> 0 | Y35: =W35+C35 -> #REF!
A36: 5 | B36: № 5 | C36: ='вересень 2026'!Y36 -> #REF! | W36: =SUM(D36:V36) -> 0 | Y36: =W36+C36 -> #REF!
A37: 6 | B37: № 6 (0,1) | C37: ='вересень 2026'!Y37 -> #REF! | W37: =SUM(D37:V37) -> 0 | Y37: =W37+C37 -> #REF!
A38: 7 | B38: № 7 (0,5) | C38: ='вересень 2026'!Y38 -> #REF! | W38: =SUM(D38:V38) -> 0 | Y38: =W38+C38 -> #REF!
A39: 8 | B39: № 8 | C39: ='вересень 2026'!Y39 -> #REF! | W39: =SUM(D39:V39) -> 0 | Y39: =W39+C39 -> #REF!
A40: 9 | B40: № 9 | C40: ='вересень 2026'!Y40 -> #REF! | W40: =SUM(D40:V40) -> 0 | Y40: =W40+C40 -> #REF!
