Workbook

Sheet січень 2026
B1: УПРАВЛІННЯ ОСВІТИ ПЕРВОМАЙСЬКОЇ МІСЬКОЇ РАДИ
D2: КАРТКА АНАЛІТИЧНОГО ОБЛІКУ КАСОВИХ ВИДАТКІВ
D3: за січень 2026 року
B4: ЗАГАЛЬНИЙ ФОНД
B5: грн. коп.
D6: Заробітна плата | E6: Нарахування на оплату праці | F6: предмети, обладнання та інвентар (1021, 1183, 1184, 1291, 1292 | G6: Медикаменти та перевязувальні матеріали | H6: продукти харчування | I6: продукти харчування 1403 та 1700 | J6: оплата послуг (крім комунальних) | K6: Видатки на відрядження | L6: оплата теплопостачання | M6: оплата водопостачання та водовідведення | N6: оплата електроенергії | O6: оплата природного газу | P6: оплата інших енергоносіїв (с/сміття) | Q6: Інші поточні видатки
D7: 2111 | E7: 2120 | F7: 2210 | G7: 2220 | H7: 2230 | I7: 2230 (7фонд) | J7: 2240 | K7: 2250 | L7: 2271 | M7: 2272 | N7: 2273 | O7: 2274 | P7: 2275 | Q7: 2800 | W7: за поточний місяць | Y7: з початку року
A8: касові видатки на початок періоду | C8: =D8+E8+F8+G8+H8+I8+J8+K8+L8+M8+N8+O8+P8+Q8+R8+S8+T8+U8+V8 -> 0 | W8: Х | Y8: Х
B9: Заклади дошкільної освіти
A10: 1 | B10: № 1 Ластівка | D10: 501374.82 | E10: 113546 | H10: 9065.8 | L10: 291210.66 | W10: =SUM(D10:V10) -> 915197.28 | Y10: =W10+C10 -> 915197.28
A11: 2 | B11: № 2 Сонечко | D11: 581333.91 | E11: 133863.68 | H11: 8963.4 | L11: 216755.25 | W11: =SUM(D11:V11) -> 940916.24 | Y11: =W11+C11 -> 940916.24
A12: 3 | B12: № 3 Дюймовочка | D12: 330859.28 | E12: 80128.56 | H12: 4119 | Q12: 882.87 | W12: =SUM(D12:V12) -> 415989.71 | Y12: =W12+C12 -> 415989.71
A13: 4 | W13: =SUM(D13:V13) -> 0 | Y13: =W13+C13 -> 0
A14: 5 | B14: № 5 Золота рибка | D14: 533131.33 | E14: 117042.31 | H14: 1278 | L14: 452102.23 | W14: =SUM(D14:V14) -> 1103553.9 | Y14: =W14+C14 -> 1103553.9
A15: 6 | B15: № 6 Дзвіночок | D15: 455515.1 | E15: 98323.86 | H15: 9280 | L15: 415032.32 | W15: =SUM(D15:V15) -> 978151.28 | Y15: =W15+C15 -> 978151.28
A16: 7 | B16: № 7 Перлинка | D16: 691728.99 | E16: 152295.29 | H16: 11206.8 | L16: 467172.31 | W16: =SUM(D16:V16) -> 1322403.4 | Y16: =W16+C16 -> 1322403.4
A17: 8 | B17: № 8 Вербиченька | D17: 455850.85 | E17: 103933 | H17: 2749 | Q17: 882.87 | W17: =SUM(D17:V17) -> 563415.72 | Y17: =W17+C17 -> 563415.72
A18: 9 | B18: № 9 Краплинка | D18: 405335.48 | E18: 85425 | H18: 8324.4 | L18: 175801.06 | W18: =SUM(D18:V18) -> 674885.94 | Y18: =W18+C18 -> 674885.94
A19: 10 | B19: № 10 Білочка | D19: 454135.83 | E19: 99947.81 | H19: 10995 | L19: 277511.71 | W19: =SUM(D19:V19) -> 842590.35 | Y19: =W19+C19 -> 842590.35
A20: 11 | B20: № 11 Дивограй | D20: 298549.77 | E20: 65017.56 | H20: 3769.2 | L20: 275115.33 | W20: =SUM(D20:V20) -> 642451.86 | Y20: =W20+C20 -> 642451.86
A21: 12 | B21: № 12 Струмочок | D21: 477221.76 | E21: 110084.51 | H21: 5932 | Q21: 882.87 | W21: =SUM(D21:V21) -> 594121.14 | Y21: =W21+C21 -> 594121.14
A22: 13 | B22: № 13 Журавлик | D22: 432998.01 | E22: 98471.35 | H22: 9371.52 | Q22: 882.87 | W22: =SUM(D22:V22) -> 541723.75 | Y22: =W22+C22 -> 541723.75
A23: 14 | B23: № 14 Казка | D23: 400043.85 | E23: 83476.59 | H23: 10724.5 | Q23: 882.87 | W23: =SUM(D23:V23) -> 495127.81 | Y23: =W23+C23 -> 495127.81
A24: 15 | B24: № 15 Пізнайко | D24: 828517.55 | E24: 188060.19 | H24: 12577.2 | L24: 189426.15 | W24: =SUM(D24:V24) -> 1218581.1 | Y24: =W24+C24 -> 1218581.1
A25: 16 | B25: № 16 Калинонька | D25: 311383.47 | E25: 63434.38 | H25: 2572.4 | L25: 120943.52 | W25: =SUM(D25:V25) -> 498333.77 | Y25: =W25+C25 -> 498333.77
A26: 17 | B26: Грушівський ЗДО Червона калина | D26: 141126.3 | E26: 27841.76 | H26: 623 | Q26: 1399.81 | W26: =SUM(D26:V26) -> 170990.87 | Y26: =W26+C26 -> 170990.87
A27: 18 | B27: Кінецьпільський ЗДО Струмочок | D27: 204881.06 | E27: 43487.55 | H27: 1124 | Q27: 882.87 | W27: =SUM(D27:V27) -> 250375.48 | Y27: =W27+C27 -> 250375.48
A28: 19 | B28: Підгороднянський ЗДО Ромашка | D28: 190900.36 | E28: 45060.69 | H28: 1672.6 | Q28: 1399.81 | W28: =SUM(D28:V28) -> 239033.46 | Y28: =W28+C28 -> 239033.46
W29: =SUM(D29:V29) -> 0 | Y29: =W29+C29 -> 0
B30: Разом по 0611010 | C30: =SUM(C10:C29) -> 0 | D30: =SUM(D10:D29) -> 7694887.7 | E30: =SUM(E10:E29) -> 1709440.1 | F30: =SUM(F10:F29) -> 0 | G30: =SUM(G10:G29) -> 0 | H30: =SUM(H10:H29) -> 114347.82 | I30: =SUM(I10:I29) -> 0 | J30: =SUM(J10:J29) -> 0 | ... W30: =SUM(W10:W29) -> 12407843 | Y30: =SUM(Y10:Y29) -> 12407843
B31: Гімназії, ліцеї
A32: 1 | B32: № 1 | D32: 1177173.7 | E32: 263286.31 | H32: 13461 | Q32: 225.11 | W32: =SUM(D32:V32) -> 1454146.1 | Y32: =W32+C32 -> 1454146.1
A33: 2 | B33: № 2 | D33: 984876.86 | E33: 208241.83 | Q33: 225.11 | W33: =SUM(D33:V33) -> 1193343.8 | Y33: =W33+C33 -> 1193343.8
A34: 3 | B34: № 3 (0,5) | D34: 641317 | E34: 141087.99 | H34: 3398 | J34: 2737 | Q34: 225.1 | W34: =SUM(D34:V34) -> 788765.09 | Y34: =W34+C34 -> 788765.09
A35: 4 | B35: № 4 | D35: 1447401 | E35: 321869.45 | H35: 8340 | L35: 419848.97 | W35: =SUM(D35:V35) -> 2197459.4 | Y35: =W35+C35 -> 2197459.4
A36: 5 | B36: № 5 | D36: =575+1961701.31 -> 1962276.3 | E36: 452006.58 | H36: 33392 | L36: 630151 | W36: =SUM(D36:V36) -> 3077825.9 | Y36: =W36+C36 -> 3077825.9
A37: 6 | B37: № 6 (0,1) | D37: 568583.7 | E37: 128311.61 | H37: 2115 | Q37: 225.1 | W37: =SUM(D37:V37) -> 699235.41 | Y37: =W37+C37 -> 699235.41
A38: 7 | B38: № 7 (0,5) | D38: 525172.45 | E38: 119399.26 | H38: 3398 | Q38: 225.1 | W38: =SUM(D38:V38) -> 648194.81 | Y38: =W38+C38 -> 648194.81
A39: 8 | B39: № 8 | D39: 526342.26 | E39: 111210.21 | Q39: 225.1 | W39: =SUM(D39:V39) -> 637777.57 | Y39: =W39+C39 -> 637777.57
A40: 9 | B40: № 9 | D40: 979236.88 | E40: 217582.53 | H40: 11546 | Q40: 225.1 | W40: =SUM(D40:V40) -> 1208590.5 | Y40: =W40+C40 -> 1208590.5
A41: 10 | B41: № 10 (0,3) | D41: 912574.74 | E41: 207982.34 | H41: 6345 | J41: 8933 | Q41: 225.1 | W41: =SUM(D41:V41) -> 1136060.2 | Y41: =W41+C41 -> 1136060.2
A42: 11 | B42: почат школа № 11 (1/2) | D42: 819597.35 | E42: 180929.7 | H42: 13522 | L42: 195492.13 | W42: =SUM(D42:V42) -> 1209541.2 | Y42: =W42+C42 -> 1209541.2
A43: 12 | B43: Л Лідер | D43: 1346438.1 | E43: 294099.14 | L43: 390984.26 | W43: =SUM(D43:V43) -> 2031521.5 | Y43: =W43+C43 -> 2031521.5
A44: 13 | B44: Л Престиж | D44: 1923618.6 | E44: 424361.72 | H44: 24146 | L44: 628604.15 | W44: =SUM(D44:V44) -> 3000730.5 | Y44: =W44+C44 -> 3000730.5
A45: 14 | B45: Л Ерудит (0,6) | D45: 2029818.4 | E45: 446598.49 | H45: 12690 | L45: 246756.2 | W45: =SUM(D45:V45) -> 2735863.1 | Y45: =W45+C45 -> 2735863.1
A46: 15 | B46: Чаусівська гімназія | W46: =SUM(D46:V46) -> 0 | Y46: =W46+C46 -> 0
A47: 16 | B47: Кінецьпільська гімназія | D47: 952275.46 | E47: 208484.29 | H47: 7710 | Q47: 225.1 | W47: =SUM(D47:V47) -> 1168694.9 | Y47: =W47+C47 -> 1168694.9
A48: 17 | B48: Підгороднянська гімназія | D48: 550502.89 | E48: 116692.28 | H48: 4359 | Q48: 225.1 | W48: =SUM(D48:V48) -> 671779.27 | Y48: =W48+C48 -> 671779.27
A49: 18 | B49: Грушівська гімназія | D49: 485454.9 | E49: 110333.24 | Q49: 225.1 | W49: =SUM(D49:V49) -> 596013.24 | Y49: =W49+C49 -> 596013.24
B50: Разом по 0611021 | C50: =SUM(C32:C49) -> 0 | D50: =SUM(D32:D49) -> 17832661 | E50: =SUM(E32:E49) -> 3952477 | F50: =SUM(F32:F49) -> 0 | G50: =SUM(G32:G49) -> 0 | H50: =SUM(H32:H49) -> 144422 | I50: =SUM(I32:I49) -> 0 | J50: =SUM(J32:J49) -> 11670 | ... W50: =SUM(W32:W49) -> 24455542 | Y50: =SUM(Y32:Y49) -> 24455542
B51: Заклади позашкільної освіти
A52: 1 | B52: ДЮЦНВ | D52: 274314.16 | E52: 63339.52 | L52: 171625.91 | W52: =SUM(D52:V52) -> 509279.59 | Y52: =C52+W52 -> 509279.59
A53: 2 | B53: ЦНТТУМ | D53: 210705.37 | E53: 46304.62 | L53: 130195.56 | W53: =SUM(D53:V53) -> 387205.55 | Y53: =C53+W53 -> 387205.55
A54: 3 | B54: СЮН | D54: 228401.54 | E54: 50908.18 | Q54: 2084.65 | W54: =SUM(D54:V54) -> 281394.37 | Y54: =C54+W54 -> 281394.37
B55: Разом по 0611070 | C55: =SUM(C52:C54) -> 0 | D55: =SUM(D52:D54) -> 713421.07 | E55: =SUM(E52:E54) -> 160552.32 | F55: =SUM(F52:F54) -> 0 | G55: =SUM(G52:G54) -> 0 | H55: =SUM(H52:H54) -> 0 | I55: =SUM(I52:I54) -> 0 | J55: =SUM(J52:J54) -> 0 | ... W55: =SUM(W52:W54) -> 1177879.5 | Y55: =SUM(Y52:Y54) -> 1177879.5
B57: ІРЦ, 0611151 | D57: 114586.22 | E57: 27431.4 | W57: =SUM(D57:V57) -> 142017.62 | Y57: =C57+W57 -> 142017.62
B59: ДЮСШ, 0615031 | D59: 321835.14 | E59: 72100.72 | K59: 2100 | L59: 271866.61 | W59: =SUM(D59:V59) -> 667902.47 | Y59: =C59+W59 -> 667902.47
B61: метод. кабінет, 0611160 | D61: 177134.71 | E61: 39920.8 | L61: 4864.49 | W61: =SUM(D61:V61) -> 221920 | Y61: =C61+W61 -> 221920
B63: Разом касових видатків за місяць | C63: Х | D63: =D30+D50+D55+D57+D59+D61 -> 26854526 | E63: =E30+E50+E55+E57+E59+E61 -> 5961922.3 | F63: =F30+F50+F55+F57+F59+F61 -> 0 | G63: =G30+G50+G55+G57+G59+G61 -> 0 | H63: =H30+H50+H55+H57+H59+H61 -> 258769.82 | I63: =I30+I50+I55+I57+I59+I61 -> 0 | J63: =J30+J50+J55+J57+J59+J61 -> 11670 | K63: =K30+K50+K55+K57+K59+K61 -> 2100 | ... W63: =W30+W50+W55+W57+W59+W61 -> 39073105 | Y63: Х
B65: Разом касових видатків з початку року | C65: =C30+C50+C55+C57+C59+C61 -> 0 | D65: =D8+D63 -> 26854526 | E65: =E8+E63 -> 5961922.3 | F65: =F8+F63 -> 0 | G65: =G8+G63 -> 0 | H65: =H8+H63 -> 258769.82 | I65: =I8+I63 -> 0 | J65: =J8+J63 -> 11670 | K65: =K8+K63 -> 2100 | ... V65: =V8+V63 -> 0 | W65: Х | Y65: =Y30+Y50+Y55+Y57+Y59+Y61 -> 39073105
B67: 1142 допомога дітям-сиротам | W67: =SUM(D67:V67) -> 0 | Y67: =C67+W67 -> 0

Sheet лютий 2026
B1: УПРАВЛІННЯ ОСВІТИ ПЕРВОМАЙСЬКОЇ МІСЬКОЇ РАДИ
D2: КАРТКА АНАЛІТИЧНОГО ОБЛІКУ КАСОВИХ ВИДАТКІВ
D3: за лютий 2026 року
B4: ЗАГАЛЬНИЙ ФОНД
B5: грн. коп.
D6: Заробітна плата | E6: Нарахування на оплату праці | F6: предмети, обладнання та інвентар | G6: Медикаменти та перевязувальні матеріали | H6: продукти харчування | I6: продукти харчування 1403 та 1700 | J6: оплата послуг (крім комунальних) | K6: Видатки на відрядження | L6: оплата теплопостачання | M6: оплата водопостачання та водовідведення | N6: оплата електроенергії | O6: оплата природного газу | P6: оплата інших енергоносіїв (с/сміття) | Q6: Інші поточні видатки
D7: 2111 | E7: 2120 | F7: 2210 | G7: 2220 | H7: 2230 | I7: 2230 (7фонд) | J7: 2240 | K7: 2250 | L7: 2271 | M7: 2272 | N7: 2273 | O7: 2274 | P7: 2275 | Q7: 2800 | W7: за поточний місяць | Y7: з початку року
A8: касові видатки на початок періоду | C8: =D8+E8+F8+G8+H8+I8+J8+K8+L8+M8+N8+O8+P8+Q8+R8+S8+T8+U8+V8 -> 0 | D8: ='січень 2026'!D81 -> 0 | E8: ='січень 2026'!E81 -> 0 | F8: ='січень 2026'!F81 -> 0 | G8: ='січень 2026'!G81 -> 0 | H8: ='січень 2026'!H81 -> 0 | I8: ='січень 2026'!I81 -> 0 | J8: ='січень 2026'!J81 -> 0 | K8: ='січень 2026'!K81 -> 0 | ... V8: ='січень 2026'!V81 -> 0 | W8: Х | Y8: Х
B9: Заклади дошкільної освіти
A10: 1 | B10: № 1 Ластівка | C10: ='січень 2026'!Y10 -> 915197.28 | D10: 470069.47 | E10: 110779.74 | F10: 17524.81 | H10: 7321.04 | J10: 774.02 | L10: 450879.34 | M10: 7947.26 | N10: 44322.93 | P10: 222.84 | W10: =SUM(D10:V10) -> 1109841.5 | Y10: =W10+C10 -> 2025038.7
A11: 2 | B11: № 2 Сонечко | C11: ='січень 2026'!Y11 -> 940916.24 | D11: 654745.07 | E11: 147755.73 | F11: 10502.8 | H11: 8154 | J11: 774.02 | L11: 374723.06 | M11: 6468.7 | N11: 45499.5 | P11: 668.52 | W11: =SUM(D11:V11) -> 1249291.4 | Y11: =W11+C11 -> 2190207.6
A12: 3 | B12: № 3 Дюймовочка | C12: ='січень 2026'!Y12 -> 415989.71 | D12: 242413.49 | E12: 59140.86 | F12: 8709.8 | H12: 2015 | J12: 773.03 | M12: 2530.35 | N12: 54011.47 | O12: 72287.24 | P12: 445.68 | W12: =SUM(D12:V12) -> 442326.92 | Y12: =W12+C12 -> 858316.63
A13: 4 | B13: № 4 Дельфін | C13: ='січень 2026'!Y13 -> 0 | W13: =SUM(D13:V13) -> 0 | Y13: =W13+C13 -> 0
A14: 5 | B14: № 5 Золота рибка | C14: ='січень 2026'!Y14 -> 1103553.9 | D14: 542187.6 | E14: 126444.31 | F14: 34223.84 | H14: 11736.5 | J14: 773.03 | L14: 564510.16 | M14: 3234.35 | N14: 70777.98 | P14: 884.23 | W14: =SUM(D14:V14) -> 1354772 | Y14: =W14+C14 -> 2458325.9
A15: 6 | B15: № 6 Дзвіночок | C15: ='січень 2026'!Y15 -> 978151.28 | D15: 516007.81 | E15: 113226.47 | F15: 25180.82 | H15: 11897.34 | J15: 774.02 | L15: 625581.02 | M15: 7854.85 | N15: 45019.03 | P15: 3298.03 | W15: =SUM(D15:V15) -> 1348839.4 | Y15: =W15+C15 -> 2326990.7
A16: 7 | B16: № 7 Перлинка | C16: ='січень 2026'!Y16 -> 1322403.4 | D16: 571254.28 | E16: 134518.15 | F16: 53621.33 | H16: 5280.6 | J16: 773.03 | L16: 652089.54 | M16: 8316.9 | N16: 148624.69 | P16: 1363.19 | W16: =SUM(D16:V16) -> 1575841.7 | Y16: =W16+C16 -> 2898245.1
A17: 8 | B17: № 8 Вербиченька | C17: ='січень 2026'!Y17 -> 563415.72 | D17: 451881.45 | E17: 107871.06 | F17: 11892.81 | H17: 5994.02 | J17: 17993.03 | N17: 51596.44 | O17: 114754.94 | W17: =SUM(D17:V17) -> 761983.75 | Y17: =W17+C17 -> 1325399.5
A18: 9 | B18: № 9 Краплинка | C18: ='січень 2026'!Y18 -> 674885.94 | D18: 389072.11 | E18: 85551.91 | F18: 20793.8 | H18: 8006.4 | J18: 731.15 | L18: 155172.35 | M18: 2772.3 | N18: 46155.51 | P18: 445.68 | W18: =SUM(D18:V18) -> 708701.21 | Y18: =W18+C18 -> 1383587.2
A19: 10 | B19: № 10 Білочка | C19: ='січень 2026'!Y19 -> 842590.35 | D19: 349694.28 | E19: 86219.75 | F19: 20110.83 | H19: 560.4 | J19: 773.03 | L19: 365239.31 | M19: 3049.53 | N19: 36310.71 | P19: 222.84 | W19: =SUM(D19:V19) -> 862180.68 | Y19: =W19+C19 -> 1704771
A20: 11 | B20: № 11 Дивограй | C20: ='січень 2026'!Y20 -> 642451.86 | D20: 271400.44 | E20: 68135.98 | F20: 8475.8 | H20: 751.2 | J20: 881.15 | L20: 425346.68 | M20: 2957.12 | N20: 48144.36 | P20: 222.84 | W20: =SUM(D20:V20) -> 826315.57 | Y20: =W20+C20 -> 1468767.4
A21: 12 | B21: № 12 Струмочок | C21: ='січень 2026'!Y21 -> 594121.14 | D21: 412344.59 | E21: 99666.88 | F21: 8793.8 | H21: 1095 | J21: 19673.03 | M21: 1630.67 | N21: 49735.44 | O21: 120078.58 | W21: =SUM(D21:V21) -> 713017.99 | Y21: =W21+C21 -> 1307139.1
A22: 13 | B22: № 13 Журавлик | C22: ='січень 2026'!Y22 -> 541723.75 | D22: 381057.64 | E22: 88113.02 | F22: 10134.81 | H22: 150 | J22: 8833.03 | M22: 1461.98 | N22: 27133.59 | O22: 76411.69 | P22: 445.68 | W22: =SUM(D22:V22) -> 593741.44 | Y22: =W22+C22 -> 1135465.2
A23: 14 | B23: № 14 Казка | C23: ='січень 2026'!Y23 -> 495127.81 | D23: 306740.9 | E23: 81714.8 | F23: 15131.82 | H23: 783 | J23: 773.03 | M23: 4158.45 | N23: 47448.27 | O23: 117878.94 | P23: 445.68 | W23: =SUM(D23:V23) -> 575074.89 | Y23: =W23+C23 -> 1070202.7
A24: 15 | B24: № 15 Пізнайко | C24: ='січень 2026'!Y24 -> 1218581.1 | D24: 981983.71 | E24: 217998.57 | F24: 47186.8 | H24: 26495.24 | J24: 774.03 | L24: 335498.62 | M24: 4897.73 | N24: 64640.96 | P24: 1188.48 | W24: =SUM(D24:V24) -> 1680664.1 | Y24: =W24+C24 -> 2899245.2
A25: 16 | B25: № 16 Калинонька | C25: ='січень 2026'!Y25 -> 498333.77 | D25: 278822.66 | E25: 62536.85 | F25: 6618.1 | H25: 150 | J25: 773.03 | L25: 125118.68 | M25: 2310.25 | N25: 49749.65 | P25: 222.84 | W25: =SUM(D25:V25) -> 526302.06 | Y25: =W25+C25 -> 1024635.8
A26: 17 | B26: Грушівський ЗДО Червона калина | C26: ='січень 2026'!Y26 -> 170990.87 | D26: 145286.33 | E26: 29507.43 | F26: 7541.4 | H26: 2220.6 | J26: 550 | N26: 23624.69 | W26: =SUM(D26:V26) -> 208730.45 | Y26: =W26+C26 -> 379721.32
A27: 18 | B27: Кінецьпільський ЗДО Струмочок | C27: ='січень 2026'!Y27 -> 250375.48 | D27: 161749.65 | E27: 40248.5 | F27: 7298.4 | H27: 1229 | J27: 653.03 | N27: 23780.96 | O27: 55178.76 | W27: =SUM(D27:V27) -> 290138.3 | Y27: =W27+C27 -> 540513.78
A28: 19 | B28: Підгороднянський ЗДО Ромашка | C28: ='січень 2026'!Y28 -> 239033.46 | D28: 208858.08 | E28: 49590.85 | F28: 5381.4 | H28: 3617.54 | J28: 1168 | M28: 5073 | N28: 19135.57 | P28: 3298.03 | W28: =SUM(D28:V28) -> 296122.47 | Y28: =W28+C28 -> 535155.93
A29: 20 | B29: Чаусівський ЗДО | C29: ='січень 2026'!Y29 -> 0 | W29: =SUM(D29:V29) -> 0 | Y29: =W29+C29 -> 0
B30: Разом по 0611010 | C30: =SUM(C10:C29) -> 12407843 | D30: =SUM(D10:D29) -> 7335569.6 | E30: =SUM(E10:E29) -> 1709020.9 | F30: =SUM(F10:F29) -> 319123.17 | G30: =SUM(G10:G29) -> 0 | H30: =SUM(H10:H29) -> 97456.88 | I30: =SUM(I10:I29) -> 0 | J30: =SUM(J10:J29) -> 58216.69 | ... W30: =SUM(W10:W29) -> 15123886 | Y30: =SUM(Y10:Y29) -> 27531729
B31: Гімназії, ліцеї
A32: 1 | B32: № 1 | C32: ='січень 2026'!Y32 -> 1454146.1 | D32: 1163353.2 | E32: 255672.39 | F32: 47664.5 | H32: 19991.55 | I32: 3504 | J32: 6480.16 | M32: 3092.65 | N32: 77508.32 | O32: 259399.1 | W32: =SUM(D32:V32) -> 1836665.9 | Y32: =W32+C32 -> 3290812
A33: 2 | B33: № 2 | C33: ='січень 2026'!Y33 -> 1193343.8 | D33: 998377.78 | E33: 210190.78 | F33: 9674.3 | J33: 3632.06 | N33: 42392.88 | O33: 215600.27 | W33: =SUM(D33:V33) -> 1479868.1 | Y33: =W33+C33 -> 2673211.9
A34: 3 | B34: № 3 (0,5) | C34: ='січень 2026'!Y34 -> 788765.09 | D34: 639191.35 | E34: 138754.32 | F34: 48965.3 | H34: 8583.79 | I34: 7066 | J34: 9475.16 | M34: 1405.75 | N34: 27304.06 | O34: 160278.7 | P34: 222.84 | W34: =SUM(D34:V34) -> 1041247.3 | Y34: =W34+C34 -> 1830012.4
A35: 4 | B35: № 4 | C35: ='січень 2026'!Y35 -> 2197459.4 | D35: 1386409.9 | E35: 308966.3 | F35: 104850.6 | H35: 20392.09 | I35: 3942 | J35: 5627.06 | L35: 348748.51 | M35: 3419.17 | N35: 15470.4 | P35: 445.68 | W35: =SUM(D35:V35) -> 2198271.7 | Y35: =W35+C35 -> 4395731.1
A36: 5 | B36: № 5 | C36: ='січень 2026'!Y36 -> 3077825.9 | D36: 1960010.3 | E36: 436664.74 | F36: 54006.95 | H36: 39401.07 | I36: 4800 | J36: 7780.16 | L36: 616374.01 | M36: 14785.6 | N36: 58125.33 | P36: 891.36 | W36: =SUM(D36:V36) -> 3192839.5 | Y36: =W36+C36 -> 6270665.4
A37: 6 | B37: № 6 (0,1) | C37: ='січень 2026'!Y37 -> 699235.41 | D37: 562997.12 | E37: 126703.62 | F37: 38383.9 | H37: 7129.53 | J37: 1930.16 | M37: 168.69 | N37: 40274.2 | O37: 133106.17 | W37: =SUM(D37:V37) -> 910693.39 | Y37: =W37+C37 -> 1609928.8
A38: 7 | B38: № 7 (0,5) | C38: ='січень 2026'!Y38 -> 648194.81 | D38: 527689.59 | E38: 118212.5 | F38: 35042.9 | H38: 8583.79 | J38: 1352.06 | M38: 449.84 | N38: 10370.43 | O38: 102486.29 | P38: 222.84 | W38: =SUM(D38:V38) -> 804410.24 | Y38: =W38+C38 -> 1452605.1
A39: 8 | B39: № 8 | C39: ='січень 2026'!Y39 -> 637777.57 | D39: 525918.7 | E39: 111381.92 | F39: 2523.1 | J39: 1705.16 | M39: 337.38 | N39: 58529 | O39: 70070.87 | W39: =SUM(D39:V39) -> 770466.13 | Y39: =W39+C39 -> 1408243.7
A40: 9 | B40: № 9 | C40: ='січень 2026'!Y40 -> 1208590.5 | D40: 862091.08 | E40: 186994.76 | F40: 29664.3 | H40: 14134.36 | I40: 11447 | J40: 3355.16 | M40: 4528.09 | N40: 33260.88 | O40: 297784.78 | P40: 8.91 | W40: =SUM(D40:V40) -> 1443269.3 | Y40: =W40+C40 -> 2651859.8
A41: 10 | B41: № 10 (0,3) | C41: ='січень 2026'!Y41 -> 1136060.2 | D41: 926720.76 | E41: 209491.72 | F41: 53044.3 | H41: 21388.59 | J41: 4031.15 | M41: 5510.54 | N41: 28511.58 | O41: 220135.54 | W41: =SUM(D41:V41) -> 1468834.2 | Y41: =W41+C41 -> 2604894.4
A42: 11 | B42: почат школа № 11 (1/2) | C42: ='січень 2026'!Y42 -> 1209541.2 | D42: 810584.99 | E42: 177096.5 | F42: 32314.3 | H42: 23079.13 | I42: 12570 | J42: 1102.06 | L42: 83785.95 | M42: 8717.34 | N42: 21577.05 | P42: 891.36 | W42: =SUM(D42:V42) -> 1171718.7 | Y42: =W42+C42 -> 2381259.9
A43: 12 | B43: Л Лідер | C43: ='січень 2026'!Y43 -> 2031521.5 | D43: 1305669.5 | E43: 286647.87 | F43: 16004 | J43: 12502.06 | L43: 167571.91 | M43: 17434.69 | N43: 43154.11 | P43: 891.36 | W43: =SUM(D43:V43) -> 1849875.5 | Y43: =W43+C43 -> 3881397.1
A44: 13 | B44: Л Престиж | C44: ='січень 2026'!Y44 -> 3000730.5 | D44: 1987840.5 | E44: 442192.16 | F44: 49580.6 | H44: 41196.1 | I44: 19665 | J44: 13351.06 | L44: 941955.36 | M44: 4620.5 | N44: 56548.47 | P44: 817.08 | W44: =SUM(D44:V44) -> 3557766.9 | Y44: =W44+C44 -> 6558497.3
A45: 14 | B45: Л Ерудит (0,6) | C45: ='січень 2026'!Y45 -> 2735863.1 | D45: 1991486.9 | E45: 449868.42 | F45: 70196.7 | H45: 42777.18 | I45: 8000 | J45: 13856.15 | L45: 453198.21 | M45: 2772.3 | N45: 19320.25 | P45: 891.36 | W45: =SUM(D45:V45) -> 3052367.4 | Y45: =W45+C45 -> 5788230.6
A46: 15 | B46: Чаусівська гімназія | C46: ='січень 2026'!Y46 -> 0 | N46: 65759.89 | W46: =SUM(D46:V46) -> 65759.89 | Y46: =W46+C46 -> 65759.89
A47: 16 | B47: Кінецьпільська гімназія | C47: ='січень 2026'!Y47 -> 1168694.9 | D47: 984805.78 | E47: 215757.43 | F47: 183049.3 | H47: 15840.15 | I47: 4380 | J47: 3595 | N47: 36438.57 | O47: 169575.44 | P47: 891.36 | W47: =SUM(D47:V47) -> 1614333 | Y47: =W47+C47 -> 2783027.9
A48: 17 | B48: Підгороднянська гімназія | C48: ='січень 2026'!Y48 -> 671779.27 | D48: 540781.21 | E48: 115084.56 | F48: 86224.5 | H48: 14194.75 | I48: 5095 | J48: 1075 | M48: 39.45 | N48: 56739.03 | O48: 106243.1 | W48: =SUM(D48:V48) -> 925476.6 | Y48: =W48+C48 -> 1597255.9
A49: 18 | B49: Грушівська гімназія | C49: ='січень 2026'!Y49 -> 596013.24 | D49: 483737.24 | E49: 106422.19 | F49: 18408.1 | J49: 1600 | N49: 13723.06 | O49: 81799.68 | W49: =SUM(D49:V49) -> 705690.27 | Y49: =W49+C49 -> 1301703.5
B50: Разом по 0611021 | C50: =SUM(C32:C49) -> 24455542 | D50: =SUM(D32:D49) -> 17657666 | E50: =SUM(E32:E49) -> 3896102.2 | F50: =SUM(F32:F49) -> 879597.65 | G50: =SUM(G32:G49) -> 0 | H50: =SUM(H32:H49) -> 276692.08 | I50: =SUM(I32:I49) -> 80469 | J50: =SUM(J32:J49) -> 92449.62 | ... W50: =SUM(W32:W49) -> 28089554 | Y50: =SUM(Y32:Y49) -> 52545096
B51: Заклади позашкільної освіти
A52: 1 | B52: ДЮЦНВ | C52: ='січень 2026'!Y52 -> 509279.59 | D52: 254302.17 | E52: 57919.97 | F52: 4812.5 | J52: 817.44 | L52: 251608.48 | M52: 168.69 | N52: 3466.28 | P52: 222.84 | W52: =SUM(D52:V52) -> 573318.37 | Y52: =C52+W52 -> 1082598
A53: 2 | B53: ЦНТТУМ | C53: ='січень 2026'!Y53 -> 387205.55 | D53: 187873.77 | E53: 42735.93 | F53: 15913.5 | J53: 847.44 | L53: 184398.42 | M53: 2908.73 | N53: 4957.92 | P53: 77.25 | W53: =SUM(D53:V53) -> 439712.96 | Y53: =C53+W53 -> 826918.51
A54: 3 | B54: СЮН | C54: ='січень 2026'!Y54 -> 281394.37 | D54: 219618.91 | E54: 47182.39 | F54: 3409.5 | J54: 667.43 | N54: 12913.31 | W54: =SUM(D54:V54) -> 283791.54 | Y54: =C54+W54 -> 565185.91
B55: Разом по 0611070 | C55: =SUM(C52:C54) -> 1177879.5 | D55: =SUM(D52:D54) -> 661794.85 | E55: =SUM(E52:E54) -> 147838.29 | F55: =SUM(F52:F54) -> 24135.5 | G55: =SUM(G52:G54) -> 0 | H55: =SUM(H52:H54) -> 0 | I55: =SUM(I52:I54) -> 0 | J55: =SUM(J52:J54) -> 2332.31 | ... W55: =SUM(W52:W54) -> 1296822.9 | Y55: =SUM(Y52:Y54) -> 2474702.4
B57: ІРЦ, 0611151 | C57: ='січень 2026'!Y57 -> 142017.62 | D57: 96298.23 | E57: 40904.03 | F57: 7134.2 | J57: 654.99 | L57: 10017.89 | M57: 369.64 | N57: 2272.97 | W57: =SUM(D57:V57) -> 157651.95 | Y57: =C57+W57 -> 299669.57
B59: ДЮСШ, 0615031 | C59: ='січень 2026'!Y59 -> 667902.47 | D59: 302406.35 | E59: 67296.85 | F59: 259884.9 | J59: 11313 | K59: 1800 | L59: 325007.16 | N59: 49646.94 | W59: =SUM(D59:V59) -> 1017355.2 | Y59: =C59+W59 -> 1685257.7
B61: метод. кабінет, 0611160 | C61: ='січень 2026'!Y61 -> 221920 | D61: 179789.17 | E61: 40959.6 | F61: 5116.5 | L61: 21676.83 | N61: 3551.52 | W61: =SUM(D61:V61) -> 251093.62 | Y61: =C61+W61 -> 473013.62
B63: Разом касових видатків за місяць | C63: Х | D63: =D30+D50+D55+D57+D59+D61 -> 26233524 | E63: =E30+E50+E55+E57+E59+E61 -> 5902121.8 | F63: =F30+F50+F55+F57+F59+F61 -> 1494991.9 | G63: =G30+G50+G55+G57+G59+G61 -> 0 | H63: =H30+H50+H55+H57+H59+H61 -> 374148.96 | I63: =I30+I50+I55+I57+I59+I61 -> 80469 | J63: =J30+J50+J55+J57+J59+J61 -> 164966.61 | K63: =K30+K50+K55+K57+K59+K61 -> 1800 | ... W63: =W30+W50+W55+W57+W59+W61 -> 45936363 | Y63: Х
B65: Разом касових видатків з початку року | C65: =C30+C50+C55+C57+C59+C61 -> 39073105 | D65: =D8+D63 -> 26233524 | E65: =E8+E63 -> 5902121.8 | F65: =F8+F63 -> 1494991.9 | G65: =G8+G63 -> 0 | H65: =H8+H63 -> 374148.96 | I65: =I8+I63 -> 80469 | J65: =J8+J63 -> 164966.61 | K65: =K8+K63 -> 1800 | ... V65: =V8+V63 -> 0 | W65: Х | Y65: =Y30+Y50+Y55+Y57+Y59+Y61 -> 85009469
B67: 1142 допомога дітям-сиротам | C67: ='січень 2026'!Y67 -> 0 | W67: =SUM(D67:V67) -> 0 | Y67: =C67+W67 -> 0

Sheet березень 2026
B1: УПРАВЛІННЯ ОСВІТИ ПЕРВОМАЙСЬКОЇ МІСЬКОЇ РАДИ
D2: КАРТКА АНАЛІТИЧНОГО ОБЛІКУ КАСОВИХ ВИДАТКІВ
D3: за березень 2026 року
B4: ЗАГАЛЬНИЙ ФОНД
B5: грн. коп.
D6: Заробітна плата | E6: Нарахування на оплату праці | F6: предмети, обладнання та інвентар (1021, 1183, 1184, 1291, 1292 | G6: Медикаменти та перевязувальні матеріали | H6: продукти харчування | I6: продукти харчування 1403 та 1700 | J6: оплата послуг (крім комунальних) | K6: Видатки на відрядження | L6: оплата теплопостачання | M6: оплата водопостачання та водовідведення | N6: оплата електроенергії | O6: оплата природного газу | P6: оплата інших енергоносіїв (с/сміття, рідкі нечистоти) | Q6: інші поточні видатки | R6: допомога дітям
D7: 2111 | E7: 2120 | F7: 2210 | G7: 2220 | H7: 2230 | I7: 2230 (7фонд) | J7: 2240 | K7: 2250 | L7: 2271 | M7: 2272 | N7: 2273 | O7: 2274 | P7: 2275 | Q7: 2800 | R7: 2730 | W7: за поточний місяць | Y7: з початку року
A8: касові видатки на початок періоду | C8: =D8+E8+F8+G8+H8+I8+J8+K8+L8+M8+N8+O8+P8+Q8+R8+S8+T8+U8+V8 -> 0 | D8: ='лютий 2026'!D81 -> 0 | E8: ='лютий 2026'!E81 -> 0 | F8: ='лютий 2026'!F81 -> 0 | G8: ='лютий 2026'!G81 -> 0 | H8: ='лютий 2026'!H81 -> 0 | I8: ='лютий 2026'!I81 -> 0 | J8: ='лютий 2026'!J81 -> 0 | K8: ='лютий 2026'!K81 -> 0 | ... V8: ='лютий 2026'!V81 -> 0 | W8: Х | Y8: Х
B9: Заклади дошкільної освіти
A10: 1 | B10: № 1 Ластівка | C10: ='лютий 2026'!Y10 -> 2025038.7 | D10: 530563.71 | E10: 125117.94 | F10: 345.6 | G10: 1936 | H10: 59794.79 | J10: 1792.53 | L10: 369698.57 | M10: 7762.44 | N10: 49268.39 | P10: 445.68 | W10: =SUM(D10:V10) -> 1146725.6 | Y10: =W10+C10 -> 3171764.4
A11: 2 | B11: № 2 Сонечко | C11: ='лютий 2026'!Y11 -> 2190207.6 | D11: 676580.96 | E11: 155781.02 | F11: 604.8 | G11: 1936 | H11: 55376.32 | J11: 1957.38 | L11: 298821.31 | M11: 4620.5 | N11: 66493.83 | P11: 891.36 | W11: =SUM(D11:V11) -> 1263063.5 | Y11: =W11+C11 -> 3453271.1
A12: 3 | B12: № 3 Дюймовочка | C12: ='лютий 2026'!Y12 -> 858316.63 | D12: 357315.77 | E12: 93110.16 | F12: 259.2 | G12: 1258 | H12: 36588.34 | J12: 1293.78 | M12: 1686.9 | N12: 50743.21 | O12: 72574.33 | P12: 445.68 | W12: =SUM(D12:V12) -> 615275.37 | Y12: =W12+C12 -> 1473592
A13: 4 | B13: № 4 Дельфін | C13: ='лютий 2026'!Y13 -> 0 | W13: =SUM(D13:V13) -> 0 | Y13: =W13+C13 -> 0
A14: 5 | B14: № 5 Золота рибка | C14: ='лютий 2026'!Y14 -> 2458325.9 | D14: 744094.17 | E14: 161426.8 | G14: 1597 | H14: 57577.05 | J14: 1971.03 | L14: 548081.31 | M14: 2772.3 | N14: 94891.07 | P14: 884.23 | W14: =SUM(D14:V14) -> 1613295 | Y14: =W14+C14 -> 4071620.8
A15: 6 | B15: № 6 Дзвіночок | C15: ='лютий 2026'!Y15 -> 2326990.7 | D15: 470309.19 | E15: 100603.93 | F15: 432 | G15: 1936 | H15: 41580.03 | J15: 1530.03 | L15: 504353.39 | M15: 6468.7 | N15: 48133.92 | P15: 1782.72 | W15: =SUM(D15:V15) -> 1177129.9 | Y15: =W15+C15 -> 3504120.6
A16: 7 | B16: № 7 Перлинка | C16: ='лютий 2026'!Y16 -> 2898245.1 | D16: 815012.62 | E16: 180301.19 | G16: 1936 | H16: 159076.46 | J16: 2332.23 | L16: 591438.66 | M16: 3696.4 | N16: 133946.97 | P16: 1363.19 | W16: =SUM(D16:V16) -> 1889103.7 | Y16: =W16+C16 -> 4787348.8
A17: 8 | B17: № 8 Вербиченька | C17: ='лютий 2026'!Y17 -> 1325399.5 | D17: 488315.81 | E17: 109979.84 | F17: 432 | G17: 1258 | H17: 71433.52 | J17: 16584.93 | M17: 1405.75 | N17: 54843.5 | O17: 124654.64 | P17: 445.68 | W17: =SUM(D17:V17) -> 869353.67 | Y17: =W17+C17 -> 2194753.1
A18: 9 | B18: № 9 Краплинка | C18: ='лютий 2026'!Y18 -> 1383587.2 | D18: 427599.36 | E18: 91368.31 | F18: 432 | G18: 1597 | H18: 102374.4 | J18: 1348.6 | L18: 448396.48 | M18: 2310.25 | N18: 50386.66 | W18: =SUM(D18:V18) -> 1125813.1 | Y18: =W18+C18 -> 2509400.2
A19: 10 | B19: № 10 Білочка | C19: ='лютий 2026'!Y19 -> 1704771 | D19: 512425.17 | E19: 112492.75 | F19: 259.2 | G19: 1936 | H19: 69896.54 | J19: 1731.63 | L19: 388597.93 | M19: 3419.17 | N19: 40208.84 | W19: =SUM(D19:V19) -> 1130967.2 | Y19: =W19+C19 -> 2835738.3
A20: 11 | B20: № 11 Дивограй | C20: ='лютий 2026'!Y20 -> 1468767.4 | D20: 321450 | E20: 70083.02 | F20: 345.6 | G20: 1258 | H20: 51749.88 | J20: 1339 | L20: 373614.32 | M20: 2125.43 | N20: 61407.21 | W20: =SUM(D20:V20) -> 883372.46 | Y20: =W20+C20 -> 2352139.9
A21: 12 | B21: № 12 Струмочок | C21: ='лютий 2026'!Y21 -> 1307139.1 | D21: 544911.73 | E21: 122433.46 | F21: 518.4 | G21: 1258 | H21: 51355.64 | J21: 18571.53 | M21: 2024.28 | N21: 60839.98 | O21: 140356.88 | P21: 445.68 | W21: =SUM(D21:V21) -> 942715.58 | Y21: =W21+C21 -> 2249854.7
A22: 13 | B22: № 13 Журавлик | C22: ='лютий 2026'!Y22 -> 1135465.2 | D22: 432122.99 | E22: 99987.44 | F22: 3832 | G22: 1258 | H22: 42559.43 | J22: 1860.98 | M22: 1237.06 | N22: 50727 | O22: 80475.64 | W22: =SUM(D22:V22) -> 714060.54 | Y22: =W22+C22 -> 1849525.7
A23: 14 | B23: № 14 Казка | C23: ='лютий 2026'!Y23 -> 1070202.7 | D23: 428538.31 | E23: 93470.5 | F23: 33300 | G23: 1936 | H23: 44481.96 | J23: 1570.98 | M23: 924.1 | N23: 55751.08 | O23: 123829.76 | W23: =SUM(D23:V23) -> 783802.69 | Y23: =W23+C23 -> 1854005.4
A24: 15 | B24: № 15 Пізнайко | C24: ='лютий 2026'!Y24 -> 2899245.2 | D24: 934960.98 | E24: 205597.1 | F24: 432 | G24: 1936 | H24: 101712.14 | J24: 2510.73 | L24: 263903.35 | M24: 5729.42 | N24: 79591.94 | P24: 1188.48 | Q24: 86470 | W24: =SUM(D24:V24) -> 1684032.1 | Y24: =W24+C24 -> 4583277.4
A25: 16 | B25: № 16 Калинонька | C25: ='лютий 2026'!Y25 -> 1024635.8 | D25: 291613.4 | E25: 62177 | G25: 705 | H25: 15835.09 | J25: 6019.93 | L25: 225285.26 | M25: 462.05 | N25: 58344.15 | P25: 222.84 | W25: =SUM(D25:V25) -> 660664.72 | Y25: =W25+C25 -> 1685300.6
A26: 17 | B26: Грушівський ЗДО Червона калина | C26: ='лютий 2026'!Y26 -> 379721.32 | D26: 175218.9 | E26: 36173.26 | G26: 705 | H26: 6354.74 | J26: 921.7 | N26: 105797.4 | W26: =SUM(D26:V26) -> 325171 | Y26: =W26+C26 -> 704892.32
A27: 18 | B27: Кінецьпільський ЗДО Струмочок | C27: ='лютий 2026'!Y27 -> 540513.78 | D27: 194636.32 | E27: 42570.1 | F27: 86.4 | G27: 705 | H27: 13594.38 | J27: 1635.79 | M27: 67.64 | N27: 24018.35 | O27: 78934.13 | W27: =SUM(D27:V27) -> 356248.11 | Y27: =W27+C27 -> 896761.89
A28: 19 | B28: Підгороднянський ЗДО Ромашка | C28: ='лютий 2026'!Y28 -> 535155.93 | D28: 233673.19 | E28: 53542.64 | G28: 705 | H28: 17026.78 | J28: 677.32 | M28: 2164.48 | N28: 18086.69 | P28: 222.84 | W28: =SUM(D28:V28) -> 326098.94 | Y28: =W28+C28 -> 861254.87
A29: 20 | B29: Чаусівський ЗДО | C29: ='лютий 2026'!Y29 -> 0 | W29: =SUM(D29:V29) -> 0 | Y29: =W29+C29 -> 0
B30: Разом по 0611010 | C30: =SUM(C10:C29) -> 27531729 | D30: =SUM(D10:D29) -> 8579342.6 | E30: =SUM(E10:E29) -> 1916216.5 | F30: =SUM(F10:F29) -> 41279.2 | G30: =SUM(G10:G29) -> 25856 | H30: =SUM(H10:H29) -> 998367.49 | I30: =SUM(I10:I29) -> 0 | J30: =SUM(J10:J29) -> 65650.1 | ... W30: =SUM(W10:W29) -> 17506893 | Y30: =SUM(Y10:Y29) -> 45038622
B31: Гімназії, ліцеї
A32: 1 | B32: № 1 | C32: ='лютий 2026'!Y32 -> 3290812 | D32: 1152775.4 | E32: 252804.29 | F32: 93508.3 | G32: 4322 | H32: 115277.84 | I32: 38497 | J32: 3001.35 | M32: 2080.51 | N32: 89396.2 | O32: 267713.31 | P32: 891.36 | W32: =SUM(D32:V32) -> 2020267.5 | Y32: =W32+C32 -> 5311079.5
A33: 2 | B33: № 2 | C33: ='лютий 2026'!Y33 -> 2673211.9 | D33: 995368.82 | E33: 208802.95 | G33: 2614 | J33: 2964.74 | N33: 43479.2 | O33: 199100.01 | W33: =SUM(D33:V33) -> 1452329.7 | Y33: =W33+C33 -> 4125541.6
A34: 3 | B34: № 3 (0,5) | C34: ='лютий 2026'!Y34 -> 1830012.4 | D34: 634036.6 | E34: 143783.3 | F34: 259.2 | G34: 2614 | H34: 51159.91 | I34: 18315 | J34: 11514.55 | M34: 1124.6 | N34: 48620.13 | O34: 164502.17 | P34: 445.68 | W34: =SUM(D34:V34) -> 1076375.1 | Y34: =W34+C34 -> 2906387.5
A35: 4 | B35: № 4 | C35: ='лютий 2026'!Y35 -> 4395731.1 | D35: 1400526.3 | E35: 316199.15 | G35: 6017 | H35: 205070.86 | I35: 71764 | J35: 3064.79 | L35: 459048.49 | M35: 3511.58 | N35: 58020.02 | P35: 1337.04 | W35: =SUM(D35:V35) -> 2524559.3 | Y35: =W35+C35 -> 6920290.4
A36: 5 | B36: № 5 | C36: ='лютий 2026'!Y36 -> 6270665.4 | D36: 1899150.1 | E36: 421488.99 | F36: 78421.33 | G36: 6017 | H36: 127974.17 | I36: 21085 | J36: 4486.9 | L36: 767094.51 | M36: 12013.3 | N36: 90968.68 | P36: 891.36 | W36: =SUM(D36:V36) -> 3429591.3 | Y36: =W36+C36 -> 9700256.7
A37: 6 | B37: № 6 (0,1) | C37: ='лютий 2026'!Y37 -> 1609928.8 | D37: 572976.44 | E37: 128943.72 | F37: 345.6 | G37: 2614 | H37: 50212.6 | I37: 21753.55 | J37: 4831.3 | M37: 281.15 | N37: 48620.13 | O37: 153754.17 | W37: =SUM(D37:V37) -> 984332.66 | Y37: =W37+C37 -> 2594261.5
A38: 7 | B38: № 7 (0,5) | C38: ='лютий 2026'!Y38 -> 1452605.1 | D38: 528777.54 | E38: 118176.14 | G38: 919 | H38: 51159.91 | I38: 18315 | J38: 1689.29 | M38: 1293.29 | N38: 20906.65 | O38: 106791.05 | P38: 222.84 | W38: =SUM(D38:V38) -> 848250.71 | Y38: =W38+C38 -> 2300855.8
A39: 8 | B39: № 8 | C39: ='лютий 2026'!Y39 -> 1408243.7 | D39: 528761.18 | E39: 112039.58 | F39: 1760.4 | G39: 352 | J39: 779.5 | M39: 449.84 | N39: 63384.44 | O39: 64417.42 | W39: =SUM(D39:V39) -> 771944.36 | Y39: =W39+C39 -> 2180188.1
A40: 9 | B40: № 9 | C40: ='лютий 2026'!Y40 -> 2651859.8 | D40: 1008161.1 | E40: 222504.49 | F40: 6288.75 | G40: 3970 | H40: 99089.81 | I40: 27931.5 | J40: 2736.55 | M40: 4250.86 | N40: 44519.69 | O40: 301544.69 | P40: 1390.52 | W40: =SUM(D40:V40) -> 1722387.9 | Y40: =W40+C40 -> 4374247.7
A41: 10 | B41: № 10 (0,3) | C41: ='лютий 2026'!Y41 -> 2604894.4 | D41: 952909.97 | E41: 211508.76 | F41: 14262.2 | G41: 3970 | H41: 150637.79 | I41: 65260.65 | J41: 2263 | M41: 2642.81 | N41: 26092.8 | O41: 229732.87 | P41: 1039.92 | W41: =SUM(D41:V41) -> 1660320.8 | Y41: =W41+C41 -> 4265215.1
A42: 11 | B42: почат школа № 11 (1/2) | C42: ='лютий 2026'!Y42 -> 2381259.9 | D42: 795007.91 | E42: 177387.94 | F42: 68024.8 | G42: 3970 | H42: 138941.98 | I42: 37482 | J42: 2630.35 | L42: 230974.37 | M42: 3357.56 | N42: 29798.72 | P42: 1307.33 | W42: =SUM(D42:V42) -> 1488883 | Y42: =W42+C42 -> 3870142.8
A43: 12 | B43: Л Лідер | C43: ='лютий 2026'!Y43 -> 3881397.1 | D43: 1288435.4 | E43: 281780.19 | F43: 8726.4 | G43: 6017 | J43: 3311.74 | L43: 461948.73 | M43: 6715.13 | N43: 59662.69 | P43: 1960.99 | W43: =SUM(D43:V43) -> 2118558.3 | Y43: =W43+C43 -> 5999955.4
A44: 13 | B44: Л Престиж | C44: ='лютий 2026'!Y44 -> 6558497.3 | D44: 1939645.4 | E44: 426667.29 | F44: 148740 | G44: 6017 | H44: 271670.27 | I44: 96207 | J44: 4635.65 | L44: 896402.21 | M44: 4620.5 | N44: 74129.9 | P44: 2005.56 | W44: =SUM(D44:V44) -> 3870740.7 | Y44: =W44+C44 -> 10429238
A45: 14 | B45: Л Ерудит (0,6) | C45: ='лютий 2026'!Y45 -> 5788230.6 | D45: 2019203.6 | E45: 443666.09 | F45: 14924 | G45: 6017 | H45: 301275.59 | I45: 130521.3 | J45: 2570.8 | L45: 361737.97 | M45: 4158.45 | N45: 128891.95 | P45: 1337.04 | W45: =SUM(D45:V45) -> 3414303.8 | Y45: =W45+C45 -> 9202534.3
A46: 15 | B46: Чаусівська гімназія | C46: ='лютий 2026'!Y46 -> 65759.89 | N46: 61617.91 | W46: =SUM(D46:V46) -> 61617.91 | Y46: =W46+C46 -> 127377.8
A47: 16 | B47: Кінецьпільська гімназія | C47: ='лютий 2026'!Y47 -> 2783027.9 | D47: 976624.47 | E47: 212177.71 | F47: 3800 | G47: 2614 | H47: 157317.94 | I47: 51519.5 | J47: 2331.25 | N47: 46077.23 | O47: 184547.89 | W47: =SUM(D47:V47) -> 1637010 | Y47: =W47+C47 -> 4420037.9
A48: 17 | B48: Підгороднянська гімназія | C48: ='лютий 2026'!Y48 -> 1597255.9 | D48: 557174.21 | E48: 117490.83 | G48: 1597 | H48: 91606.15 | I48: 26669.5 | J48: 2230 | M48: 473.4 | N48: 68246.44 | O48: 91249.99 | W48: =SUM(D48:V48) -> 956737.52 | Y48: =W48+C48 -> 2553993.4
A49: 18 | B49: Грушівська гімназія | C49: ='лютий 2026'!Y49 -> 1301703.5 | D49: 486171.05 | E49: 125394.48 | G49: 705 | J49: 961.75 | N49: 15234.31 | O49: 81503.7 | W49: =SUM(D49:V49) -> 709970.29 | Y49: =W49+C49 -> 2011673.8
B50: Разом по 0611021 | C50: =SUM(C32:C49) -> 52545096 | D50: =SUM(D32:D49) -> 17735705 | E50: =SUM(E32:E49) -> 3920815.9 | F50: =SUM(F32:F49) -> 439060.98 | G50: =SUM(G32:G49) -> 60346 | H50: =SUM(H32:H49) -> 1811394.8 | I50: =SUM(I32:I49) -> 625321 | J50: =SUM(J32:J49) -> 56003.51 | ... W50: =SUM(W32:W49) -> 30748181 | Y50: =SUM(Y32:Y49) -> 83293277
B51: Заклади позашкільної освіти
A52: 1 | B52: ДЮЦНВ | C52: ='лютий 2026'!Y52 -> 1082598 | D52: 268016.98 | E52: 60844.3 | F52: 4365 | J52: 1100.01 | L52: 228039.87 | M52: 112.46 | N52: 1782.74 | W52: =SUM(D52:V52) -> 564261.36 | Y52: =C52+W52 -> 1646859.3
A53: 2 | B53: ЦНТТУМ | C53: ='лютий 2026'!Y53 -> 826918.51 | D53: 202698.97 | E53: 43916.66 | F53: 6385 | J53: 716.95 | L53: 163028.56 | M53: 654.71 | N53: 6968.89 | P53: 77.25 | W53: =SUM(D53:V53) -> 424446.99 | Y53: =C53+W53 -> 1251365.5
A54: 3 | B54: СЮН | C54: ='лютий 2026'!Y54 -> 565185.91 | D54: 211660.44 | E54: 48104.83 | F54: 4365 | J54: 1506.74 | N54: 14423.97 | W54: =SUM(D54:V54) -> 280060.98 | Y54: =C54+W54 -> 845246.89
B55: Разом по 0611070 | C55: =SUM(C52:C54) -> 2474702.4 | D55: =SUM(D52:D54) -> 682376.39 | E55: =SUM(E52:E54) -> 152865.79 | F55: =SUM(F52:F54) -> 15115 | G55: =SUM(G52:G54) -> 0 | H55: =SUM(H52:H54) -> 0 | I55: =SUM(I52:I54) -> 0 | J55: =SUM(J52:J54) -> 3323.7 | ... W55: =SUM(W52:W54) -> 1268769.3 | Y55: =SUM(Y52:Y54) -> 3743471.7
B57: ІРЦ, 0611151 | C57: ='лютий 2026'!Y57 -> 299669.57 | D57: 129878.91 | E57: 30437.53 | F57: 477 | J57: 755.99 | K57: 399 | L57: 32289.49 | M57: 369.64 | N57: 2593.08 | W57: =SUM(D57:V57) -> 197200.64 | Y57: =C57+W57 -> 496870.21
B59: ДЮСШ, 0615031 | C59: ='лютий 2026'!Y59 -> 1685257.7 | D59: 306952.91 | E59: 67477.69 | F59: 6944 | G59: 1369 | J59: 1572.1 | K59: 5400 | L59: 377394.19 | M59: 6263.34 | N59: 130366.76 | W59: =SUM(D59:V59) -> 903739.99 | Y59: =C59+W59 -> 2588997.7
B61: метод. кабінет, 0611160 | C61: ='лютий 2026'!Y61 -> 473013.62 | D61: 175017.88 | E61: 40668.11 | L61: 17291.58 | N61: 4051.68 | W61: =SUM(D61:V61) -> 237029.25 | Y61: =C61+W61 -> 710042.87
B63: Разом касових видатків за місяць | C63: Х | D63: =D30+D50+D55+D57+D59+D61 -> 27609274 | E63: =E30+E50+E55+E57+E59+E61 -> 6128481.5 | F63: =F30+F50+F55+F57+F59+F61 -> 502876.18 | G63: =G30+G50+G55+G57+G59+G61 -> 87571 | H63: =H30+H50+H55+H57+H59+H61 -> 2809762.3 | I63: =I30+I50+I55+I57+I59+I61 -> 625321 | J63: =J30+J50+J55+J57+J59+J61 -> 127305.4 | K63: =K30+K50+K55+K57+K59+K61 -> 5799 | ... W63: =W30+W50+W55+W57+W59+W61 -> 50861813 | Y63: Х
B65: Разом касових видатків з початку року | C65: =C30+C50+C55+C57+C59+C61 -> 85009469 | D65: =D8+D63 -> 27609274 | E65: =E8+E63 -> 6128481.5 | F65: =F8+F63 -> 502876.18 | G65: =G8+G63 -> 87571 | H65: =H8+H63 -> 2809762.3 | I65: =I8+I63 -> 625321 | J65: =J8+J63 -> 127305.4 | K65: =K8+K63 -> 5799 | ... V65: =V8+V63 -> 0 | W65: Х | Y65: =Y30+Y50+Y55+Y57+Y59+Y61 -> 1.3587128e+08
B67: 1142 допомога дітям-сиротам | C67: ='лютий 2026'!Y67 -> 0 | R67: 1810 | W67: =SUM(D67:V67) -> 1810 | Y67: =C67+W67 -> 1810

Sheet квітень 2026
B1: УПРАВЛІННЯ ОСВІТИ ПЕРВОМАЙСЬКОЇ МІСЬКОЇ РАДИ
D2: КАРТКА АНАЛІТИЧНОГО ОБЛІКУ КАСОВИХ ВИДАТКІВ
D3: за квітень 2026 року
B4: ЗАГАЛЬНИЙ ФОНД
B5: грн. коп.
D6: Заробітна плата | E6: Нарахування на оплату праці | F6: предмети, обладнання та інвентар (1021, 1183, 1184, 1291, 1292 | G6: Медикаменти та перевязувальні матеріали | H6: продукти харчування | I6: продукти харчування 1403 та 1700 | J6: оплата послуг (крім комунальних) | K6: Видатки на відрядження | L6: оплата теплопостачання | M6: оплата водопостачання та водовідведення | N6: оплата електроенергії | O6: оплата природного газу | P6: оплата інших енергоносіїв (с/сміття, рідкі нечистоти) | Q6: інші поточні видатки | R6: допомога дітям | S6: спец навчання по безпеці
D7: 2111 | E7: 2120 | F7: 2210 | G7: 2220 | H7: 2230 | I7: 2230 (7фонд) | J7: 2240 | K7: 2250 | L7: 2271 | M7: 2272 | N7: 2273 | O7: 2274 | P7: 2275 | Q7: 2800 | R7: 2730 | S7: 2282 | W7: за поточний місяць | Y7: з початку року
A8: касові видатки на початок періоду | C8: =D8+E8+F8+G8+H8+I8+J8+K8+L8+M8+N8+O8+P8+Q8+R8+S8+T8+U8+V8 -> 0 | D8: ='березень 2026'!D81 -> 0 | E8: ='березень 2026'!E81 -> 0 | F8: ='березень 2026'!F81 -> 0 | G8: ='березень 2026'!G81 -> 0 | H8: ='березень 2026'!H81 -> 0 | I8: ='березень 2026'!I81 -> 0 | J8: ='березень 2026'!J81 -> 0 | K8: ='березень 2026'!K81 -> 0 | ... V8: ='березень 2026'!V81 -> 0 | W8: Х | Y8: Х
B9: Заклади дошкільної освіти
A10: 1 | B10: № 1 Ластівка | C10: ='березень 2026'!Y10 -> 3171764.4 | D10: 612426.05 | E10: 135976.3 | H10: 81585.53 | J10: 1585.28 | L10: 122042.9 | M10: 11551.25 | N10: 55815.51 | P10: 1337.04 | S10: 1748 | W10: =SUM(D10:V10) -> 1024067.9 | Y10: =W10+C10 -> 4195832.2
A11: 2 | B11: № 2 Сонечко | C11: ='березень 2026'!Y11 -> 3453271.1 | D11: 660458.17 | E11: 150848.45 | H11: 107509.81 | J11: 1585.28 | L11: 109821.87 | M11: 6930.75 | N11: 63877.92 | P11: 891.36 | S11: 828 | W11: =SUM(D11:V11) -> 1102751.6 | Y11: =W11+C11 -> 4556022.7
A12: 3 | B12: № 3 Дюймовочка | C12: ='березень 2026'!Y12 -> 1473592 | D12: 350693.79 | E12: 82581.06 | H12: 46355.97 | J12: 1585.28 | M12: 2811.5 | N12: 66913.72 | O12: 56297.3 | P12: 891.36 | Q12: 655.19 | S12: 2378 | W12: =SUM(D12:V12) -> 611163.17 | Y12: =W12+C12 -> 2084755.2
A13: 4 | B13: № 4 Дельфін | C13: ='березень 2026'!Y13 -> 0 | W13: =SUM(D13:V13) -> 0 | Y13: =W13+C13 -> 0
A14: 5 | B14: № 5 Золота рибка | C14: ='березень 2026'!Y14 -> 4071620.8 | D14: 651370.92 | E14: 143339.92 | H14: 75978.15 | J14: 5479.39 | L14: 185658.38 | M14: 6930.75 | N14: 77635.48 | P14: 2964.07 | S14: 3008 | W14: =SUM(D14:V14) -> 1152365.1 | Y14: =W14+C14 -> 5223985.9
A15: 6 | B15: № 6 Дзвіночок | C15: ='березень 2026'!Y15 -> 3504120.6 | D15: 445485.3 | E15: 98317.6 | F15: 1713.6 | H15: 90541.31 | J15: 1585.28 | L15: 165820.23 | M15: 9241 | N15: 49065.73 | P15: 1114.2 | S15: 1840 | W15: =SUM(D15:V15) -> 864724.25 | Y15: =W15+C15 -> 4368844.8
A16: 7 | B16: № 7 Перлинка | C16: ='березень 2026'!Y16 -> 4787348.8 | D16: 786021.08 | E16: 173558 | F16: 4284 | H16: 134588.18 | J16: 1585.28 | L16: 205669.46 | M16: 9241 | N16: 114306.59 | P16: 1363.19 | S16: 1458 | W16: =SUM(D16:V16) -> 1432074.8 | Y16: =W16+C16 -> 6219423.6
A17: 8 | B17: № 8 Вербиченька | C17: ='березень 2026'!Y17 -> 2194753.1 | D17: 505302.17 | E17: 113681.64 | H17: 48233.23 | J17: 16025.28 | M17: 2249.2 | N17: 60008.16 | O17: 80443.33 | P17: 445.68 | Q17: 655.19 | S17: 2378 | W17: =SUM(D17:V17) -> 829421.88 | Y17: =W17+C17 -> 3024175
A18: 9 | B18: № 9 Краплинка | C18: ='березень 2026'!Y18 -> 2509400.2 | D18: 471454.54 | E18: 99348.4 | H18: 78692.53 | J18: 200820.74 | L18: 219961.33 | M18: 5544.6 | N18: 49494.09 | P18: 891.36 | S18: 4396 | W18: =SUM(D18:V18) -> 1130603.6 | Y18: =W18+C18 -> 3640003.8
A19: 10 | B19: № 10 Білочка | C19: ='березень 2026'!Y19 -> 2835738.3 | D19: 513767.48 | E19: 115946.26 | F19: 2641.2 | H19: 46511.18 | J19: 1585.28 | L19: 137866.48 | M19: 6468.7 | N19: 90278.35 | P19: 445.68 | S19: 2378 | W19: =SUM(D19:V19) -> 917888.61 | Y19: =W19+C19 -> 3753626.9
A20: 11 | B20: № 11 Дивограй | C20: ='березень 2026'!Y20 -> 2352139.9 | D20: 296687.46 | E20: 66146.42 | H20: 43645.26 | J20: 70190.79 | L20: 120066.49 | M20: 4620.5 | N20: 46080.25 | P20: 891.36 | S20: 630 | W20: =SUM(D20:V20) -> 648958.53 | Y20: =W20+C20 -> 3001098.4
A21: 12 | B21: № 12 Струмочок | C21: ='березень 2026'!Y21 -> 2249854.7 | D21: 533849.1 | E21: 118582.4 | H21: 86871.33 | J21: 33505.28 | M21: 4498.4 | N21: 61539.85 | O21: 109850.84 | P21: 445.68 | Q21: 655.18 | S21: 1098 | W21: =SUM(D21:V21) -> 950896.06 | Y21: =W21+C21 -> 3200750.8
A22: 13 | B22: № 13 Журавлик | C22: ='березень 2026'!Y22 -> 1849525.7 | D22: 440421.41 | E22: 98397.64 | H22: 61744.54 | J22: 10487.8 | M22: 3373.8 | N22: 46339.86 | O22: 70790.24 | P22: 2525.52 | Q22: 655.18 | S22: 2378 | W22: =SUM(D22:V22) -> 737113.99 | Y22: =W22+C22 -> 2586639.7
A23: 14 | B23: № 14 Казка | C23: ='березень 2026'!Y23 -> 1854005.4 | D23: 441133.03 | E23: 94967.21 | F23: 6925.2 | H23: 65232.12 | J23: 1585.28 | M23: 5082.55 | N23: 64901.76 | O23: 106594.23 | P23: 668.52 | Q23: 655.18 | S23: 2648 | W23: =SUM(D23:V23) -> 790393.08 | Y23: =W23+C23 -> 2644398.5
A24: 15 | B24: № 15 Пізнайко | C24: ='березень 2026'!Y24 -> 4583277.4 | D24: 888180.67 | E24: 195399.75 | F24: 4284 | H24: 161284.57 | J24: 1585.28 | L24: 95110.24 | M24: 7854.85 | N24: 79699.36 | P24: 1782.72 | S24: 3476 | W24: =SUM(D24:V24) -> 1438657.4 | Y24: =W24+C24 -> 6021934.8
A25: 16 | B25: № 16 Калинонька | C25: ='березень 2026'!Y25 -> 1685300.6 | D25: 317996.41 | E25: 68728.11 | H25: 21883.86 | J25: 1585.28 | L25: 68099.44 | M25: 2310.25 | N25: 31542.26 | P25: 4382.52 | S25: 2378 | W25: =SUM(D25:V25) -> 518906.13 | Y25: =W25+C25 -> 2204206.7
A26: 17 | B26: Грушівський ЗДО Червона калина | C26: ='березень 2026'!Y26 -> 704892.32 | D26: 154402.89 | E26: 31975.92 | H26: 8199.84 | J26: 550 | N26: 31698.01 | P26: 222.84 | Q26: =39.36+1102.69+2804.3 -> 3946.35 | S26: 828 | W26: =SUM(D26:V26) -> 231823.85 | Y26: =W26+C26 -> 936716.17
A27: 18 | B27: Кінецьпільський ЗДО Струмочок | C27: ='березень 2026'!Y27 -> 896761.89 | D27: 224112.37 | E27: 51275.38 | F27: 3961.8 | H27: 22507.99 | J27: 785.29 | M27: 67.64 | N27: 25714.08 | O27: 73896.19 | Q27: 655.18 | S27: 630 | W27: =SUM(D27:V27) -> 403605.92 | Y27: =W27+C27 -> 1300367.8
A28: 19 | B28: Підгороднянський ЗДО Ромашка | C28: ='березень 2026'!Y28 -> 861254.87 | D28: 201176.3 | E28: 39152.93 | H28: 14340.88 | J28: 1103.22 | M28: 3990.76 | N28: 19950.8 | Q28: 9.8 | W28: =SUM(D28:V28) -> 279724.69 | Y28: =W28+C28 -> 1140979.6
A29: 20 | B29: Чаусівський ЗДО | C29: ='березень 2026'!Y29 -> 0 | W29: =SUM(D29:V29) -> 0 | Y29: =W29+C29 -> 0
B30: Разом по 0611010 | C30: =SUM(C10:C29) -> 45038622 | D30: =SUM(D10:D29) -> 8494939.1 | E30: =SUM(E10:E29) -> 1878223.4 | F30: =SUM(F10:F29) -> 23809.8 | G30: =SUM(G10:G29) -> 0 | H30: =SUM(H10:H29) -> 1195706.3 | I30: =SUM(I10:I29) -> 0 | J30: =SUM(J10:J29) -> 353215.31 | ... W30: =SUM(W10:W29) -> 15065140 | Y30: =SUM(Y10:Y29) -> 60103763
B31: Гімназії, ліцеї
A32: 1 | B32: № 1 | C32: ='березень 2026'!Y32 -> 5311079.5 | D32: 1185885.3 | E32: 262547.45 | F32: 74041.8 | H32: 183267.42 | I32: 20670.4 | J32: 9478.01 | M32: 5510.54 | N32: 91784.07 | O32: 128566.55 | P32: 1337.04 | Q32: 1061.89 | S32: 1656 | W32: =SUM(D32:V32) -> 1965806.5 | Y32: =W32+C32 -> 7276886
A33: 2 | B33: № 2 | C33: ='березень 2026'!Y33 -> 4125541.6 | D33: 992228.87 | E33: 209110.34 | F33: 14320 | J33: 5185.99 | M33: 449.84 | N33: 29205.79 | O33: 80602.61 | P33: 1960.99 | Q33: 1061.88 | S33: 4126 | W33: =SUM(D33:V33) -> 1338252.3 | Y33: =W33+C33 -> 5463793.9
A34: 3 | B34: № 3 (0,5) | C34: ='березень 2026'!Y34 -> 2906387.5 | D34: 681852.14 | E34: 164462.47 | F34: 8568 | H34: 88255.05 | I34: 7494.8 | J34: 10940 | K34: 600 | M34: 2980.19 | N34: 67108.43 | O34: 121600.82 | P34: 668.52 | Q34: 1061.88 | S34: 3206 | W34: =SUM(D34:V34) -> 1158798.3 | Y34: =W34+C34 -> 4065185.8
A35: 4 | B35: № 4 | C35: ='березень 2026'!Y35 -> 6920290.4 | D35: 1405111.1 | E35: 313661.01 | F35: 5728 | H35: 284764.61 | I35: 28283.6 | J35: 6005.99 | L35: 163522.71 | M35: 7854.85 | N35: 65550.78 | P35: 1782.72 | S35: 1748 | W35: =SUM(D35:V35) -> 2284013.4 | Y35: =W35+C35 -> 9204303.8
A36: 5 | B36: № 5 | C36: ='березень 2026'!Y36 -> 9700256.7 | D36: 2014973.5 | E36: 446845.11 | F36: 16440 | J36: 4920 | L36: 277499.87 | M36: 23102.5 | N36: 47014.84 | P36: 2896.92 | S36: 2180 | W36: =SUM(D36:V36) -> 2835872.8 | Y36: =W36+C36 -> 12536129
A37: 6 | B37: № 6 (0,1) | C37: ='березень 2026'!Y37 -> 2594261.5 | D37: 575097.64 | E37: 129328.84 | F37: 11726.46 | H37: 39101.66 | I37: 3280.34 | J37: 19126.67 | M37: 449.84 | N37: 31801.86 | O37: 84505.78 | P37: 222.84 | Q37: 1061.88 | S37: 2378 | W37: =SUM(D37:V37) -> 898081.81 | Y37: =W37+C37 -> 3492343.3
A38: 7 | B38: № 7 (0,5) | C38: ='березень 2026'!Y38 -> 2300855.8 | D38: 524692.62 | E38: 115665 | F38: 1432 | H38: 88255.04 | I38: 7494.8 | J38: 4605.99 | M38: 730.99 | N38: 19223.9 | O38: 68819.91 | P38: 222.84 | Q38: 1061.88 | S38: 3928 | W38: =SUM(D38:V38) -> 836132.97 | Y38: =W38+C38 -> 3136988.7
A39: 8 | B39: № 8 | C39: ='березень 2026'!Y39 -> 2180188.1 | D39: 527534.33 | E39: 112050.04 | J39: 2570 | M39: 112.46 | N39: 16627.83 | O39: 42153.29 | Q39: 1061.88 | S39: 1748 | W39: =SUM(D39:V39) -> 703857.83 | Y39: =W39+C39 -> 2884045.9
A40: 9 | B40: № 9 | C40: ='березень 2026'!Y40 -> 4374247.7 | D40: 1019434.1 | E40: 212024.6 | F40: 4284 | H40: 161527.23 | I40: 19374.05 | J40: 4920 | M40: 9425.82 | N40: 53481.64 | O40: 165384.95 | P40: 1390.52 | Q40: 1061.88 | S40: 2378 | W40: =SUM(D40:V40) -> 1654686.8 | Y40: =W40+C40 -> 6028934.5
A41: 10 | B41: № 10 (0,3) | C41: ='березень 2026'!Y41 -> 4265215.1 | D41: 979880.89 | E41: 219000.74 | F41: 1432 | H41: 117304.97 | I41: 9841 | J41: 4920 | M41: 5623 | N41: 28037.56 | O41: 159008.92 | P41: 1337.04 | Q41: 1061.88 | S41: 3206 | W41: =SUM(D41:V41) -> 1530654 | Y41: =W41+C41 -> 5795869.1
A42: 11 | B42: почат школа № 11 (1/2) | C42: ='березень 2026'!Y42 -> 3870142.8 | D42: 815248.52 | E42: 180154.01 | F42: 17767 | H42: 323515.07 | I42: 40567.3 | J42: 7461.33 | L42: 95005.94 | M42: 6006.65 | N42: 31546.58 | P42: 2941.49 | S42: 4126 | W42: =SUM(D42:V42) -> 1524339.9 | Y42: =W42+C42 -> 5394482.7
A43: 12 | B43: Л Лідер | C43: ='березень 2026'!Y43 -> 5999955.4 | D43: 1325971.8 | E43: 293706.09 | F43: 4284 | J43: 8373.31 | K43: 9202 | L43: 190011.87 | M43: 12013.3 | N43: 63093.17 | P43: 3595.15 | W43: =SUM(D43:V43) -> 1910250.7 | Y43: =W43+C43 -> 7910206.1
A44: 13 | B44: Л Престиж | C44: ='березень 2026'!Y44 -> 10429238 | D44: 1991904.5 | E44: 441743.72 | F44: 4718.4 | H44: 449770.52 | I44: 41581.6 | J44: 6005 | L44: 270700.72 | M44: 12475.35 | N44: 88025.8 | P44: 5348.16 | S44: 3298 | W44: =SUM(D44:V44) -> 3315571.8 | Y44: =W44+C44 -> 13744810
A45: 14 | B45: Л Ерудит (0,6) | C45: ='березень 2026'!Y45 -> 9202534.3 | D45: 2042139 | E45: 446443.79 | F45: 17863 | H45: 234609.94 | I45: 19682.01 | J45: 5470 | K45: 300 | L45: 136422.28 | M45: 8778.95 | N45: 100338.1 | P45: 2896.92 | S45: 1748 | W45: =SUM(D45:V45) -> 3016692 | Y45: =W45+C45 -> 12219226
A46: 15 | B46: Чаусівська гімназія | C46: ='березень 2026'!Y46 -> 127377.8 | N46: 46236.01 | W46: =SUM(D46:V46) -> 46236.01 | Y46: =W46+C46 -> 173613.81
A47: 16 | B47: Кінецьпільська гімназія | C47: ='березень 2026'!Y47 -> 4420037.9 | D47: 976248.77 | E47: 210635.74 | F47: 23948 | H47: 160439.1 | I47: 17105 | J47: 17325 | N47: 49818.59 | O47: 182656.37 | P47: 1559.88 | Q47: 1061.88 | S47: 828 | W47: =SUM(D47:V47) -> 1641626.3 | Y47: =W47+C47 -> 6061664.2
A48: 17 | B48: Підгороднянська гімназія | C48: ='березень 2026'!Y48 -> 2553993.4 | D48: 544066.54 | E48: 114552.19 | F48: 33279.98 | H48: 72954.56 | I48: 5127.95 | J48: 4250 | M48: 1380.75 | N48: 49143.61 | O48: 96023.19 | P48: 222.84 | Q48: 1061.88 | S48: 1748 | W48: =SUM(D48:V48) -> 923811.49 | Y48: =W48+C48 -> 3477804.9
A49: 18 | B49: Грушівська гімназія | C49: ='березень 2026'!Y49 -> 2011673.8 | D49: 473206.67 | E49: 102672.47 | J49: 4100 | M49: 197.25 | N49: 14797.6 | O49: 39799.29 | Q49: 1061.88 | S49: 1748 | W49: =SUM(D49:V49) -> 637583.16 | Y49: =W49+C49 -> 2649257
B50: Разом по 0611021 | C50: =SUM(C32:C49) -> 83293277 | D50: =SUM(D32:D49) -> 18075476 | E50: =SUM(E32:E49) -> 3974603.6 | F50: =SUM(F32:F49) -> 239832.64 | G50: =SUM(G32:G49) -> 0 | H50: =SUM(H32:H49) -> 2203765.2 | I50: =SUM(I32:I49) -> 220502.85 | J50: =SUM(J32:J49) -> 125657.29 | ... W50: =SUM(W32:W49) -> 28222268 | Y50: =SUM(Y32:Y49) -> 1.1151555e+08
B51: Заклади позашкільної освіти
A52: 1 | B52: ДЮЦНВ | C52: ='березень 2026'!Y52 -> 1646859.3 | D52: 289490.26 | E52: 64639.03 | F52: 4284 | J52: 904.99 | K52: 1702 | L52: 75004.5 | N52: 2738.85 | P52: 222.84 | S52: 1458 | W52: =SUM(D52:V52) -> 440444.47 | Y52: =C52+W52 -> 2087303.8
A53: 2 | B53: ЦНТТУМ | C53: ='березень 2026'!Y53 -> 1251365.5 | D53: 200195.53 | E53: 44087.12 | F53: 6426 | J53: 550 | L53: 59366.21 | M53: 373.56 | N53: 6879.58 | P53: 77.25 | S53: 1550 | W53: =SUM(D53:V53) -> 319505.25 | Y53: =C53+W53 -> 1570870.8
A54: 3 | B54: СЮН | C54: ='березень 2026'!Y54 -> 845246.89 | D54: 218652.38 | E54: 46626.47 | F54: 5997.6 | J54: 755 | N54: 3894.11 | Q54: 3255.84 | S54: 1550 | W54: =SUM(D54:V54) -> 280731.4 | Y54: =C54+W54 -> 1125978.3
B55: Разом по 0611070 | C55: =SUM(C52:C54) -> 3743471.7 | D55: =SUM(D52:D54) -> 708338.17 | E55: =SUM(E52:E54) -> 155352.62 | F55: =SUM(F52:F54) -> 16707.6 | G55: =SUM(G52:G54) -> 0 | H55: =SUM(H52:H54) -> 0 | I55: =SUM(I52:I54) -> 0 | J55: =SUM(J52:J54) -> 2209.99 | ... W55: =SUM(W52:W54) -> 1040681.1 | Y55: =SUM(Y52:Y54) -> 4784152.8
B57: ІРЦ, 0611151 | C57: ='березень 2026'!Y57 -> 496870.21 | D57: 101150.17 | E57: 30034.17 | J57: 755.99 | L57: 10882.57 | M57: 462.05 | N57: 2076.85 | S57: 2648 | W57: =SUM(D57:V57) -> 148009.8 | Y57: =C57+W57 -> 644880.01
B59: ДЮСШ, 0615031 | C59: ='березень 2026'!Y59 -> 2588997.7 | D59: 316872.55 | E59: 67914.9 | J59: 520 | K59: 5400 | L59: 122228.19 | M59: 1651.12 | N59: 86046.76 | S59: 1550 | W59: =SUM(D59:V59) -> 602183.52 | Y59: =C59+W59 -> 3191181.2
B61: метод. кабінет, 0611160 | C61: ='березень 2026'!Y61 -> 710042.87 | D61: 174737.11 | E61: 39673.18 | L61: 6354.69 | N61: 3245.09 | S61: 3766 | W61: =SUM(D61:V61) -> 227776.07 | Y61: =C61+W61 -> 937818.94
B63: Разом касових видатків за місяць | C63: Х | D63: =D30+D50+D55+D57+D59+D61 -> 27871514 | E63: =E30+E50+E55+E57+E59+E61 -> 6145801.9 | F63: =F30+F50+F55+F57+F59+F61 -> 280350.04 | G63: =G30+G50+G55+G57+G59+G61 -> 0 | H63: =H30+H50+H55+H57+H59+H61 -> 3399471.5 | I63: =I30+I50+I55+I57+I59+I61 -> 220502.85 | J63: =J30+J50+J55+J57+J59+J61 -> 482358.58 | K63: =K30+K50+K55+K57+K59+K61 -> 17204 | ... W63: =W30+W50+W55+W57+W59+W61 -> 45306059 | Y63: Х
B65: Разом касових видатків з початку року | C65: =C30+C50+C55+C57+C59+C61 -> 1.3587128e+08 | D65: =D8+D63 -> 27871514 | E65: =E8+E63 -> 6145801.9 | F65: =F8+F63 -> 280350.04 | G65: =G8+G63 -> 0 | H65: =H8+H63 -> 3399471.5 | I65: =I8+I63 -> 220502.85 | J65: =J8+J63 -> 482358.58 | K65: =K8+K63 -> 17204 | ... V65: =V8+V63 -> 0 | W65: Х | Y65: =Y30+Y50+Y55+Y57+Y59+Y61 -> 1.8117734e+08
B67: 1142 допомога дітям-сиротам | C67: ='березень 2026'!Y67 -> 1810 | R67: 3620 | W67: =SUM(D67:V67) -> 3620 | Y67: =C67+W67 -> 5430

Sheet травень 2026
B1: УПРАВЛІННЯ ОСВІТИ ПЕРВОМАЙСЬКОЇ МІСЬКОЇ РАДИ
D2: КАРТКА АНАЛІТИЧНОГО ОБЛІКУ КАСОВИХ ВИДАТКІВ
D3: за травень 2026 року
B4: ЗАГАЛЬНИЙ ФОНД
B5: грн. коп.
D6: Заробітна плата | E6: Нарахування на оплату праці | F6: предмети, обладнання та інвентар (1021, 1183, 1184, 1291, 1292 | G6: Медикаменти та перевязувальні матеріали | H6: продукти харчування | I6: продукти харчування 1403 та 1700 | J6: оплата послуг (крім комунальних) | K6: Видатки на відрядження | L6: оплата теплопостачання | M6: оплата водопостачання та водовідведення | N6: оплата електроенергії | O6: оплата природного газу | P6: оплата інших енергоносіїв (с/сміття, рідкі нечистоти) | Q6: інші поточні видатки | R6: допомога дітям | S6: спец навчання по безпеці
D7: 2111 | E7: 2120 | F7: 2210 | G7: 2220 | H7: 2230 | I7: 2230 (7фонд) | J7: 2240 | K7: 2250 | L7: 2271 | M7: 2272 | N7: 2273 | O7: 2274 | P7: 2275 | Q7: 2800 | R7: 2730 | S7: 2282 | W7: за поточний місяць | Y7: з початку року
A8: касові видатки на початок періоду | C8: =D8+E8+F8+G8+H8+I8+J8+K8+L8+M8+N8+O8+P8+Q8+R8+S8+T8+U8+V8 -> 0 | D8: ='квітень 2026'!D81 -> 0 | E8: ='квітень 2026'!E81 -> 0 | F8: ='квітень 2026'!F81 -> 0 | G8: ='квітень 2026'!G81 -> 0 | H8: ='квітень 2026'!H81 -> 0 | I8: ='квітень 2026'!I81 -> 0 | J8: ='квітень 2026'!J81 -> 0 | K8: ='квітень 2026'!K81 -> 0 | ... V8: ='квітень 2026'!V81 -> 0 | W8: Х | Y8: Х
A9: 1 | B9: ЦНТТУМ | C9: ='квітень 2026'!Y53 -> 1570870.8 | D9: 203820.73 | E9: 43746.5 | F9: 890 | J9: 4611.06 | M9: 373.56 | N9: 15996.28 | P9: 77.25 | W9: =SUM(D9:V9) -> 269515.38 | Y9: =C9+W9 -> 1840386.1

Sheet червень 2026 
B1: УПРАВЛІННЯ ОСВІТИ ПЕРВОМАЙСЬКОЇ МІСЬКОЇ РАДИ
D2: КАРТКА АНАЛІТИЧНОГО ОБЛІКУ КАСОВИХ ВИДАТКІВ
B4: ЗАГАЛЬНИЙ ФОНД
B5: грн. коп.
D6: Заробітна плата | E6: Нарахування на оплату праці | F6: предмети, обладнання та інвентар (1021, 1183, 1184, 1291, 1292 | G6: Медикаменти та перевязувальні матеріали | H6: продукти харчування | I6: продукти харчування 1403 та 1700 | J6: оплата послуг (крім комунальних) | K6: Видатки на відрядження | L6: оплата теплопостачання | M6: оплата водопостачання та водовідведення | N6: оплата електроенергії | O6: оплата природного газу | P6: оплата інших енергоносіїв (с/сміття, рідкі нечистоти) | Q6: інші виплати | R6: інші поточні видатки | S6: Навчання по тех безпеці
D7: 2111 | E7: 2120 | F7: 2210 | G7: 2220 | H7: 2230 | I7: 2230 (7фонд) | J7: 2240 | K7: 2250 | L7: 2271 | M7: 2272 | N7: 2273 | O7: 2274 | P7: 2275 | Q7: 2730 | R7: 2800 | S7: 2282 | W7: за поточний місяць | Y7: з початку року
A8: касові видатки на початок періоду | C8: =D8+E8+F8+G8+H8+I8+J8+K8+L8+M8+N8+O8+P8+Q8+R8+S8+T8+U8+V8 -> 0 | D8: ='травень 2026'!D23 -> 0 | E8: ='травень 2026'!E23 -> 0 | F8: ='травень 2026'!F23 -> 0 | G8: ='травень 2026'!G23 -> 0 | H8: ='травень 2026'!H23 -> 0 | I8: ='травень 2026'!I23 -> 0 | J8: ='травень 2026'!J23 -> 0 | K8: ='травень 2026'!K23 -> 0 | ... V8: ='травень 2026'!V23 -> 0 | W8: Х | Y8: Х
B9: Заклади дошкільної освіти
A10: 1 | B10: № 1 Ластівка | C10: ='травень 2026'!#REF! -> #REF! | W10: =SUM(D10:V10) -> 0 | Y10: =W10+C10 -> #REF!
A11: 2 | B11: № 2 Сонечко | C11: ='травень 2026'!#REF! -> #REF! | W11: =SUM(D11:V11) -> 0 | Y11: =W11+C11 -> #REF!
A12: 3 | B12: № 3 Дюймовочка | C12: ='травень 2026'!#REF! -> #REF! | W12: =SUM(D12:V12) -> 0 | Y12: =W12+C12 -> #REF!
A13: 4 | B13: № 4 Дельфін | C13: ='травень 2026'!#REF! -> #REF! | W13: =SUM(D13:V13) -> 0 | Y13: =W13+C13 -> #REF!
A14: 5 | B14: № 5 Золота рибка | C14: ='травень 2026'!#REF! -> #REF! | W14: =SUM(D14:V14) -> 0 | Y14: =W14+C14 -> #REF!
A15: 6 | B15: № 6 Дзвіночок | C15: ='травень 2026'!#REF! -> #REF! | W15: =SUM(D15:V15) -> 0 | Y15: =W15+C15 -> #REF!
A16: 7 | B16: № 7 Перлинка | C16: ='травень 2026'!#REF! -> #REF! | W16: =SUM(D16:V16) -> 0 | Y16: =W16+C16 -> #REF!
A17: 8 | B17: № 8 Вербиченька | C17: ='травень 2026'!#REF! -> #REF! | W17: =SUM(D17:V17) -> 0 | Y17: =W17+C17 -> #REF!
A18: 9 | B18: № 9 Краплинка | C18: ='травень 2026'!#REF! -> #REF! | W18: =SUM(D18:V18) -> 0 | Y18: =W18+C18 -> #REF!
A19: 10 | B19: № 10 Білочка | C19: ='травень 2026'!#REF! -> #REF! | W19: =SUM(D19:V19) -> 0 | Y19: =W19+C19 -> #REF!
A20: 11 | B20: № 11 Дивограй | C20: ='травень 2026'!#REF! -> #REF! | W20: =SUM(D20:V20) -> 0 | Y20: =W20+C20 -> #REF!
A21: 12 | B21: № 12 Струмочок | C21: ='травень 2026'!#REF! -> #REF! | W21: =SUM(D21:V21) -> 0 | Y21: =W21+C21 -> #REF!
... A29: 20 | B29: Чаусівський ЗДО | C29: ='травень 2026'!#REF! -> #REF! | W29: =SUM(D29:V29) -> 0 | Y29: =W29+C29 -> #REF!
B30: Разом по 0611010 | C30: =SUM(C10:C29) -> #REF! | D30: =SUM(D10:D29) -> 0 | E30: =SUM(E10:E29) -> 0 | F30: =SUM(F10:F29) -> 0 | G30: =SUM(G10:G29) -> 0 | H30: =SUM(H10:H29) -> 0 | I30: =SUM(I10:I29) -> 0 | J30: =SUM(J10:J29) -> 0 | ... W30: =SUM(W10:W29) -> 0 | Y30: =SUM(Y10:Y29) -> #REF!
B31: Гімназії, ліцеї
A32: 1 | B32: № 1 | C32: ='травень 2026'!#REF! -> #REF! | W32: =SUM(D32:V32) -> 0 | Y32: =W32+C32 -> #REF!
A33: 2 | B33: № 2 | C33: ='травень 2026'!#REF! -> #REF! | W33: =SUM(D33:V33) -> 0 | Y33: =W33+C33 -> #REF!
A34: 3 | B34: № 3 (1/2) | C34: ='травень 2026'!#REF! -> #REF! | W34: =SUM(D34:V34) -> 0 | Y34: =W34+C34 -> #REF!
A35: 4 | B35: № 4 | C35: ='травень 2026'!#REF! -> #REF! | W35: =SUM(D35:V35) -> 0 | Y35: =W35+C35 -> #REF!
A36: 5 | B36: № 5 | C36: ='травень 2026'!#REF! -> #REF! | W36: =SUM(D36:V36) -> 0 | Y36: =W36+C36 -> #REF!
A37: 6 | B37: № 6 (1/4) | C37: ='травень 2026'!#REF! -> #REF! | W37: =SUM(D37:V37) -> 0 | Y37: =W37+C37 -> #REF!
A38: 7 | B38: № 7 (1/2) | C38: ='травень 2026'!#REF! -> #REF! | W38: =SUM(D38:V38) -> 0 | Y38: =W38+C38 -> #REF!
A39: 8 | B39: № 8 | C39: ='травень 2026'!#REF! -> #REF! | W39: =SUM(D39:V39) -> 0 | Y39: =W39+C39 -> #REF!
A40: 9 | B40: № 9 | C40: ='травень 2026'!#REF! -> #REF! | W40: =SUM(D40:V40) -> 0 | Y40: =W40+C40 -> #REF!
A41: 10 | B41: № 10 (1/2) | C41: ='травень 2026'!#REF! -> #REF! | W41: =SUM(D41:V41) -> 0 | Y41: =W41+C41 -> #REF!
A42: 11 | B42: почат школа № 11 (1/2) | C42: ='травень 2026'!#REF! -> #REF! | W42: =SUM(D42:V42) -> 0 | Y42: =W42+C42 -> #REF!
A43: 12 | B43: Л Лідер | C43: ='травень 2026'!#REF! -> #REF! | W43: =SUM(D43:V43) -> 0 | Y43: =W43+C43 -> #REF!
... A49: 18 | B49: Грушівська гімназія | C49: ='травень 2026'!#REF! -> #REF! | W49: =SUM(D49:V49) -> 0 | Y49: =W49+C49 -> #REF!
B50: Разом по 0611021 | C50: =SUM(C32:C49) -> #REF! | D50: =SUM(D32:D49) -> 0 | E50: =SUM(E32:E49) -> 0 | F50: =SUM(F32:F49) -> 0 | G50: =SUM(G32:G49) -> 0 | H50: =SUM(H32:H49) -> 0 | I50: =SUM(I32:I49) -> 0 | J50: =SUM(J32:J49) -> 0 | ... W50: =SUM(W32:W49) -> 0 | Y50: =SUM(Y32:Y49) -> #REF!
B51: Заклади позашкільної освіти
A52: 1 | B52: ДЮЦНВ | C52: ='травень 2026'!#REF! -> #REF! | W52: =SUM(D52:V52) -> 0 | Y52: =C52+W52 -> #REF!
A53: 2 | B53: ЦНТТУМ | C53: ='травень 2026'!Y9 -> 1840386.1 | W53: =SUM(D53:V53) -> 0 | Y53: =C53+W53 -> 1840386.1
A54: 3 | B54: СЮН | C54: ='травень 2026'!#REF! -> #REF! | W54: =SUM(D54:V54) -> 0 | Y54: =C54+W54 -> #REF!
B55: Разом по 0611070 | C55: =SUM(C52:C54) -> #REF! | D55: =SUM(D52:D54) -> 0 | E55: =SUM(E52:E54) -> 0 | F55: =SUM(F52:F54) -> 0 | G55: =SUM(G52:G54) -> 0 | H55: =SUM(H52:H54) -> 0 | I55: =SUM(I52:I54) -> 0 | J55: =SUM(J52:J54) -> 0 | ... W55: =SUM(W52:W54) -> 0 | Y55: =SUM(Y52:Y54) -> #REF!
B57: ІРЦ, 0611151 | C57: ='травень 2026'!#REF! -> #REF! | W57: =SUM(D57:V57) -> 0 | Y57: =C57+W57 -> #REF!
B59: ДЮСШ, 0615031 | C59: ='травень 2026'!#REF! -> #REF! | W59: =SUM(D59:V59) -> 0 | Y59: =C59+W59 -> #REF!
B61: метод. кабінет, 0611160 | C61: ='травень 2026'!#REF! -> #REF! | W61: =SUM(D61:V61) -> 0 | Y61: =C61+W61 -> #REF!
B63: Разом касових видатків за місяць | C63: Х | D63: =D30+D50+D55+D57+D59+D61 -> 0 | E63: =E30+E50+E55+E57+E59+E61 -> 0 | F63: =F30+F50+F55+F57+F59+F61 -> 0 | G63: =G30+G50+G55+G57+G59+G61 -> 0 | H63: =H30+H50+H55+H57+H59+H61 -> 0 | I63: =I30+I50+I55+I57+I59+I61 -> 0 | J63: =J30+J50+J55+J57+J59+J61 -> 0 | K63: =K30+K50+K55+K57+K59+K61 -> 0 | ... W63: =W30+W50+W55+W57+W59+W61 -> 0 | Y63: Х
B65: Разом касових видатків з початку року | C65: =C30+C50+C55+C57+C59+C61 -> #REF! | D65: =D8+D63 -> 0 | E65: =E8+E63 -> 0 | F65: =F8+F63 -> 0 | G65: =G8+G63 -> 0 | H65: =H8+H63 -> 0 | I65: =I8+I63 -> 0 | J65: =J8+J63 -> 0 | K65: =K8+K63 -> 0 | ... V65: =V8+V63 -> 0 | W65: Х | Y65: =Y30+Y50+Y55+Y57+Y59+Y61 -> #REF!
B67: 1142 допомога дітям-сиротам | C67: ='травень 2026'!#REF! -> #REF! | W67: =SUM(D67:V67) -> 0 | Y67: =C67+W67 -> #REF!

Sheet липень 2026
B1: УПРАВЛІННЯ ОСВІТИ ПЕРВОМАЙСЬКОЇ МІСЬКОЇ РАДИ
D2: КАРТКА АНАЛІТИЧНОГО ОБЛІКУ КАСОВИХ ВИДАТКІВ
D3: за липень 2026 року
B4: ЗАГАЛЬНИЙ ФОНД
B5: грн. коп.
D6: Заробітна плата (1031, 1600, 1200, 1152 | E6: Нарахування на оплату праці | F6: предмети, обладнання та інвентар (1021, 1183, 1184, 1291, 1292 | G6: Медикаменти та перевязувальні матеріали | H6: продукти харчування | I6: продукти харчування 1403 та 1700 | J6: оплата послуг (крім комунальних) | K6: Видатки на відрядження | L6: оплата теплопостачання | M6: оплата водопостачання та водовідведення | N6: оплата електроенергії | O6: оплата природного газу | P6: оплата інших енергоносіїв (с/сміття, рідкі нечистоти) | Q6: інші виплати | R6: інші поточні видатки | S6: Навчання по тех безпеці
D7: 2111 | E7: 2120 | F7: 2210 | G7: 2220 | H7: 2230 | I7: 2230 (7фонд) | J7: 2240 | K7: 2250 | L7: 2271 | M7: 2272 | N7: 2273 | O7: 2274 | P7: 2275 | Q7: 2730 | R7: 2800 | S7: 2282 | W7: за поточний місяць | Y7: з початку року
A8: касові видатки на початок періоду | C8: =D8+E8+F8+G8+H8+I8+J8+K8+L8+M8+N8+O8+P8+Q8+R8+S8+T8+U8+V8 -> 0 | D8: ='червень 2026 '!D81 -> 0 | E8: ='червень 2026 '!E81 -> 0 | F8: ='червень 2026 '!F81 -> 0 | G8: ='червень 2026 '!G81 -> 0 | H8: ='червень 2026 '!H81 -> 0 | I8: ='червень 2026 '!I81 -> 0 | J8: ='червень 2026 '!J81 -> 0 | K8: ='червень 2026 '!K81 -> 0 | ... V8: ='червень 2026 '!V81 -> 0 | W8: Х | Y8: Х
B9: Заклади дошкільної освіти
A10: 1 | B10: № 1 Ластівка | C10: ='червень 2026 '!Y10 -> #REF! | W10: =SUM(D10:V10) -> 0 | Y10: =W10+C10 -> #REF!
A11: 2 | B11: № 2 Сонечко | C11: ='червень 2026 '!Y11 -> #REF! | W11: =SUM(D11:V11) -> 0 | Y11: =W11+C11 -> #REF!
A12: 3 | B12: № 3 Дюймовочка | C12: ='червень 2026 '!Y12 -> #REF! | W12: =SUM(D12:V12) -> 0 | Y12: =W12+C12 -> #REF!
A13: 4 | B13: № 4 Дельфін | C13: ='червень 2026 '!Y13 -> #REF! | W13: =SUM(D13:V13) -> 0 | Y13: =W13+C13 -> #REF!
A14: 5 | B14: № 5 Золота рибка | C14: ='червень 2026 '!Y14 -> #REF! | W14: =SUM(D14:V14) -> 0 | Y14: =W14+C14 -> #REF!
A15: 6 | B15: № 6 Дзвіночок | C15: ='червень 2026 '!Y15 -> #REF! | W15: =SUM(D15:V15) -> 0 | Y15: =W15+C15 -> #REF!
A16: 7 | B16: № 7 Перлинка | C16: ='червень 2026 '!Y16 -> #REF! | W16: =SUM(D16:V16) -> 0 | Y16: =W16+C16 -> #REF!
A17: 8 | B17: № 8 Вербиченька | C17: ='червень 2026 '!Y17 -> #REF! | W17: =SUM(D17:V17) -> 0 | Y17: =W17+C17 -> #REF!
A18: 9 | B18: № 9 Краплинка | C18: ='червень 2026 '!Y18 -> #REF! | W18: =SUM(D18:V18) -> 0 | Y18: =W18+C18 -> #REF!
A19: 10 | B19: № 10 Білочка | C19: ='червень 2026 '!Y19 -> #REF! | W19: =SUM(D19:V19) -> 0 | Y19: =W19+C19 -> #REF!
A20: 11 | B20: № 11 Дивограй | C20: ='червень 2026 '!Y20 -> #REF! | W20: =SUM(D20:V20) -> 0 | Y20: =W20+C20 -> #REF!
A21: 12 | B21: № 12 Струмочок | C21: ='червень 2026 '!Y21 -> #REF! | W21: =SUM(D21:V21) -> 0 | Y21: =W21+C21 -> #REF!
... A29: 20 | B29: Чаусівський ЗДО | C29: ='червень 2026 '!Y29 -> #REF! | W29: =SUM(D29:V29) -> 0 | Y29: =W29+C29 -> #REF!
B30: Разом по 0611010 | C30: =SUM(C10:C29) -> #REF! | D30: =SUM(D10:D29) -> 0 | E30: =SUM(E10:E29) -> 0 | F30: =SUM(F10:F29) -> 0 | G30: =SUM(G10:G29) -> 0 | H30: =SUM(H10:H29) -> 0 | I30: =SUM(I10:I29) -> 0 | J30: =SUM(J10:J29) -> 0 | ... W30: =SUM(W10:W29) -> 0 | Y30: =SUM(Y10:Y29) -> #REF!
B31: Гімназії, ліцеї
A32: 1 | B32: № 1 | C32: ='червень 2026 '!Y32 -> #REF! | W32: =SUM(D32:V32) -> 0 | Y32: =W32+C32 -> #REF!
A33: 2 | B33: № 2 | C33: ='червень 2026 '!Y33 -> #REF! | W33: =SUM(D33:V33) -> 0 | Y33: =W33+C33 -> #REF!
A34: 3 | B34: № 3 (1/2) | C34: ='червень 2026 '!Y34 -> #REF! | W34: =SUM(D34:V34) -> 0 | Y34: =W34+C34 -> #REF!
A35: 4 | B35: № 4 | C35: ='червень 2026 '!Y35 -> #REF! | W35: =SUM(D35:V35) -> 0 | Y35: =W35+C35 -> #REF!
A36: 5 | B36: № 5 | C36: ='червень 2026 '!Y36 -> #REF! | W36: =SUM(D36:V36) -> 0 | Y36: =W36+C36 -> #REF!
A37: 6 | B37: № 6 (1/4) | C37: ='червень 2026 '!Y37 -> #REF! | W37: =SUM(D37:V37) -> 0 | Y37: =W37+C37 -> #REF!
A38: 7 | B38: № 7 (1/2) | C38: ='червень 2026 '!Y38 -> #REF! | W38: =SUM(D38:V38) -> 0 | Y38: =W38+C38 -> #REF!
A39: 8 | B39: № 8 | C39: ='червень 2026 '!Y39 -> #REF! | W39: =SUM(D39:V39) -> 0 | Y39: =W39+C39 -> #REF!
A40: 9 | B40: № 9 | C40: ='червень 2026 '!Y40 -> #REF! | W40: =SUM(D40:V40) -> 0 | Y40: =W40+C40 -> #REF!
A41: 10 | B41: № 10 (1/2) | C41: ='червень 2026 '!Y41 -> #REF! | W41: =SUM(D41:V41) -> 0 | Y41: =W41+C41 -> #REF!
A42: 11 | B42: почат школа № 11 (1/2) | C42: ='червень 2026 '!Y42 -> #REF! | W42: =SUM(D42:V42) -> 0 | Y42: =W42+C42 -> #REF!
A43: 12 | B43: Л Лідер | C43: ='червень 2026 '!Y43 -> #REF! | W43: =SUM(D43:V43) -> 0 | Y43: =W43+C43 -> #REF!
... A49: 18 | B49: Грушівська гімназія | C49: ='червень 2026 '!Y49 -> #REF! | W49: =SUM(D49:V49) -> 0 | Y49: =W49+C49 -> #REF!
B50: Разом по 0611021 | C50: =SUM(C32:C49) -> #REF! | D50: =SUM(D32:D49) -> 0 | E50: =SUM(E32:E49) -> 0 | F50: =SUM(F32:F49) -> 0 | G50: =SUM(G32:G49) -> 0 | H50: =SUM(H32:H49) -> 0 | I50: =SUM(I32:I49) -> 0 | J50: =SUM(J32:J49) -> 0 | ... W50: =SUM(W32:W49) -> 0 | Y50: =SUM(Y32:Y49) -> #REF!
B51: Заклади позашкільної освіти
A52: 1 | B52: ДЮЦНВ | C52: ='червень 2026 '!Y52 -> #REF! | W52: =SUM(D52:V52) -> 0 | Y52: =C52+W52 -> #REF!
A53: 2 | B53: ЦНТТУМ | C53: ='червень 2026 '!Y53 -> 1840386.1 | W53: =SUM(D53:V53) -> 0 | Y53: =C53+W53 -> 1840386.1
A54: 3 | B54: СЮН | C54: ='червень 2026 '!Y54 -> #REF! | W54: =SUM(D54:V54) -> 0 | Y54: =C54+W54 -> #REF!
B55: Разом по 0611070 | C55: =SUM(C52:C54) -> #REF! | D55: =SUM(D52:D54) -> 0 | E55: =SUM(E52:E54) -> 0 | F55: =SUM(F52:F54) -> 0 | G55: =SUM(G52:G54) -> 0 | H55: =SUM(H52:H54) -> 0 | I55: =SUM(I52:I54) -> 0 | J55: =SUM(J52:J54) -> 0 | ... W55: =SUM(W52:W54) -> 0 | Y55: =SUM(Y52:Y54) -> #REF!
B57: ІРЦ, 0611151 | C57: ='червень 2026 '!Y57 -> #REF! | W57: =SUM(D57:V57) -> 0 | Y57: =C57+W57 -> #REF!
B59: ДЮСШ, 0615031 | C59: ='червень 2026 '!Y59 -> #REF! | W59: =SUM(D59:V59) -> 0 | Y59: =C59+W59 -> #REF!
B61: метод. кабінет, 0611160 | C61: ='червень 2026 '!Y61 -> #REF! | W61: =SUM(D61:V61) -> 0 | Y61: =C61+W61 -> #REF!
B63: Разом касових видатків за місяць | C63: Х | D63: =D30+D50+D55+D57+D59+D61 -> 0 | E63: =E30+E50+E55+E57+E59+E61 -> 0 | F63: =F30+F50+F55+F57+F59+F61 -> 0 | G63: =G30+G50+G55+G57+G59+G61 -> 0 | H63: =H30+H50+H55+H57+H59+H61 -> 0 | I63: =I30+I50+I55+I57+I59+I61 -> 0 | J63: =J30+J50+J55+J57+J59+J61 -> 0 | K63: =K30+K50+K55+K57+K59+K61 -> 0 | ... W63: =W30+W50+W55+W57+W59+W61 -> 0 | Y63: Х
B65: Разом касових видатків з початку року | C65: =C30+C50+C55+C57+C59+C61 -> #REF! | D65: =D8+D63 -> 0 | E65: =E8+E63 -> 0 | F65: =F8+F63 -> 0 | G65: =G8+G63 -> 0 | H65: =H8+H63 -> 0 | I65: =I8+I63 -> 0 | J65: =J8+J63 -> 0 | K65: =K8+K63 -> 0 | ... V65: =V8+V63 -> 0 | W65: Х | Y65: =Y30+Y50+Y55+Y57+Y59+Y61 -> #REF!
B67: 1142 допомога дітям-сиротам | C67: ='червень 2026 '!Y67 -> #REF! | W67: =SUM(D67:V67) -> 0 | Y67: =C67+W67 -> #REF!

Sheet серпень 2026 
B1: УПРАВЛІННЯ ОСВІТИ ПЕРВОМАЙСЬКОЇ МІСЬКОЇ РАДИ
D2: КАРТКА АНАЛІТИЧНОГО ОБЛІКУ КАСОВИХ ВИДАТКІВ
D3: за серпень 2026 року
B4: ЗАГАЛЬНИЙ ФОНД
B5: грн. коп.
D6: заробітна плата (1031, 1600, 1200, 1152 | E6: нарахування на оплату праці | F6: предмети, обладнання та інвентар (1021, 1183, 1184, 1291, 1292 | G6: медикаменти та перевязувальні матеріали | H6: продукти харчування | I6: продукти харчування 1403 та 1700 | J6: оплата послуг (крім комунальних) | K6: видатки на відрядження | L6: оплата теплопостачання | M6: оплата водопостачання та водовідведення | N6: оплата електроенергії | O6: оплата природного газу | P6: оплата інших енергоносіїв (с/сміття, вугілля) | Q6: інші виплати | R6: інші поточні видатки | S6: Навчання по тех безпеці
D7: 2111 | E7: 2120 | F7: 2210 | G7: 2220 | H7: 2230 | I7: 2230 (7фонд) | J7: 2240 | K7: 2250 | L7: 2271 | M7: 2272 | N7: 2273 | O7: 2274 | P7: 2275 | Q7: 2730 | R7: 2800 | S7: 2282 | W7: за поточний місяць | Y7: з початку року
A8: касові видатки на початок періоду | C8: =D8+E8+F8+G8+H8+I8+J8+K8+L8+M8+N8+O8+P8+Q8+R8+S8+T8+U8+V8 -> 0 | D8: ='липень 2026'!D81 -> 0 | E8: ='липень 2026'!E81 -> 0 | F8: ='липень 2026'!F81 -> 0 | G8: ='липень 2026'!G81 -> 0 | H8: ='липень 2026'!H81 -> 0 | I8: ='липень 2026'!I81 -> 0 | J8: ='липень 2026'!J81 -> 0 | K8: ='липень 2026'!K81 -> 0 | ... V8: ='липень 2026'!V81 -> 0 | W8: Х | Y8: Х
B9: Заклади дошкільної освіти
A10: 1 | B10: № 1 Ластівка | C10: ='липень 2026'!Y10 -> #REF! | W10: =SUM(D10:V10) -> 0 | Y10: =W10+C10 -> #REF!
A11: 2 | B11: № 2 Сонечко | C11: ='липень 2026'!Y11 -> #REF! | W11: =SUM(D11:V11) -> 0 | Y11: =W11+C11 -> #REF!
A12: 3 | B12: № 3 Дюймовочка | C12: ='липень 2026'!Y12 -> #REF! | W12: =SUM(D12:V12) -> 0 | Y12: =W12+C12 -> #REF!
A13: 4 | B13: № 4 Дельфін | C13: ='липень 2026'!Y13 -> #REF! | W13: =SUM(D13:V13) -> 0 | Y13: =W13+C13 -> #REF!
A14: 5 | B14: № 5 Золота рибка | C14: ='липень 2026'!Y14 -> #REF! | W14: =SUM(D14:V14) -> 0 | Y14: =W14+C14 -> #REF!
A15: 6 | B15: № 6 Дзвіночок | C15: ='липень 2026'!Y15 -> #REF! | W15: =SUM(D15:V15) -> 0 | Y15: =W15+C15 -> #REF!
A16: 7 | B16: № 7 Перлинка | C16: ='липень 2026'!Y16 -> #REF! | W16: =SUM(D16:V16) -> 0 | Y16: =W16+C16 -> #REF!
A17: 8 | B17: № 8 Вербиченька | C17: ='липень 2026'!Y17 -> #REF! | W17: =SUM(D17:V17) -> 0 | Y17: =W17+C17 -> #REF!
A18: 9 | B18: № 9 Краплинка | C18: ='липень 2026'!Y18 -> #REF! | W18: =SUM(D18:V18) -> 0 | Y18: =W18+C18 -> #REF!
A19: 10 | B19: № 10 Білочка | C19: ='липень 2026'!Y19 -> #REF! | W19: =SUM(D19:V19) -> 0 | Y19: =W19+C19 -> #REF!
A20: 11 | B20: № 11 Дивограй | C20: ='липень 2026'!Y20 -> #REF! | W20: =SUM(D20:V20) -> 0 | Y20: =W20+C20 -> #REF!
A21: 12 | B21: № 12 Струмочок | C21: ='липень 2026'!Y21 -> #REF! | W21: =SUM(D21:V21) -> 0 | Y21: =W21+C21 -> #REF!
... A29: 20 | B29: Чаусівський ЗДО | C29: ='липень 2026'!Y29 -> #REF! | W29: =SUM(D29:V29) -> 0 | Y29: =W29+C29 -> #REF!
B30: Разом по 0611010 | C30: =SUM(C10:C29) -> #REF! | D30: =SUM(D10:D29) -> 0 | E30: =SUM(E10:E29) -> 0 | F30: =SUM(F10:F29) -> 0 | G30: =SUM(G10:G29) -> 0 | H30: =SUM(H10:H29) -> 0 | I30: =SUM(I10:I29) -> 0 | J30: =SUM(J10:J29) -> 0 | ... W30: =SUM(W10:W29) -> 0 | Y30: =SUM(Y10:Y29) -> #REF!
B31: Гімназії, ліцеї
A32: 1 | B32: № 1 | C32: ='липень 2026'!Y32 -> #REF! | W32: =SUM(D32:V32) -> 0 | Y32: =W32+C32 -> #REF!
A33: 2 | B33: № 2 | C33: ='липень 2026'!Y33 -> #REF! | W33: =SUM(D33:V33) -> 0 | Y33: =W33+C33 -> #REF!
A34: 3 | B34: № 3 (1/2) | C34: ='липень 2026'!Y34 -> #REF! | W34: =SUM(D34:V34) -> 0 | Y34: =W34+C34 -> #REF!
A35: 4 | B35: № 4 | C35: ='липень 2026'!Y35 -> #REF! | W35: =SUM(D35:V35) -> 0 | Y35: =W35+C35 -> #REF!
A36: 5 | B36: № 5 | C36: ='липень 2026'!Y36 -> #REF! | W36: =SUM(D36:V36) -> 0 | Y36: =W36+C36 -> #REF!
A37: 6 | B37: № 6 (1/4) | C37: ='липень 2026'!Y37 -> #REF! | W37: =SUM(D37:V37) -> 0 | Y37: =W37+C37 -> #REF!
A38: 7 | B38: № 7 (1/2) | C38: ='липень 2026'!Y38 -> #REF! | W38: =SUM(D38:V38) -> 0 | Y38: =W38+C38 -> #REF!
A39: 8 | B39: № 8 | C39: ='липень 2026'!Y39 -> #REF! | W39: =SUM(D39:V39) -> 0 | Y39: =W39+C39 -> #REF!
A40: 9 | B40: № 9 | C40: ='липень 2026'!Y40 -> #REF! | W40: =SUM(D40:V40) -> 0 | Y40: =W40+C40 -> #REF!
A41: 10 | B41: № 10 (1/2) | C41: ='липень 2026'!Y41 -> #REF! | W41: =SUM(D41:V41) -> 0 | Y41: =W41+C41 -> #REF!
A42: 11 | B42: почат школа № 11 (1/2) | C42: ='липень 2026'!Y42 -> #REF! | W42: =SUM(D42:V42) -> 0 | Y42: =W42+C42 -> #REF!
A43: 12 | B43: Л Лідер | C43: ='липень 2026'!Y43 -> #REF! | W43: =SUM(D43:V43) -> 0 | Y43: =W43+C43 -> #REF!
... A49: 18 | B49: Грушівська гімназія | C49: ='липень 2026'!Y49 -> #REF! | W49: =SUM(D49:V49) -> 0 | Y49: =W49+C49 -> #REF!
B50: Разом по 0611021 | C50: =SUM(C32:C49) -> #REF! | D50: =SUM(D32:D49) -> 0 | E50: =SUM(E32:E49) -> 0 | F50: =SUM(F32:F49) -> 0 | G50: =SUM(G32:G49) -> 0 | H50: =SUM(H32:H49) -> 0 | I50: =SUM(I32:I49) -> 0 | J50: =SUM(J32:J49) -> 0 | ... W50: =SUM(W32:W49) -> 0 | Y50: =SUM(Y32:Y49) -> #REF!
B51: Заклади позашкільної освіти
A52: 1 | B52: ДЮЦНВ | C52: ='липень 2026'!Y52 -> #REF! | W52: =SUM(D52:V52) -> 0 | Y52: =C52+W52 -> #REF!
A53: 2 | B53: ЦНТТУМ | C53: ='липень 2026'!Y53 -> 1840386.1 | W53: =SUM(D53:V53) -> 0 | Y53: =C53+W53 -> 1840386.1
A54: 3 | B54: СЮН | C54: ='липень 2026'!Y54 -> #REF! | W54: =SUM(D54:V54) -> 0 | Y54: =C54+W54 -> #REF!
B55: Разом по 0611070 | C55: =SUM(C52:C54) -> #REF! | D55: =SUM(D52:D54) -> 0 | E55: =SUM(E52:E54) -> 0 | F55: =SUM(F52:F54) -> 0 | G55: =SUM(G52:G54) -> 0 | H55: =SUM(H52:H54) -> 0 | I55: =SUM(I52:I54) -> 0 | J55: =SUM(J52:J54) -> 0 | ... W55: =SUM(W52:W54) -> 0 | Y55: =SUM(Y52:Y54) -> #REF!
B57: ІРЦ, 0611151 | C57: ='липень 2026'!Y57 -> #REF! | W57: =SUM(D57:V57) -> 0 | Y57: =C57+W57 -> #REF!
B59: ДЮСШ, 0615031 | C59: ='липень 2026'!Y59 -> #REF! | W59: =SUM(D59:V59) -> 0 | Y59: =C59+W59 -> #REF!
B61: метод. кабінет, 0611160 | C61: ='липень 2026'!Y61 -> #REF! | W61: =SUM(D61:V61) -> 0 | Y61: =C61+W61 -> #REF!
B63: Разом касових видатків за місяць | C63: Х | D63: =D30+D50+D55+D57+D59+D61 -> 0 | E63: =E30+E50+E55+E57+E59+E61 -> 0 | F63: =F30+F50+F55+F57+F59+F61 -> 0 | G63: =G30+G50+G55+G57+G59+G61 -> 0 | H63: =H30+H50+H55+H57+H59+H61 -> 0 | I63: =I30+I50+I55+I57+I59+I61 -> 0 | J63: =J30+J50+J55+J57+J59+J61 -> 0 | K63: =K30+K50+K55+K57+K59+K61 -> 0 | ... W63: =W30+W50+W55+W57+W59+W61 -> 0 | Y63: Х
B65: Разом касових видатків з початку року | C65: =C30+C50+C55+C57+C59+C61 -> #REF! | D65: =D8+D63 -> 0 | E65: =E8+E63 -> 0 | F65: =F8+F63 -> 0 | G65: =G8+G63 -> 0 | H65: =H8+H63 -> 0 | I65: =I8+I63 -> 0 | J65: =J8+J63 -> 0 | K65: =K8+K63 -> 0 | ... V65: =V8+V63 -> 0 | W65: Х | Y65: =Y30+Y50+Y55+Y57+Y59+Y61 -> #REF!
B67: 1142 допомога дітям-сиротам | C67: ='липень 2026'!Y67 -> #REF! | W67: =SUM(D67:V67) -> 0 | Y67: =C67+W67 -> #REF!

Sheet вересень 2026
B1: УПРАВЛІННЯ ОСВІТИ ПЕРВОМАЙСЬКОЇ МІСЬКОЇ РАДИ
D2: КАРТКА АНАЛІТИЧНОГО ОБЛІКУ КАСОВИХ ВИДАТКІВ
D3: за вересень 2026 року
B4: ЗАГАЛЬНИЙ ФОНД
B5: грн. коп.
D6: заробітна плата (1031, 1600, 1200, 1152 | E6: нарахування на оплату праці | F6: предмети, обладнання та інвентар (1021, 1183, 1184, 1291, 1292 | G6: медикаменти та перевязувальні матеріали | H6: продукти харчування | I6: продукти харчування 1403 та 1700 | J6: оплата послуг (крім комунальних) + (7691) | K6: видатки на відрядження | L6: оплата теплопостачання | M6: оплата водопостачання та водовідведення | N6: оплата електроенергії | O6: оплата природного газу | P6: оплата інших енергоносіїв (с/сміття) | Q6: інші виплати | R6: інші поточні видатки | S6: Навчання по тех безпеці
D7: 2111 | E7: 2120 | F7: 2210 | G7: 2220 | H7: 2230 | I7: 2230 (7фонд) | J7: 2240 | K7: 2250 | L7: 2271 | M7: 2272 | N7: 2273 | O7: 2274 | P7: 2275 | Q7: 2730 | R7: 2800 | S7: 2282 | W7: за поточний місяць | Y7: з початку року
A8: касові видатки на початок періоду | C8: =D8+E8+F8+G8+H8+I8+J8+K8+L8+M8+N8+O8+P8+Q8+R8+S8+T8+U8+V8 -> 0 | D8: ='серпень 2026 '!D81 -> 0 | E8: ='серпень 2026 '!E81 -> 0 | F8: ='серпень 2026 '!F81 -> 0 | G8: ='серпень 2026 '!G81 -> 0 | H8: ='серпень 2026 '!H81 -> 0 | I8: ='серпень 2026 '!I81 -> 0 | J8: ='серпень 2026 '!J81 -> 0 | K8: ='серпень 2026 '!K81 -> 0 | ... V8: ='серпень 2026 '!V81 -> 0 | W8: Х | Y8: Х
B9: Заклади дошкільної освіти
A10: 1 | B10: № 1 Ластівка | C10: ='серпень 2026 '!Y10 -> #REF! | W10: =SUM(D10:V10) -> 0 | Y10: =W10+C10 -> #REF!
A11: 2 | B11: № 2 Сонечко | C11: ='серпень 2026 '!Y11 -> #REF! | W11: =SUM(D11:V11) -> 0 | Y11: =W11+C11 -> #REF!
A12: 3 | B12: № 3 Дюймовочка | C12: ='серпень 2026 '!Y12 -> #REF! | W12: =SUM(D12:V12) -> 0 | Y12: =W12+C12 -> #REF!
A13: 4 | B13: № 4 Дельфін | C13: ='серпень 2026 '!Y13 -> #REF! | W13: =SUM(D13:V13) -> 0 | Y13: =W13+C13 -> #REF!
A14: 5 | B14: № 5 Золота рибка | C14: ='серпень 2026 '!Y14 -> #REF! | W14: =SUM(D14:V14) -> 0 | Y14: =W14+C14 -> #REF!
A15: 6 | B15: № 6 Дзвіночок | C15: ='серпень 2026 '!Y15 -> #REF! | W15: =SUM(D15:V15) -> 0 | Y15: =W15+C15 -> #REF!
A16: 7 | B16: № 7 Перлинка | C16: ='серпень 2026 '!Y16 -> #REF! | W16: =SUM(D16:V16) -> 0 | Y16: =W16+C16 -> #REF!
A17: 8 | B17: № 8 Вербиченька | C17: ='серпень 2026 '!Y17 -> #REF! | W17: =SUM(D17:V17) -> 0 | Y17: =W17+C17 -> #REF!
A18: 9 | B18: № 9 Краплинка | C18: ='серпень 2026 '!Y18 -> #REF! | W18: =SUM(D18:V18) -> 0 | Y18: =W18+C18 -> #REF!
A19: 10 | B19: № 10 Білочка | C19: ='серпень 2026 '!Y19 -> #REF! | W19: =SUM(D19:V19) -> 0 | Y19: =W19+C19 -> #REF!
A20: 11 | B20: № 11 Дивограй | C20: ='серпень 2026 '!Y20 -> #REF! | W20: =SUM(D20:V20) -> 0 | Y20: =W20+C20 -> #REF!
A21: 12 | B21: № 12 Струмочок | C21: ='серпень 2026 '!Y21 -> #REF! | W21: =SUM(D21:V21) -> 0 | Y21: =W21+C21 -> #REF!
... A29: 20 | B29: Чаусівський ЗДО | C29: ='серпень 2026 '!Y29 -> #REF! | W29: =SUM(D29:V29) -> 0 | Y29: =W29+C29 -> #REF!
B30: Разом по 0611010 | C30: =SUM(C10:C29) -> #REF! | D30: =SUM(D10:D29) -> 0 | E30: =SUM(E10:E29) -> 0 | F30: =SUM(F10:F29) -> 0 | G30: =SUM(G10:G29) -> 0 | H30: =SUM(H10:H29) -> 0 | I30: =SUM(I10:I29) -> 0 | J30: =SUM(J10:J29) -> 0 | ... W30: =SUM(W10:W29) -> 0 | Y30: =SUM(Y10:Y29) -> #REF!
B31: Гімназії, ліцеї
A32: 1 | B32: № 1 | C32: ='серпень 2026 '!Y32 -> #REF! | W32: =SUM(D32:V32) -> 0 | Y32: =W32+C32 -> #REF!
A33: 2 | B33: № 2 | C33: ='серпень 2026 '!Y33 -> #REF! | W33: =SUM(D33:V33) -> 0 | Y33: =W33+C33 -> #REF!
A34: 3 | B34: № 3 (1/2) | C34: ='серпень 2026 '!Y34 -> #REF! | W34: =SUM(D34:V34) -> 0 | Y34: =W34+C34 -> #REF!
A35: 4 | B35: № 4 | C35: ='серпень 2026 '!Y35 -> #REF! | W35: =SUM(D35:V35) -> 0 | Y35: =W35+C35 -> #REF!
A36: 5 | B36: № 5 | C36: ='серпень 2026 '!Y36 -> #REF! | W36: =SUM(D36:V36) -> 0 | Y36: =W36+C36 -> #REF!
A37: 6 | B37: № 6 (0,1) | C37: ='серпень 2026 '!Y37 -> #REF! | W37: =SUM(D37:V37) -> 0 | Y37: =W37+C37 -> #REF!
A38: 7 | B38: № 7 (1/2) | C38: ='серпень 2026 '!Y38 -> #REF! | W38: =SUM(D38:V38) -> 0 | Y38: =W38+C38 -> #REF!
A39: 8 | B39: № 8 | C39: ='серпень 2026 '!Y39 -> #REF! | W39: =SUM(D39:V39) -> 0 | Y39: =W39+C39 -> #REF!
A40: 9 | B40: № 9 | C40: ='серпень 2026 '!Y40 -> #REF! | W40: =SUM(D40:V40) -> 0 | Y40: =W40+C40 -> #REF!
A41: 10 | B41: № 10 (0,3) | C41: ='серпень 2026 '!Y41 -> #REF! | W41: =SUM(D41:V41) -> 0 | Y41: =W41+C41 -> #REF!
A42: 11 | B42: почат школа № 11 (1/2) | C42: ='серпень 2026 '!Y42 -> #REF! | W42: =SUM(D42:V42) -> 0 | Y42: =W42+C42 -> #REF!
A43: 12 | B43: Л Лідер | C43: ='серпень 2026 '!Y43 -> #REF! | W43: =SUM(D43:V43) -> 0 | Y43: =W43+C43 -> #REF!
... A49: 18 | B49: Грушівська гімназія | C49: ='серпень 2026 '!Y49 -> #REF! | W49: =SUM(D49:V49) -> 0 | Y49: =W49+C49 -> #REF!
B50: Разом по 0611021 | C50: =SUM(C32:C49) -> #REF! | D50: =SUM(D32:D49) -> 0 | E50: =SUM(E32:E49) -> 0 | F50: =SUM(F32:F49) -> 0 | G50: =SUM(G32:G49) -> 0 | H50: =SUM(H32:H49) -> 0 | I50: =SUM(I32:I49) -> 0 | J50: =SUM(J32:J49) -> 0 | ... W50: =SUM(W32:W49) -> 0 | Y50: =SUM(Y32:Y49) -> #REF!
B51: Заклади позашкільної освіти
A52: 1 | B52: ДЮЦНВ | C52: ='серпень 2026 '!Y52 -> #REF! | W52: =SUM(D52:V52) -> 0 | Y52: =C52+W52 -> #REF!
A53: 2 | B53: ЦНТТУМ | C53: ='серпень 2026 '!Y53 -> 1840386.1 | W53: =SUM(D53:V53) -> 0 | Y53: =C53+W53 -> 1840386.1
A54: 3 | B54: СЮН | C54: ='серпень 2026 '!Y54 -> #REF! | W54: =SUM(D54:V54) -> 0 | Y54: =C54+W54 -> #REF!
B55: Разом по 0611070 | C55: =SUM(C52:C54) -> #REF! | D55: =SUM(D52:D54) -> 0 | E55: =SUM(E52:E54) -> 0 | F55: =SUM(F52:F54) -> 0 | G55: =SUM(G52:G54) -> 0 | H55: =SUM(H52:H54) -> 0 | I55: =SUM(I52:I54) -> 0 | J55: =SUM(J52:J54) -> 0 | ... W55: =SUM(W52:W54) -> 0 | Y55: =SUM(Y52:Y54) -> #REF!
B57: ІРЦ, 0611151 | C57: ='серпень 2026 '!Y57 -> #REF! | W57: =SUM(D57:V57) -> 0 | Y57: =C57+W57 -> #REF!
B59: ДЮСШ, 0615031 | C59: ='серпень 2026 '!Y59 -> #REF! | W59: =SUM(D59:V59) -> 0 | Y59: =C59+W59 -> #REF!
B61: метод. кабінет, 0611160 | C61: ='серпень 2026 '!Y61 -> #REF! | W61: =SUM(D61:V61) -> 0 | Y61: =C61+W61 -> #REF!
B63: Разом касових видатків за місяць | C63: Х | D63: =D30+D50+D55+D57+D59+D61 -> 0 | E63: =E30+E50+E55+E57+E59+E61 -> 0 | F63: =F30+F50+F55+F57+F59+F61 -> 0 | G63: =G30+G50+G55+G57+G59+G61 -> 0 | H63: =H30+H50+H55+H57+H59+H61 -> 0 | I63: =I30+I50+I55+I57+I59+I61 -> 0 | J63: =J30+J50+J55+J57+J59+J61 -> 0 | K63: =K30+K50+K55+K57+K59+K61 -> 0 | ... W63: =W30+W50+W55+W57+W59+W61 -> 0 | Y63: Х
B65: Разом касових видатків з початку року | C65: =C30+C50+C55+C57+C59+C61 -> #REF! | D65: =D8+D63 -> 0 | E65: =E8+E63 -> 0 | F65: =F8+F63 -> 0 | G65: =G8+G63 -> 0 | H65: =H8+H63 -> 0 | I65: =I8+I63 -> 0 | J65: =J8+J63 -> 0 | K65: =K8+K63 -> 0 | ... V65: =V8+V63 -> 0 | W65: Х | Y65: =Y30+Y50+Y55+Y57+Y59+Y61 -> #REF!
B67: 1142 допомога дітям-сиротам | C67: ='серпень 2026 '!Y67 -> #REF! | W67: =SUM(D67:V67) -> 0 | Y67: =C67+W67 -> #REF!

Sheet жовтень 2026
B1: УПРАВЛІННЯ ОСВІТИ ПЕРВОМАЙСЬКОЇ МІСЬКОЇ РАДИ
D2: КАРТКА АНАЛІТИЧНОГО ОБЛІКУ КАСОВИХ ВИДАТКІВ
D3: за жовтень 2026 року
B4: ЗАГАЛЬНИЙ ФОНД
B5: грн. коп.
D6: заробітна плата (в т.ч.1031, 1600, 1200, 1152) | E6: нарахування на оплату праці | F6: предмети, обладнання та інвентар (1021, 1183, 1184, 1291, 1292 | G6: медикаменти та перевязувальні матеріали | H6: продукти харчування | I6: продукти харчування 1403 та 1700 | J6: оплата послуг (крім комунальних) | K6: видатки на відрядження | L6: оплата теплопостачання | M6: оплата водопостачання та водовідведення | N6: оплата електроенергії | O6: оплата природного газу | P6: оплата інших енергоносіїв (с/сміття) | Q6: інші виплати | R6: інші поточні видатки | S6: Навчання по тех безпеці | T6: Обладнання та предмети довгострокового користування | U6: кап будівництво | V6: кап ремонт
D7: 2111 | E7: 2120 | F7: 2210 | G7: 2220 | H7: 2230 | I7: 2230 (7фонд) | J7: 2240 | K7: 2250 | L7: 2271 | M7: 2272 | N7: 2273 | O7: 2274 | P7: 2275 | Q7: 2730 | R7: 2800 | S7: 2282 | T7: 3110 | U7: 3122 | V7: 3132 | W7: за поточний місяць | Y7: з початку року
A8: касові видатки на початок періоду | C8: =D8+E8+F8+G8+H8+I8+J8+K8+L8+M8+N8+O8+P8+Q8+R8+S8+T8+U8+V8 -> 0 | D8: ='вересень 2026'!D81 -> 0 | E8: ='вересень 2026'!E81 -> 0 | F8: ='вересень 2026'!F81 -> 0 | G8: ='вересень 2026'!G81 -> 0 | H8: ='вересень 2026'!H81 -> 0 | I8: ='вересень 2026'!I81 -> 0 | J8: ='вересень 2026'!J81 -> 0 | K8: ='вересень 2026'!K81 -> 0 | ... V8: ='вересень 2026'!V81 -> 0 | W8: Х | Y8: Х
B9: Заклади дошкільної освіти
A10: 1 | B10: № 1 Ластівка | C10: ='вересень 2026'!Y10 -> #REF! | W10: =SUM(D10:V10) -> 0 | Y10: =W10+C10 -> #REF!
A11: 2 | B11: № 2 Сонечко | C11: ='вересень 2026'!Y11 -> #REF! | W11: =SUM(D11:V11) -> 0 | Y11: =W11+C11 -> #REF!
A12: 3 | B12: № 3 Дюймовочка | C12: ='вересень 2026'!Y12 -> #REF! | W12: =SUM(D12:V12) -> 0 | Y12: =W12+C12 -> #REF!
A13: 4 | B13: № 4 Дельфін | C13: ='вересень 2026'!Y13 -> #REF! | W13: =SUM(D13:V13) -> 0 | Y13: =W13+C13 -> #REF!
A14: 5 | B14: № 5 Золота рибка | C14: ='вересень 2026'!Y14 -> #REF! | W14: =SUM(D14:V14) -> 0 | Y14: =W14+C14 -> #REF!
A15: 6 | B15: № 6 Дзвіночок | C15: ='вересень 2026'!Y15 -> #REF! | W15: =SUM(D15:V15) -> 0 | Y15: =W15+C15 -> #REF!
A16: 7 | B16: № 7 Перлинка | C16: ='вересень 2026'!Y16 -> #REF! | W16: =SUM(D16:V16) -> 0 | Y16: =W16+C16 -> #REF!
A17: 8 | B17: № 8 Вербиченька | C17: ='вересень 2026'!Y17 -> #REF! | W17: =SUM(D17:V17) -> 0 | Y17: =W17+C17 -> #REF!
A18: 9 | B18: № 9 Краплинка | C18: ='вересень 2026'!Y18 -> #REF! | W18: =SUM(D18:V18) -> 0 | Y18: =W18+C18 -> #REF!
A19: 10 | B19: № 10 Білочка | C19: ='вересень 2026'!Y19 -> #REF! | W19: =SUM(D19:V19) -> 0 | Y19: =W19+C19 -> #REF!
A20: 11 | B20: № 11 Дивограй | C20: ='вересень 2026'!Y20 -> #REF! | W20: =SUM(D20:V20) -> 0 | Y20: =W20+C20 -> #REF!
A21: 12 | B21: № 12 Струмочок | C21: ='вересень 2026'!Y21 -> #REF! | W21: =SUM(D21:V21) -> 0 | Y21: =W21+C21 -> #REF!
... A29: 20 | B29: Чаусівський ЗДО | C29: ='вересень 2026'!Y29 -> #REF! | W29: =SUM(D29:V29) -> 0 | Y29: =W29+C29 -> #REF!
B30: Разом по 0611010 | C30: =SUM(C10:C29) -> #REF! | D30: =SUM(D10:D29) -> 0 | E30: =SUM(E10:E29) -> 0 | F30: =SUM(F10:F29) -> 0 | G30: =SUM(G10:G29) -> 0 | H30: =SUM(H10:H29) -> 0 | I30: =SUM(I10:I29) -> 0 | J30: =SUM(J10:J29) -> 0 | ... W30: =SUM(W10:W29) -> 0 | Y30: =SUM(Y10:Y29) -> #REF!
B31: Гімназії, ліцеї
A32: 1 | B32: № 1 | C32: ='вересень 2026'!Y32 -> #REF! | W32: =SUM(D32:V32) -> 0 | Y32: =W32+C32 -> #REF!
A33: 2 | B33: № 2 | C33: ='вересень 2026'!Y33 -> #REF! | W33: =SUM(D33:V33) -> 0 | Y33: =W33+C33 -> #REF!
A34: 3 | B34: № 3 (0,5) | C34: ='вересень 2026'!Y34 -> #REF! | W34: =SUM(D34:V34) -> 0 | Y34: =W34+C34 -> #REF!
A35: 4 | B35: № 4 | C35: ='вересень 2026'!Y35 -> #REF! | W35: =SUM(D35:V35) -> 0 | Y35: =W35+C35 -> #REF!
A36: 5 | B36: № 5 | C36: ='вересень 2026'!Y36 -> #REF! | W36: =SUM(D36:V36) -> 0 | Y36: =W36+C36 -> #REF!
A37: 6 | B37: № 6 (0,1) | C37: ='вересень 2026'!Y37 -> #REF! | W37: =SUM(D37:V37) -> 0 | Y37: =W37+C37 -> #REF!
A38: 7 | B38: № 7 (0,5) | C38: ='вересень 2026'!Y38 -> #REF! | W38: =SUM(D38:V38) -> 0 | Y38: =W38+C38 -> #REF!
A39: 8 | B39: № 8 | C39: ='вересень 2026'!Y39 -> #REF! | W39: =SUM(D39:V39) -> 0 | Y39: =W39+C39 -> #REF!
A40: 9 | B40: № 9 | C40: ='вересень 2026'!Y40 -> #REF! | W40: =SUM(D40:V40) -> 0 | Y40: =W40+C40 -> #REF!
A41: 10 | B41: № 10 (0,3) | C41: ='вересень 2026'!Y41 -> #REF! | W41: =SUM(D41:V41) -> 0 | Y41: =W41+C41 -> #REF!
A42: 11 | B42: почат школа № 11 (1/2) | C42: ='вересень 2026'!Y42 -> #REF! | W42: =SUM(D42:V42) -> 0 | Y42: =W42+C42 -> #REF!
A43: 12 | B43: Л Лідер | C43: ='вересень 2026'!Y43 -> #REF! | W43: =SUM(D43:V43) -> 0 | Y43: =W43+C43 -> #REF!
... A49: 18 | B49: Грушівська гімназія | C49: ='вересень 2026'!Y49 -> #REF! | W49: =SUM(D49:V49) -> 0 | Y49: =W49+C49 -> #REF!
B50: Разом по 0611021 | C50: =SUM(C32:C49) -> #REF! | D50: =SUM(D32:D49) -> 0 | E50: =SUM(E32:E49) -> 0 | F50: =SUM(F32:F49) -> 0 | G50: =SUM(G32:G49) -> 0 | H50: =SUM(H32:H49) -> 0 | I50: =SUM(I32:I49) -> 0 | J50: =SUM(J32:J49) -> 0 | ... W50: =SUM(W32:W49) -> 0 | Y50: =SUM(Y32:Y49) -> #REF!
B51: Заклади позашкільної освіти
A52: 1 | B52: ДЮЦНВ | C52: ='вересень 2026'!Y52 -> #REF! | W52: =SUM(D52:V52) -> 0 | Y52: =C52+W52 -> #REF!
A53: 2 | B53: ЦНТТУМ | C53: ='вересень 2026'!Y53 -> 1840386.1 | W53: =SUM(D53:V53) -> 0 | Y53: =C53+W53 -> 1840386.1
A54: 3 | B54: СЮН | C54: ='вересень 2026'!Y54 -> #REF! | W54: =SUM(D54:V54) -> 0 | Y54: =C54+W54 -> #REF!
B55: Разом по 0611070 | C55: =SUM(C52:C54) -> #REF! | D55: =SUM(D52:D54) -> 0 | E55: =SUM(E52:E54) -> 0 | F55: =SUM(F52:F54) -> 0 | G55: =SUM(G52:G54) -> 0 | H55: =SUM(H52:H54) -> 0 | I55: =SUM(I52:I54) -> 0 | J55: =SUM(J52:J54) -> 0 | ... W55: =SUM(W52:W54) -> 0 | Y55: =SUM(Y52:Y54) -> #REF!
B57: ІРЦ, 0611151 | C57: ='вересень 2026'!Y57 -> #REF! | W57: =SUM(D57:V57) -> 0 | Y57: =C57+W57 -> #REF!
B59: ДЮСШ, 0615031 | C59: ='вересень 2026'!Y59 -> #REF! | W59: =SUM(D59:V59) -> 0 | Y59: =C59+W59 -> #REF!
B61: метод. кабінет, 0611160 | C61: ='вересень 2026'!Y61 -> #REF! | W61: =SUM(D61:V61) -> 0 | Y61: =C61+W61 -> #REF!
B63: Разом касових видатків за місяць | C63: Х | D63: =D30+D50+D55+D57+D59+D61 -> 0 | E63: =E30+E50+E55+E57+E59+E61 -> 0 | F63: =F30+F50+F55+F57+F59+F61 -> 0 | G63: =G30+G50+G55+G57+G59+G61 -> 0 | H63: =H30+H50+H55+H57+H59+H61 -> 0 | I63: =I30+I50+I55+I57+I59+I61 -> 0 | J63: =J30+J50+J55+J57+J59+J61 -> 0 | K63: =K30+K50+K55+K57+K59+K61 -> 0 | ... W63: =W30+W50+W55+W57+W59+W61 -> 0 | Y63: Х
B65: Разом касових видатків з початку року | C65: =C30+C50+C55+C57+C59+C61 -> #REF! | D65: =D8+D63 -> 0 | E65: =E8+E63 -> 0 | F65: =F8+F63 -> 0 | G65: =G8+G63 -> 0 | H65: =H8+H63 -> 0 | I65: =I8+I63 -> 0 | J65: =J8+J63 -> 0 | K65: =K8+K63 -> 0 | ... V65: =V8+V63 -> 0 | W65: Х | Y65: =Y30+Y50+Y55+Y57+Y59+Y61 -> #REF!
B67: 1142 допомога дітям-сиротам | C67: ='вересень 2026'!Y67 -> #REF! | W67: =SUM(D67:V67) -> 0 | Y67: =C67+W67 -> #REF!

Sheet листопад 2026
B1: УПРАВЛІННЯ ОСВІТИ ПЕРВОМАЙСЬКОЇ МІСЬКОЇ РАДИ
D2: КАРТКА АНАЛІТИЧНОГО ОБЛІКУ КАСОВИХ ВИДАТКІВ
D3: за листопад 2026 року
B4: ЗАГАЛЬНИЙ ФОНД
B5: грн. коп.
D6: заробітна плата (1031, 1600, 1200, 1152 | E6: нарахування на оплату праці | F6: предмети, обладнання та інвентар (1021, 1183, 1184, 1291, 1292 | G6: медикаменти та перевязувальні матеріали | H6: продукти харчування | I6: продукти харчування 1403 та 1700 | J6: оплата послуг (крім комунальних) | K6: видатки на відрядження | L6: оплата теплопостачання | M6: оплата водопостачання та водовідведення | N6: оплата електроенергії | O6: оплата природного газу | P6: оплата інших енергоносіїв (с/сміття) | Q6: інші виплати | R6: інші поточні видатки | S6: Навчання по тех безпеці | T6: Обладнання та предмети довгострокового користування | U6: кап будівництво | V6: кап ремонт
D7: 2111 | E7: 2120 | F7: 2210 | G7: 2220 | H7: 2230 | I7: 2230 (7фонд) | J7: 2240 | K7: 2250 | L7: 2271 | M7: 2272 | N7: 2273 | O7: 2274 | P7: 2275 | Q7: 2730 | R7: 2800 | S7: 2282 | T7: 3110 | U7: 3122 | V7: 3132 | W7: за поточний місяць | Y7: з початку року
A8: касові видатки на початок періоду | C8: =D8+E8+F8+G8+H8+I8+J8+K8+L8+M8+N8+O8+P8+Q8+R8+S8+T8+U8+V8 -> 0 | D8: ='жовтень 2026'!D81 -> 0 | E8: ='жовтень 2026'!E81 -> 0 | F8: ='жовтень 2026'!F81 -> 0 | G8: ='жовтень 2026'!G81 -> 0 | H8: ='жовтень 2026'!H81 -> 0 | I8: ='жовтень 2026'!I81 -> 0 | J8: ='жовтень 2026'!J81 -> 0 | K8: ='жовтень 2026'!K81 -> 0 | ... V8: ='жовтень 2026'!V81 -> 0 | W8: Х | Y8: Х
B9: Заклади дошкільної освіти
A10: 1 | B10: № 1 Ластівка | C10: ='жовтень 2026'!Y10 -> #REF! | W10: =SUM(D10:V10) -> 0 | Y10: =W10+C10 -> #REF!
A11: 2 | B11: № 2 Сонечко | C11: ='жовтень 2026'!Y11 -> #REF! | W11: =SUM(D11:V11) -> 0 | Y11: =W11+C11 -> #REF!
A12: 3 | B12: № 3 Дюймовочка | C12: ='жовтень 2026'!Y12 -> #REF! | W12: =SUM(D12:V12) -> 0 | Y12: =W12+C12 -> #REF!
A13: 4 | B13: № 4 Дельфін | C13: ='жовтень 2026'!Y13 -> #REF! | W13: =SUM(D13:V13) -> 0 | Y13: =W13+C13 -> #REF!
A14: 5 | B14: № 5 Золота рибка | C14: ='жовтень 2026'!Y14 -> #REF! | W14: =SUM(D14:V14) -> 0 | Y14: =W14+C14 -> #REF!
A15: 6 | B15: № 6 Дзвіночок | C15: ='жовтень 2026'!Y15 -> #REF! | W15: =SUM(D15:V15) -> 0 | Y15: =W15+C15 -> #REF!
A16: 7 | B16: № 7 Перлинка | C16: ='жовтень 2026'!Y16 -> #REF! | W16: =SUM(D16:V16) -> 0 | Y16: =W16+C16 -> #REF!
A17: 8 | B17: № 8 Вербиченька | C17: ='жовтень 2026'!Y17 -> #REF! | W17: =SUM(D17:V17) -> 0 | Y17: =W17+C17 -> #REF!
A18: 9 | B18: № 9 Краплинка | C18: ='жовтень 2026'!Y18 -> #REF! | W18: =SUM(D18:V18) -> 0 | Y18: =W18+C18 -> #REF!
A19: 10 | B19: № 10 Білочка | C19: ='жовтень 2026'!Y19 -> #REF! | W19: =SUM(D19:V19) -> 0 | Y19: =W19+C19 -> #REF!
A20: 11 | B20: № 11 Дивограй | C20: ='жовтень 2026'!Y20 -> #REF! | W20: =SUM(D20:V20) -> 0 | Y20: =W20+C20 -> #REF!
A21: 12 | B21: № 12 Струмочок | C21: ='жовтень 2026'!Y21 -> #REF! | W21: =SUM(D21:V21) -> 0 | Y21: =W21+C21 -> #REF!
... A29: 20 | B29: Чаусівський ЗДО | C29: ='жовтень 2026'!Y29 -> #REF! | W29: =SUM(D29:V29) -> 0 | Y29: =W29+C29 -> #REF!
B30: Разом по 0611010 | C30: =SUM(C10:C29) -> #REF! | D30: =SUM(D10:D29) -> 0 | E30: =SUM(E10:E29) -> 0 | F30: =SUM(F10:F29) -> 0 | G30: =SUM(G10:G29) -> 0 | H30: =SUM(H10:H29) -> 0 | I30: =SUM(I10:I29) -> 0 | J30: =SUM(J10:J29) -> 0 | ... W30: =SUM(W10:W29) -> 0 | Y30: =SUM(Y10:Y29) -> #REF!
B31: Гімназії, ліцеї
A32: 1 | B32: № 1 | C32: ='жовтень 2026'!Y32 -> #REF! | W32: =SUM(D32:V32) -> 0 | Y32: =W32+C32 -> #REF!
A33: 2 | B33: № 2 | C33: ='жовтень 2026'!Y33 -> #REF! | W33: =SUM(D33:V33) -> 0 | Y33: =W33+C33 -> #REF!
A34: 3 | B34: № 3 (0,5) | C34: ='жовтень 2026'!Y34 -> #REF! | W34: =SUM(D34:V34) -> 0 | Y34: =W34+C34 -> #REF!
A35: 4 | B35: № 4 | C35: ='жовтень 2026'!Y35 -> #REF! | W35: =SUM(D35:V35) -> 0 | Y35: =W35+C35 -> #REF!
A36: 5 | B36: № 5 | C36: ='жовтень 2026'!Y36 -> #REF! | W36: =SUM(D36:V36) -> 0 | Y36: =W36+C36 -> #REF!
A37: 6 | B37: № 6 (0,1) | C37: ='жовтень 2026'!Y37 -> #REF! | W37: =SUM(D37:V37) -> 0 | Y37: =W37+C37 -> #REF!
A38: 7 | B38: № 7 (0,5) | C38: ='жовтень 2026'!Y38 -> #REF! | W38: =SUM(D38:V38) -> 0 | Y38: =W38+C38 -> #REF!
A39: 8 | B39: № 8 | C39: ='жовтень 2026'!Y39 -> #REF! | W39: =SUM(D39:V39) -> 0 | Y39: =W39+C39 -> #REF!
A40: 9 | B40: № 9 | C40: ='жовтень 2026'!Y40 -> #REF! | W40: =SUM(D40:V40) -> 0 | Y40: =W40+C40 -> #REF!
A41: 10 | B41: № 10 (0,3) | C41: ='жовтень 2026'!Y41 -> #REF! | W41: =SUM(D41:V41) -> 0 | Y41: =W41+C41 -> #REF!
A42: 11 | B42: почат школа № 11 (1/2) | C42: ='жовтень 2026'!Y42 -> #REF! | W42: =SUM(D42:V42) -> 0 | Y42: =W42+C42 -> #REF!
A43: 12 | B43: Л Лідер | C43: ='жовтень 2026'!Y43 -> #REF! | W43: =SUM(D43:V43) -> 0 | Y43: =W43+C43 -> #REF!
... A49: 18 | B49: Грушівська гімназія | C49: ='жовтень 2026'!Y49 -> #REF! | W49: =SUM(D49:V49) -> 0 | Y49: =W49+C49 -> #REF!
B50: Разом по 0611021 | C50: =SUM(C32:C49) -> #REF! | D50: =SUM(D32:D49) -> 0 | E50: =SUM(E32:E49) -> 0 | F50: =SUM(F32:F49) -> 0 | G50: =SUM(G32:G49) -> 0 | H50: =SUM(H32:H49) -> 0 | I50: =SUM(I32:I49) -> 0 | J50: =SUM(J32:J49) -> 0 | ... W50: =SUM(W32:W49) -> 0 | Y50: =SUM(Y32:Y49) -> #REF!
B51: Заклади позашкільної освіти
A52: 1 | B52: ДЮЦНВ | C52: ='жовтень 2026'!Y52 -> #REF! | W52: =SUM(D52:V52) -> 0 | Y52: =C52+W52 -> #REF!
A53: 2 | B53: ЦНТТУМ | C53: ='жовтень 2026'!Y53 -> 1840386.1 | W53: =SUM(D53:V53) -> 0 | Y53: =C53+W53 -> 1840386.1
A54: 3 | B54: СЮН | C54: ='жовтень 2026'!Y54 -> #REF! | W54: =SUM(D54:V54) -> 0 | Y54: =C54+W54 -> #REF!
B55: Разом по 0611070 | C55: =SUM(C52:C54) -> #REF! | D55: =SUM(D52:D54) -> 0 | E55: =SUM(E52:E54) -> 0 | F55: =SUM(F52:F54) -> 0 | G55: =SUM(G52:G54) -> 0 | H55: =SUM(H52:H54) -> 0 | I55: =SUM(I52:I54) -> 0 | J55: =SUM(J52:J54) -> 0 | ... W55: =SUM(W52:W54) -> 0 | Y55: =SUM(Y52:Y54) -> #REF!
B57: ІРЦ, 0611151 | C57: ='жовтень 2026'!Y57 -> #REF! | W57: =SUM(D57:V57) -> 0 | Y57: =C57+W57 -> #REF!
B59: ДЮСШ, 0615031 | C59: ='жовтень 2026'!Y59 -> #REF! | W59: =SUM(D59:V59) -> 0 | Y59: =C59+W59 -> #REF!
B61: метод. кабінет, 0611160 | C61: ='жовтень 2026'!Y61 -> #REF! | W61: =SUM(D61:V61) -> 0 | Y61: =C61+W61 -> #REF!
B63: Разом касових видатків за місяць | C63: Х | D63: =D30+D50+D55+D57+D59+D61 -> 0 | E63: =E30+E50+E55+E57+E59+E61 -> 0 | F63: =F30+F50+F55+F57+F59+F61 -> 0 | G63: =G30+G50+G55+G57+G59+G61 -> 0 | H63: =H30+H50+H55+H57+H59+H61 -> 0 | I63: =I30+I50+I55+I57+I59+I61 -> 0 | J63: =J30+J50+J55+J57+J59+J61 -> 0 | K63: =K30+K50+K55+K57+K59+K61 -> 0 | ... W63: =W30+W50+W55+W57+W59+W61 -> 0 | Y63: Х
B65: Разом касових видатків з початку року | C65: =C30+C50+C55+C57+C59+C61 -> #REF! | D65: =D8+D63 -> 0 | E65: =E8+E63 -> 0 | F65: =F8+F63 -> 0 | G65: =G8+G63 -> 0 | H65: =H8+H63 -> 0 | I65: =I8+I63 -> 0 | J65: =J8+J63 -> 0 | K65: =K8+K63 -> 0 | ... V65: =V8+V63 -> 0 | W65: Х | Y65: =Y30+Y50+Y55+Y57+Y59+Y61 -> #REF!
B67: 1142 допомога дітям-сиротам | C67: ='жовтень 2026'!Y67 -> #REF! | W67: =SUM(D67:V67) -> 0 | Y67: =C67+W67 -> #REF!

Sheet грудень 2026
B1: УПРАВЛІННЯ ОСВІТИ ПЕРВОМАЙСЬКОЇ МІСЬКОЇ РАДИ
D2: КАРТКА АНАЛІТИЧНОГО ОБЛІКУ КАСОВИХ ВИДАТКІВ
D3: за грудень 2026 року
B4: ЗАГАЛЬНИЙ ФОНД
B5: грн. коп.
D6: заробітна плата (1031, 1600, 1200, 1152 | E6: нарахування на оплату праці | F6: предмети, обладнання та інвентар | G6: медикаменти та перевязувальні матеріали | H6: продукти харчування | I6: продукти харчування 1403 та 1700 | J6: оплата послуг (крім комунальних) | K6: видатки на відрядження | L6: оплата теплопостачання | M6: оплата водопостачання та водовідведення | N6: оплата електроенергії | O6: оплата природного газу | P6: оплата інших енергоносіїв (с/сміття) | Q6: інші виплати | R6: інші поточні видатки | S6: Навчання по тех безпеці | T6: Обладнання та предмети довгострокового користування | U6: кап будівництво | V6: кап ремонт
D7: 2111 | E7: 2120 | F7: 2210 | G7: 2220 | H7: 2230 | I7: 2230 (7фонд) | J7: 2240 | K7: 2250 | L7: 2271 | M7: 2272 | N7: 2273 | O7: 2274 | P7: 2275 | Q7: 2730 | R7: 2800 | S7: 2282 | T7: 3110 | U7: 3122 | V7: 3132 | W7: за поточний місяць | Y7: з початку року
A8: касові видатки на початок періоду | C8: =D8+E8+F8+G8+H8+I8+J8+K8+L8+M8+N8+O8+P8+Q8+R8+S8+T8+U8+V8 -> 0 | D8: ='листопад 2026'!D81 -> 0 | E8: ='листопад 2026'!E81 -> 0 | F8: ='листопад 2026'!F81 -> 0 | G8: ='листопад 2026'!G81 -> 0 | H8: ='листопад 2026'!H81 -> 0 | I8: ='листопад 2026'!I81 -> 0 | J8: ='листопад 2026'!J81 -> 0 | K8: ='листопад 2026'!K81 -> 0 | ... V8: ='листопад 2026'!V81 -> 0 | W8: Х | Y8: Х
B9: Заклади дошкільної освіти
A10: 1 | B10: № 1 Ластівка | C10: ='листопад 2026'!Y10 -> #REF! | W10: =SUM(D10:V10) -> 0 | Y10: =W10+C10 -> #REF!
A11: 2 | B11: № 2 Сонечко | C11: ='листопад 2026'!Y11 -> #REF! | W11: =SUM(D11:V11) -> 0 | Y11: =W11+C11 -> #REF!
A12: 3 | B12: № 3 Дюймовочка | C12: ='листопад 2026'!Y12 -> #REF! | W12: =SUM(D12:V12) -> 0 | Y12: =W12+C12 -> #REF!
A13: 4 | B13: № 4 Дельфін | C13: ='листопад 2026'!Y13 -> #REF! | W13: =SUM(D13:V13) -> 0 | Y13: =W13+C13 -> #REF!
A14: 5 | B14: № 5 Золота рибка | C14: ='листопад 2026'!Y14 -> #REF! | W14: =SUM(D14:V14) -> 0 | Y14: =W14+C14 -> #REF!
A15: 6 | B15: № 6 Дзвіночок | C15: ='листопад 2026'!Y15 -> #REF! | W15: =SUM(D15:V15) -> 0 | Y15: =W15+C15 -> #REF!
A16: 7 | B16: № 7 Перлинка | C16: ='листопад 2026'!Y16 -> #REF! | W16: =SUM(D16:V16) -> 0 | Y16: =W16+C16 -> #REF!
A17: 8 | B17: № 8 Вербиченька | C17: ='листопад 2026'!Y17 -> #REF! | W17: =SUM(D17:V17) -> 0 | Y17: =W17+C17 -> #REF!
A18: 9 | B18: № 9 Краплинка | C18: ='листопад 2026'!Y18 -> #REF! | W18: =SUM(D18:V18) -> 0 | Y18: =W18+C18 -> #REF!
A19: 10 | B19: № 10 Білочка | C19: ='листопад 2026'!Y19 -> #REF! | W19: =SUM(D19:V19) -> 0 | Y19: =W19+C19 -> #REF!
A20: 11 | B20: № 11 Дивограй | C20: ='листопад 2026'!Y20 -> #REF! | W20: =SUM(D20:V20) -> 0 | Y20: =W20+C20 -> #REF!
A21: 12 | B21: № 12 Струмочок | C21: ='листопад 2026'!Y21 -> #REF! | W21: =SUM(D21:V21) -> 0 | Y21: =W21+C21 -> #REF!
... A29: 20 | B29: Чаусівський ЗДО | C29: ='листопад 2026'!Y29 -> #REF! | W29: =SUM(D29:V29) -> 0 | Y29: =W29+C29 -> #REF!
B30: Разом по 0611010 | C30: =SUM(C10:C29) -> #REF! | D30: =SUM(D10:D29) -> 0 | E30: =SUM(E10:E29) -> 0 | F30: =SUM(F10:F29) -> 0 | G30: =SUM(G10:G29) -> 0 | H30: =SUM(H10:H29) -> 0 | I30: =SUM(I10:I29) -> 0 | J30: =SUM(J10:J29) -> 0 | ... W30: =SUM(W10:W29) -> 0 | Y30: =SUM(Y10:Y29) -> #REF!
B31: Гімназії, ліцеї
A32: 1 | B32: № 1 | C32: ='листопад 2026'!Y32 -> #REF! | W32: =SUM(D32:V32) -> 0 | Y32: =W32+C32 -> #REF!
A33: 2 | B33: № 2 | C33: ='листопад 2026'!Y33 -> #REF! | W33: =SUM(D33:V33) -> 0 | Y33: =W33+C33 -> #REF!
A34: 3 | B34: № 3 (0,5) | C34: ='листопад 2026'!Y34 -> #REF! | W34: =SUM(D34:V34) -> 0 | Y34: =W34+C34 -> #REF!
A35: 4 | B35: № 4 | C35: ='листопад 2026'!Y35 -> #REF! | W35: =SUM(D35:V35) -> 0 | Y35: =W35+C35 -> #REF!
A36: 5 | B36: № 5 | C36: ='листопад 2026'!Y36 -> #REF! | W36: =SUM(D36:V36) -> 0 | Y36: =W36+C36 -> #REF!
A37: 6 | B37: № 6 (0,1) | C37: ='листопад 2026'!Y37 -> #REF! | W37: =SUM(D37:V37) -> 0 | Y37: =W37+C37 -> #REF!
A38: 7 | B38: № 7 (0,5) | C38: ='листопад 2026'!Y38 -> #REF! | W38: =SUM(D38:V38) -> 0 | Y38: =W38+C38 -> #REF!
A39: 8 | B39: № 8 | C39: ='листопад 2026'!Y39 -> #REF! | W39: =SUM(D39:V39) -> 0 | Y39: =W39+C39 -> #REF!
A40: 9 | B40: № 9 | C40: ='листопад 2026'!Y40 -> #REF! | W40: =SUM(D40:V40) -> 0 | Y40: =W40+C40 -> #REF!
A41: 10 | B41: № 10 (0,3) | C41: ='листопад 2026'!Y41 -> #REF! | W41: =SUM(D41:V41) -> 0 | Y41: =W41+C41 -> #REF!
A42: 11 | B42: почат школа № 11 (1/2) | C42: ='листопад 2026'!Y42 -> #REF! | W42: =SUM(D42:V42) -> 0 | Y42: =W42+C42 -> #REF!
A43: 12 | B43: Л Лідер | C43: ='листопад 2026'!Y43 -> #REF! | W43: =SUM(D43:V43) -> 0 | Y43: =W43+C43 -> #REF!
... A49: 18 | B49: Грушівська гімназія | C49: ='листопад 2026'!Y49 -> #REF! | W49: =SUM(D49:V49) -> 0 | Y49: =W49+C49 -> #REF!
B50: Разом по 0611021 | C50: =SUM(C32:C49) -> #REF! | D50: =SUM(D32:D49) -> 0 | E50: =SUM(E32:E49) -> 0 | F50: =SUM(F32:F49) -> 0 | G50: =SUM(G32:G49) -> 0 | H50: =SUM(H32:H49) -> 0 | I50: =SUM(I32:I49) -> 0 | J50: =SUM(J32:J49) -> 0 | ... W50: =SUM(W32:W49) -> 0 | Y50: =SUM(Y32:Y49) -> #REF!
B51: Заклади позашкільної освіти
A52: 1 | B52: ДЮЦНВ | C52: ='листопад 2026'!Y52 -> #REF! | W52: =SUM(D52:V52) -> 0 | Y52: =C52+W52 -> #REF!
A53: 2 | B53: ЦНТТУМ | C53: ='листопад 2026'!Y53 -> 1840386.1 | W53: =SUM(D53:V53) -> 0 | Y53: =C53+W53 -> 1840386.1
A54: 3 | B54: СЮН | C54: ='листопад 2026'!Y54 -> #REF! | W54: =SUM(D54:V54) -> 0 | Y54: =C54+W54 -> #REF!
B55: Разом по 0611070 | C55: =SUM(C52:C54) -> #REF! | D55: =SUM(D52:D54) -> 0 | E55: =SUM(E52:E54) -> 0 | F55: =SUM(F52:F54) -> 0 | G55: =SUM(G52:G54) -> 0 | H55: =SUM(H52:H54) -> 0 | I55: =SUM(I52:I54) -> 0 | J55: =SUM(J52:J54) -> 0 | ... W55: =SUM(W52:W54) -> 0 | Y55: =SUM(Y52:Y54) -> #REF!
B57: ІРЦ, 0611151 | C57: ='листопад 2026'!Y57 -> #REF! | W57: =SUM(D57:V57) -> 0 | Y57: =C57+W57 -> #REF!
B59: ДЮСШ, 0615031 | C59: ='листопад 2026'!Y59 -> #REF! | W59: =SUM(D59:V59) -> 0 | Y59: =C59+W59 -> #REF!
B61: метод. кабінет, 0611160 | C61: ='листопад 2026'!Y61 -> #REF! | W61: =SUM(D61:V61) -> 0 | Y61: =C61+W61 -> #REF!
B63: Разом касових видатків за місяць | C63: Х | D63: =D30+D50+D55+D57+D59+D61 -> 0 | E63: =E30+E50+E55+E57+E59+E61 -> 0 | F63: =F30+F50+F55+F57+F59+F61 -> 0 | G63: =G30+G50+G55+G57+G59+G61 -> 0 | H63: =H30+H50+H55+H57+H59+H61 -> 0 | I63: =I30+I50+I55+I57+I59+I61 -> 0 | J63: =J30+J50+J55+J57+J59+J61 -> 0 | K63: =K30+K50+K55+K57+K59+K61 -> 0 | ... W63: =W30+W50+W55+W57+W59+W61 -> 0 | Y63: Х
B65: Разом касових видатків з початку року | C65: =C30+C50+C55+C57+C59+C61 -> #REF! | D65: =D8+D63 -> 0 | E65: =E8+E63 -> 0 | F65: =F8+F63 -> 0 | G65: =G8+G63 -> 0 | H65: =H8+H63 -> 0 | I65: =I8+I63 -> 0 | J65: =J8+J63 -> 0 | K65: =K8+K63 -> 0 | ... V65: =V8+V63 -> 0 | W65: Х | Y65: =Y30+Y50+Y55+Y57+Y59+Y61 -> #REF!
B67: 1142 допомога дітям-сиротам | C67: ='листопад 2026'!Y67 -> #REF! | W67: =SUM(D67:V67) -> 0 | Y67: =C67+W67 -> #REF!

Sheet рік 2026
B1: УПРАВЛІННЯ ОСВІТИ ПЕРВОМАЙСЬКОЇ МІСЬКОЇ РАДИ
D2: КАРТКА АНАЛІТИЧНОГО ОБЛІКУ КАСОВИХ ВИДАТКІВ
D3: за 2026 рік
B4: ЗАГАЛЬНИЙ ФОНД
B5: грн. коп.
D6: заробітна плата (1031, 1600, 1200, 1152 | E6: нарахування на оплату праці | F6: предмети, обладнання та інвентар (1021, 1183, 1184, 1291, 1292 | G6: медикаменти та перевязувальні матеріали | H6: продукти харчування | I6: продукти харчування 1403 та 1700 | J6: оплата послуг (крім комунальних) | K6: видатки на відрядження | L6: оплата теплопостачання | M6: оплата водопостачання та водовідведення | N6: оплата електроенергії | O6: оплата природного газу | P6: оплата інших енергоносіїв (с/сміття) | Q6: інші поточні видатки
D7: 2111 | E7: 2120 | F7: 2210 | G7: 2220 | H7: 2230 | I7: 2230 (7фонд) | J7: 2240 | K7: 2250 | L7: 2271 | M7: 2272 | N7: 2273 | O7: 2274 | P7: 2275 | Q7: 2800 | R7: 2730 | W7: рік 2025
B9: Заклади дошкільної освіти
A10: 1 | B10: № 1 Ластівка | D10: ='січень 2026'!D10+'лютий 2026'!D10+'березень 2026'!D10+'квітень 2026'!D10+'травень 2026'!#REF!+'червень 2026 '!D10+'липень 2026'!D10+'серпень 2026 '!D10+'вересень 2026'!D10+'жовтень 2026'!D10+'листопад 2026'!D10+'грудень 2026'!D10 -> #REF! | E10: ='січень 2026'!E10+'лютий 2026'!E10+'березень 2026'!E10+'квітень 2026'!E10+'травень 2026'!#REF!+'червень 2026 '!E10+'липень 2026'!E10+'серпень 2026 '!E10+'вересень 2026'!E10+'жовтень 2026'!E10+'листопад 2026'!E10+'грудень 2026'!E10 -> #REF! | F10: ='січень 2026'!F10+'лютий 2026'!F10+'березень 2026'!F10+'квітень 2026'!F10+'травень 2026'!#REF!+'червень 2026 '!F10+'липень 2026'!F10+'серпень 2026 '!F10+'вересень 2026'!F10+'жовтень 2026'!F10+'листопад 2026'!F10+'грудень 2026'!F10 -> #REF! | G10: ='січень 2026'!G10+'лютий 2026'!G10+'березень 2026'!G10+'квітень 2026'!G10+'травень 2026'!#REF!+'червень 2026 '!G10+'липень 2026'!G10+'серпень 2026 '!G10+'вересень 2026'!G10+'жовтень 2026'!G10+'листопад 2026'!G10+'грудень 2026'!G10 -> #REF! | H10: ='січень 2026'!H10+'лютий 2026'!H10+'березень 2026'!H10+'квітень 2026'!H10+'травень 2026'!#REF!+'червень 2026 '!H10+'липень 2026'!H10+'серпень 2026 '!H10+'вересень 2026'!H10+'жовтень 2026'!H10+'листопад 2026'!H10+'грудень 2026'!H10 -> #REF! | I10: ='січень 2026'!I10+'лютий 2026'!I10+'березень 2026'!I10+'квітень 2026'!I10+'травень 2026'!#REF!+'червень 2026 '!I10+'липень 2026'!I10+'серпень 2026 '!I10+'вересень 2026'!I10+'жовтень 2026'!I10+'листопад 2026'!I10+'грудень 2026'!I10 -> #REF! | J10: ='січень 2026'!J10+'лютий 2026'!J10+'березень 2026'!J10+'квітень 2026'!J10+'травень 2026'!#REF!+'червень 2026 '!J10+'липень 2026'!J10+'серпень 2026 '!J10+'вересень 2026'!J10+'жовтень 2026'!J10+'листопад 2026'!J10+'грудень 2026'!J10 -> #REF! | K10: ='січень 2026'!K10+'лютий 2026'!K10+'березень 2026'!K10+'квітень 2026'!K10+'травень 2026'!#REF!+'червень 2026 '!K10+'липень 2026'!K10+'серпень 2026 '!K10+'вересень 2026'!K10+'жовтень 2026'!K10+'листопад 2026'!K10+'грудень 2026'!K10 -> #REF! | ... V10: ='січень 2026'!V10+'лютий 2026'!V10+'березень 2026'!V10+'квітень 2026'!V10+'травень 2026'!#REF!+'червень 2026 '!V10+'липень 2026'!V10+'серпень 2026 '!V10+'вересень 2026'!V10+'жовтень 2026'!V10+'листопад 2026'!V10+'грудень 2026'!V10 -> #REF! | W10: =SUM(D10:V10) -> #REF! | Y10: 105 | Z10: =W10/Y10 -> #REF!
A11: 2 | B11: № 2 Сонечко | D11: ='січень 2026'!D11+'лютий 2026'!D11+'березень 2026'!D11+'квітень 2026'!D11+'травень 2026'!#REF!+'червень 2026 '!D11+'липень 2026'!D11+'серпень 2026 '!D11+'вересень 2026'!D11+'жовтень 2026'!D11+'листопад 2026'!D11+'грудень 2026'!D11 -> #REF! | E11: ='січень 2026'!E11+'лютий 2026'!E11+'березень 2026'!E11+'квітень 2026'!E11+'травень 2026'!#REF!+'червень 2026 '!E11+'липень 2026'!E11+'серпень 2026 '!E11+'вересень 2026'!E11+'жовтень 2026'!E11+'листопад 2026'!E11+'грудень 2026'!E11 -> #REF! | F11: ='січень 2026'!F11+'лютий 2026'!F11+'березень 2026'!F11+'квітень 2026'!F11+'травень 2026'!#REF!+'червень 2026 '!F11+'липень 2026'!F11+'серпень 2026 '!F11+'вересень 2026'!F11+'жовтень 2026'!F11+'листопад 2026'!F11+'грудень 2026'!F11 -> #REF! | G11: ='січень 2026'!G11+'лютий 2026'!G11+'березень 2026'!G11+'квітень 2026'!G11+'травень 2026'!#REF!+'червень 2026 '!G11+'липень 2026'!G11+'серпень 2026 '!G11+'вересень 2026'!G11+'жовтень 2026'!G11+'листопад 2026'!G11+'грудень 2026'!G11 -> #REF! | H11: ='січень 2026'!H11+'лютий 2026'!H11+'березень 2026'!H11+'квітень 2026'!H11+'травень 2026'!#REF!+'червень 2026 '!H11+'липень 2026'!H11+'серпень 2026 '!H11+'вересень 2026'!H11+'жовтень 2026'!H11+'листопад 2026'!H11+'грудень 2026'!H11 -> #REF! | I11: ='січень 2026'!I11+'лютий 2026'!I11+'березень 2026'!I11+'квітень 2026'!I11+'травень 2026'!#REF!+'червень 2026 '!I11+'липень 2026'!I11+'серпень 2026 '!I11+'вересень 2026'!I11+'жовтень 2026'!I11+'листопад 2026'!I11+'грудень 2026'!I11 -> #REF! | J11: ='січень 2026'!J11+'лютий 2026'!J11+'березень 2026'!J11+'квітень 2026'!J11+'травень 2026'!#REF!+'червень 2026 '!J11+'липень 2026'!J11+'серпень 2026 '!J11+'вересень 2026'!J11+'жовтень 2026'!J11+'листопад 2026'!J11+'грудень 2026'!J11 -> #REF! | K11: ='січень 2026'!K11+'лютий 2026'!K11+'березень 2026'!K11+'квітень 2026'!K11+'травень 2026'!#REF!+'червень 2026 '!K11+'липень 2026'!K11+'серпень 2026 '!K11+'вересень 2026'!K11+'жовтень 2026'!K11+'листопад 2026'!K11+'грудень 2026'!K11 -> #REF! | ... V11: ='січень 2026'!V11+'лютий 2026'!V11+'березень 2026'!V11+'квітень 2026'!V11+'травень 2026'!#REF!+'червень 2026 '!V11+'липень 2026'!V11+'серпень 2026 '!V11+'вересень 2026'!V11+'жовтень 2026'!V11+'листопад 2026'!V11+'грудень 2026'!V11 -> #REF! | W11: =SUM(D11:V11) -> #REF! | Y11: 128 | Z11: =W11/Y11 -> #REF!
A12: 3 | B12: № 3 Дюймовочка | D12: ='січень 2026'!D12+'лютий 2026'!D12+'березень 2026'!D12+'квітень 2026'!D12+'травень 2026'!#REF!+'червень 2026 '!D12+'липень 2026'!D12+'серпень 2026 '!D12+'вересень 2026'!D12+'жовтень 2026'!D12+'листопад 2026'!D12+'грудень 2026'!D12 -> #REF! | E12: ='січень 2026'!E12+'лютий 2026'!E12+'березень 2026'!E12+'квітень 2026'!E12+'травень 2026'!#REF!+'червень 2026 '!E12+'липень 2026'!E12+'серпень 2026 '!E12+'вересень 2026'!E12+'жовтень 2026'!E12+'листопад 2026'!E12+'грудень 2026'!E12 -> #REF! | F12: ='січень 2026'!F12+'лютий 2026'!F12+'березень 2026'!F12+'квітень 2026'!F12+'травень 2026'!#REF!+'червень 2026 '!F12+'липень 2026'!F12+'серпень 2026 '!F12+'вересень 2026'!F12+'жовтень 2026'!F12+'листопад 2026'!F12+'грудень 2026'!F12 -> #REF! | G12: ='січень 2026'!G12+'лютий 2026'!G12+'березень 2026'!G12+'квітень 2026'!G12+'травень 2026'!#REF!+'червень 2026 '!G12+'липень 2026'!G12+'серпень 2026 '!G12+'вересень 2026'!G12+'жовтень 2026'!G12+'листопад 2026'!G12+'грудень 2026'!G12 -> #REF! | H12: ='січень 2026'!H12+'лютий 2026'!H12+'березень 2026'!H12+'квітень 2026'!H12+'травень 2026'!#REF!+'червень 2026 '!H12+'липень 2026'!H12+'серпень 2026 '!H12+'вересень 2026'!H12+'жовтень 2026'!H12+'листопад 2026'!H12+'грудень 2026'!H12 -> #REF! | I12: ='січень 2026'!I12+'лютий 2026'!I12+'березень 2026'!I12+'квітень 2026'!I12+'травень 2026'!#REF!+'червень 2026 '!I12+'липень 2026'!I12+'серпень 2026 '!I12+'вересень 2026'!I12+'жовтень 2026'!I12+'листопад 2026'!I12+'грудень 2026'!I12 -> #REF! | J12: ='січень 2026'!J12+'лютий 2026'!J12+'березень 2026'!J12+'квітень 2026'!J12+'травень 2026'!#REF!+'червень 2026 '!J12+'липень 2026'!J12+'серпень 2026 '!J12+'вересень 2026'!J12+'жовтень 2026'!J12+'листопад 2026'!J12+'грудень 2026'!J12 -> #REF! | K12: ='січень 2026'!K12+'лютий 2026'!K12+'березень 2026'!K12+'квітень 2026'!K12+'травень 2026'!#REF!+'червень 2026 '!K12+'липень 2026'!K12+'серпень 2026 '!K12+'вересень 2026'!K12+'жовтень 2026'!K12+'листопад 2026'!K12+'грудень 2026'!K12 -> #REF! | ... V12: ='січень 2026'!V12+'лютий 2026'!V12+'березень 2026'!V12+'квітень 2026'!V12+'травень 2026'!#REF!+'червень 2026 '!V12+'липень 2026'!V12+'серпень 2026 '!V12+'вересень 2026'!V12+'жовтень 2026'!V12+'листопад 2026'!V12+'грудень 2026'!V12 -> #REF! | W12: =SUM(D12:V12) -> #REF! | Y12: 90 | Z12: =W12/Y12 -> #REF!
A13: 4 | B13: № 4 Дельфін | D13: ='січень 2026'!D13+'лютий 2026'!D13+'березень 2026'!D13+'квітень 2026'!D13+'травень 2026'!#REF!+'червень 2026 '!D13+'липень 2026'!D13+'серпень 2026 '!D13+'вересень 2026'!D13+'жовтень 2026'!D13+'листопад 2026'!D13+'грудень 2026'!D13 -> #REF! | E13: ='січень 2026'!E13+'лютий 2026'!E13+'березень 2026'!E13+'квітень 2026'!E13+'травень 2026'!#REF!+'червень 2026 '!E13+'липень 2026'!E13+'серпень 2026 '!E13+'вересень 2026'!E13+'жовтень 2026'!E13+'листопад 2026'!E13+'грудень 2026'!E13 -> #REF! | F13: ='січень 2026'!F13+'лютий 2026'!F13+'березень 2026'!F13+'квітень 2026'!F13+'травень 2026'!#REF!+'червень 2026 '!F13+'липень 2026'!F13+'серпень 2026 '!F13+'вересень 2026'!F13+'жовтень 2026'!F13+'листопад 2026'!F13+'грудень 2026'!F13 -> #REF! | G13: ='січень 2026'!G13+'лютий 2026'!G13+'березень 2026'!G13+'квітень 2026'!G13+'травень 2026'!#REF!+'червень 2026 '!G13+'липень 2026'!G13+'серпень 2026 '!G13+'вересень 2026'!G13+'жовтень 2026'!G13+'листопад 2026'!G13+'грудень 2026'!G13 -> #REF! | H13: ='січень 2026'!H13+'лютий 2026'!H13+'березень 2026'!H13+'квітень 2026'!H13+'травень 2026'!#REF!+'червень 2026 '!H13+'липень 2026'!H13+'серпень 2026 '!H13+'вересень 2026'!H13+'жовтень 2026'!H13+'листопад 2026'!H13+'грудень 2026'!H13 -> #REF! | I13: ='січень 2026'!I13+'лютий 2026'!I13+'березень 2026'!I13+'квітень 2026'!I13+'травень 2026'!#REF!+'червень 2026 '!I13+'липень 2026'!I13+'серпень 2026 '!I13+'вересень 2026'!I13+'жовтень 2026'!I13+'листопад 2026'!I13+'грудень 2026'!I13 -> #REF! | J13: ='січень 2026'!J13+'лютий 2026'!J13+'березень 2026'!J13+'квітень 2026'!J13+'травень 2026'!#REF!+'червень 2026 '!J13+'липень 2026'!J13+'серпень 2026 '!J13+'вересень 2026'!J13+'жовтень 2026'!J13+'листопад 2026'!J13+'грудень 2026'!J13 -> #REF! | K13: ='січень 2026'!K13+'лютий 2026'!K13+'березень 2026'!K13+'квітень 2026'!K13+'травень 2026'!#REF!+'червень 2026 '!K13+'липень 2026'!K13+'серпень 2026 '!K13+'вересень 2026'!K13+'жовтень 2026'!K13+'листопад 2026'!K13+'грудень 2026'!K13 -> #REF! | ... V13: ='січень 2026'!V13+'лютий 2026'!V13+'березень 2026'!V13+'квітень 2026'!V13+'травень 2026'!#REF!+'червень 2026 '!V13+'липень 2026'!V13+'серпень 2026 '!V13+'вересень 2026'!V13+'жовтень 2026'!V13+'листопад 2026'!V13+'грудень 2026'!V13 -> #REF! | W13: =SUM(D13:V13) -> #REF!
A14: 5 | B14: № 5 Золота рибка | D14: ='січень 2026'!D14+'лютий 2026'!D14+'березень 2026'!D14+'квітень 2026'!D14+'травень 2026'!#REF!+'червень 2026 '!D14+'липень 2026'!D14+'серпень 2026 '!D14+'вересень 2026'!D14+'жовтень 2026'!D14+'листопад 2026'!D14+'грудень 2026'!D14 -> #REF! | E14: ='січень 2026'!E14+'лютий 2026'!E14+'березень 2026'!E14+'квітень 2026'!E14+'травень 2026'!#REF!+'червень 2026 '!E14+'липень 2026'!E14+'серпень 2026 '!E14+'вересень 2026'!E14+'жовтень 2026'!E14+'листопад 2026'!E14+'грудень 2026'!E14 -> #REF! | F14: ='січень 2026'!F14+'лютий 2026'!F14+'березень 2026'!F14+'квітень 2026'!F14+'травень 2026'!#REF!+'червень 2026 '!F14+'липень 2026'!F14+'серпень 2026 '!F14+'вересень 2026'!F14+'жовтень 2026'!F14+'листопад 2026'!F14+'грудень 2026'!F14 -> #REF! | G14: ='січень 2026'!G14+'лютий 2026'!G14+'березень 2026'!G14+'квітень 2026'!G14+'травень 2026'!#REF!+'червень 2026 '!G14+'липень 2026'!G14+'серпень 2026 '!G14+'вересень 2026'!G14+'жовтень 2026'!G14+'листопад 2026'!G14+'грудень 2026'!G14 -> #REF! | H14: ='січень 2026'!H14+'лютий 2026'!H14+'березень 2026'!H14+'квітень 2026'!H14+'травень 2026'!#REF!+'червень 2026 '!H14+'липень 2026'!H14+'серпень 2026 '!H14+'вересень 2026'!H14+'жовтень 2026'!H14+'листопад 2026'!H14+'грудень 2026'!H14 -> #REF! | I14: ='січень 2026'!I14+'лютий 2026'!I14+'березень 2026'!I14+'квітень 2026'!I14+'травень 2026'!#REF!+'червень 2026 '!I14+'липень 2026'!I14+'серпень 2026 '!I14+'вересень 2026'!I14+'жовтень 2026'!I14+'листопад 2026'!I14+'грудень 2026'!I14 -> #REF! | J14: ='січень 2026'!J14+'лютий 2026'!J14+'березень 2026'!J14+'квітень 2026'!J14+'травень 2026'!#REF!+'червень 2026 '!J14+'липень 2026'!J14+'серпень 2026 '!J14+'вересень 2026'!J14+'жовтень 2026'!J14+'листопад 2026'!J14+'грудень 2026'!J14 -> #REF! | K14: ='січень 2026'!K14+'лютий 2026'!K14+'березень 2026'!K14+'квітень 2026'!K14+'травень 2026'!#REF!+'червень 2026 '!K14+'липень 2026'!K14+'серпень 2026 '!K14+'вересень 2026'!K14+'жовтень 2026'!K14+'листопад 2026'!K14+'грудень 2026'!K14 -> #REF! | ... V14: ='січень 2026'!V14+'лютий 2026'!V14+'березень 2026'!V14+'квітень 2026'!V14+'травень 2026'!#REF!+'червень 2026 '!V14+'липень 2026'!V14+'серпень 2026 '!V14+'вересень 2026'!V14+'жовтень 2026'!V14+'листопад 2026'!V14+'грудень 2026'!V14 -> #REF! | W14: =SUM(D14:V14) -> #REF! | Y14: 104 | Z14: =W14/Y14 -> #REF!
A15: 6 | B15: № 6 Дзвіночок | D15: ='січень 2026'!D15+'лютий 2026'!D15+'березень 2026'!D15+'квітень 2026'!D15+'травень 2026'!#REF!+'червень 2026 '!D15+'липень 2026'!D15+'серпень 2026 '!D15+'вересень 2026'!D15+'жовтень 2026'!D15+'листопад 2026'!D15+'грудень 2026'!D15 -> #REF! | E15: ='січень 2026'!E15+'лютий 2026'!E15+'березень 2026'!E15+'квітень 2026'!E15+'травень 2026'!#REF!+'червень 2026 '!E15+'липень 2026'!E15+'серпень 2026 '!E15+'вересень 2026'!E15+'жовтень 2026'!E15+'листопад 2026'!E15+'грудень 2026'!E15 -> #REF! | F15: ='січень 2026'!F15+'лютий 2026'!F15+'березень 2026'!F15+'квітень 2026'!F15+'травень 2026'!#REF!+'червень 2026 '!F15+'липень 2026'!F15+'серпень 2026 '!F15+'вересень 2026'!F15+'жовтень 2026'!F15+'листопад 2026'!F15+'грудень 2026'!F15 -> #REF! | G15: ='січень 2026'!G15+'лютий 2026'!G15+'березень 2026'!G15+'квітень 2026'!G15+'травень 2026'!#REF!+'червень 2026 '!G15+'липень 2026'!G15+'серпень 2026 '!G15+'вересень 2026'!G15+'жовтень 2026'!G15+'листопад 2026'!G15+'грудень 2026'!G15 -> #REF! | H15: ='січень 2026'!H15+'лютий 2026'!H15+'березень 2026'!H15+'квітень 2026'!H15+'травень 2026'!#REF!+'червень 2026 '!H15+'липень 2026'!H15+'серпень 2026 '!H15+'вересень 2026'!H15+'жовтень 2026'!H15+'листопад 2026'!H15+'грудень 2026'!H15 -> #REF! | I15: ='січень 2026'!I15+'лютий 2026'!I15+'березень 2026'!I15+'квітень 2026'!I15+'травень 2026'!#REF!+'червень 2026 '!I15+'липень 2026'!I15+'серпень 2026 '!I15+'вересень 2026'!I15+'жовтень 2026'!I15+'листопад 2026'!I15+'грудень 2026'!I15 -> #REF! | J15: ='січень 2026'!J15+'лютий 2026'!J15+'березень 2026'!J15+'квітень 2026'!J15+'травень 2026'!#REF!+'червень 2026 '!J15+'липень 2026'!J15+'серпень 2026 '!J15+'вересень 2026'!J15+'жовтень 2026'!J15+'листопад 2026'!J15+'грудень 2026'!J15 -> #REF! | K15: ='січень 2026'!K15+'лютий 2026'!K15+'березень 2026'!K15+'квітень 2026'!K15+'травень 2026'!#REF!+'червень 2026 '!K15+'липень 2026'!K15+'серпень 2026 '!K15+'вересень 2026'!K15+'жовтень 2026'!K15+'листопад 2026'!K15+'грудень 2026'!K15 -> #REF! | ... V15: ='січень 2026'!V15+'лютий 2026'!V15+'березень 2026'!V15+'квітень 2026'!V15+'травень 2026'!#REF!+'червень 2026 '!V15+'липень 2026'!V15+'серпень 2026 '!V15+'вересень 2026'!V15+'жовтень 2026'!V15+'листопад 2026'!V15+'грудень 2026'!V15 -> #REF! | W15: =SUM(D15:V15) -> #REF! | Y15: 122 | Z15: =W15/Y15 -> #REF!
A16: 7 | B16: № 7 Перлинка | D16: ='січень 2026'!D16+'лютий 2026'!D16+'березень 2026'!D16+'квітень 2026'!D16+'травень 2026'!#REF!+'червень 2026 '!D16+'липень 2026'!D16+'серпень 2026 '!D16+'вересень 2026'!D16+'жовтень 2026'!D16+'листопад 2026'!D16+'грудень 2026'!D16 -> #REF! | E16: ='січень 2026'!E16+'лютий 2026'!E16+'березень 2026'!E16+'квітень 2026'!E16+'травень 2026'!#REF!+'червень 2026 '!E16+'липень 2026'!E16+'серпень 2026 '!E16+'вересень 2026'!E16+'жовтень 2026'!E16+'листопад 2026'!E16+'грудень 2026'!E16 -> #REF! | F16: ='січень 2026'!F16+'лютий 2026'!F16+'березень 2026'!F16+'квітень 2026'!F16+'травень 2026'!#REF!+'червень 2026 '!F16+'липень 2026'!F16+'серпень 2026 '!F16+'вересень 2026'!F16+'жовтень 2026'!F16+'листопад 2026'!F16+'грудень 2026'!F16 -> #REF! | G16: ='січень 2026'!G16+'лютий 2026'!G16+'березень 2026'!G16+'квітень 2026'!G16+'травень 2026'!#REF!+'червень 2026 '!G16+'липень 2026'!G16+'серпень 2026 '!G16+'вересень 2026'!G16+'жовтень 2026'!G16+'листопад 2026'!G16+'грудень 2026'!G16 -> #REF! | H16: ='січень 2026'!H16+'лютий 2026'!H16+'березень 2026'!H16+'квітень 2026'!H16+'травень 2026'!#REF!+'червень 2026 '!H16+'липень 2026'!H16+'серпень 2026 '!H16+'вересень 2026'!H16+'жовтень 2026'!H16+'листопад 2026'!H16+'грудень 2026'!H16 -> #REF! | I16: ='січень 2026'!I16+'лютий 2026'!I16+'березень 2026'!I16+'квітень 2026'!I16+'травень 2026'!#REF!+'червень 2026 '!I16+'липень 2026'!I16+'серпень 2026 '!I16+'вересень 2026'!I16+'жовтень 2026'!I16+'листопад 2026'!I16+'грудень 2026'!I16 -> #REF! | J16: ='січень 2026'!J16+'лютий 2026'!J16+'березень 2026'!J16+'квітень 2026'!J16+'травень 2026'!#REF!+'червень 2026 '!J16+'липень 2026'!J16+'серпень 2026 '!J16+'вересень 2026'!J16+'жовтень 2026'!J16+'листопад 2026'!J16+'грудень 2026'!J16 -> #REF! | K16: ='січень 2026'!K16+'лютий 2026'!K16+'березень 2026'!K16+'квітень 2026'!K16+'травень 2026'!#REF!+'червень 2026 '!K16+'липень 2026'!K16+'серпень 2026 '!K16+'вересень 2026'!K16+'жовтень 2026'!K16+'листопад 2026'!K16+'грудень 2026'!K16 -> #REF! | ... V16: ='січень 2026'!V16+'лютий 2026'!V16+'березень 2026'!V16+'квітень 2026'!V16+'травень 2026'!#REF!+'червень 2026 '!V16+'липень 2026'!V16+'серпень 2026 '!V16+'вересень 2026'!V16+'жовтень 2026'!V16+'листопад 2026'!V16+'грудень 2026'!V16 -> #REF! | W16: =SUM(D16:V16) -> #REF! | Y16: 157 | Z16: =W16/Y16 -> #REF!
A17: 8 | B17: № 8 Вербиченька | D17: ='січень 2026'!D17+'лютий 2026'!D17+'березень 2026'!D17+'квітень 2026'!D17+'травень 2026'!#REF!+'червень 2026 '!D17+'липень 2026'!D17+'серпень 2026 '!D17+'вересень 2026'!D17+'жовтень 2026'!D17+'листопад 2026'!D17+'грудень 2026'!D17 -> #REF! | E17: ='січень 2026'!E17+'лютий 2026'!E17+'березень 2026'!E17+'квітень 2026'!E17+'травень 2026'!#REF!+'червень 2026 '!E17+'липень 2026'!E17+'серпень 2026 '!E17+'вересень 2026'!E17+'жовтень 2026'!E17+'листопад 2026'!E17+'грудень 2026'!E17 -> #REF! | F17: ='січень 2026'!F17+'лютий 2026'!F17+'березень 2026'!F17+'квітень 2026'!F17+'травень 2026'!#REF!+'червень 2026 '!F17+'липень 2026'!F17+'серпень 2026 '!F17+'вересень 2026'!F17+'жовтень 2026'!F17+'листопад 2026'!F17+'грудень 2026'!F17 -> #REF! | G17: ='січень 2026'!G17+'лютий 2026'!G17+'березень 2026'!G17+'квітень 2026'!G17+'травень 2026'!#REF!+'червень 2026 '!G17+'липень 2026'!G17+'серпень 2026 '!G17+'вересень 2026'!G17+'жовтень 2026'!G17+'листопад 2026'!G17+'грудень 2026'!G17 -> #REF! | H17: ='січень 2026'!H17+'лютий 2026'!H17+'березень 2026'!H17+'квітень 2026'!H17+'травень 2026'!#REF!+'червень 2026 '!H17+'липень 2026'!H17+'серпень 2026 '!H17+'вересень 2026'!H17+'жовтень 2026'!H17+'листопад 2026'!H17+'грудень 2026'!H17 -> #REF! | I17: ='січень 2026'!I17+'лютий 2026'!I17+'березень 2026'!I17+'квітень 2026'!I17+'травень 2026'!#REF!+'червень 2026 '!I17+'липень 2026'!I17+'серпень 2026 '!I17+'вересень 2026'!I17+'жовтень 2026'!I17+'листопад 2026'!I17+'грудень 2026'!I17 -> #REF! | J17: ='січень 2026'!J17+'лютий 2026'!J17+'березень 2026'!J17+'квітень 2026'!J17+'травень 2026'!#REF!+'червень 2026 '!J17+'липень 2026'!J17+'серпень 2026 '!J17+'вересень 2026'!J17+'жовтень 2026'!J17+'листопад 2026'!J17+'грудень 2026'!J17 -> #REF! | K17: ='січень 2026'!K17+'лютий 2026'!K17+'березень 2026'!K17+'квітень 2026'!K17+'травень 2026'!#REF!+'червень 2026 '!K17+'липень 2026'!K17+'серпень 2026 '!K17+'вересень 2026'!K17+'жовтень 2026'!K17+'листопад 2026'!K17+'грудень 2026'!K17 -> #REF! | ... V17: ='січень 2026'!V17+'лютий 2026'!V17+'березень 2026'!V17+'квітень 2026'!V17+'травень 2026'!#REF!+'червень 2026 '!V17+'липень 2026'!V17+'серпень 2026 '!V17+'вересень 2026'!V17+'жовтень 2026'!V17+'листопад 2026'!V17+'грудень 2026'!V17 -> #REF! | W17: =SUM(D17:V17) -> #REF! | Y17: 79 | Z17: =W17/Y17 -> #REF!
A18: 9 | B18: № 9 Краплинка | D18: ='січень 2026'!D18+'лютий 2026'!D18+'березень 2026'!D18+'квітень 2026'!D18+'травень 2026'!#REF!+'червень 2026 '!D18+'липень 2026'!D18+'серпень 2026 '!D18+'вересень 2026'!D18+'жовтень 2026'!D18+'листопад 2026'!D18+'грудень 2026'!D18 -> #REF! | E18: ='січень 2026'!E18+'лютий 2026'!E18+'березень 2026'!E18+'квітень 2026'!E18+'травень 2026'!#REF!+'червень 2026 '!E18+'липень 2026'!E18+'серпень 2026 '!E18+'вересень 2026'!E18+'жовтень 2026'!E18+'листопад 2026'!E18+'грудень 2026'!E18 -> #REF! | F18: ='січень 2026'!F18+'лютий 2026'!F18+'березень 2026'!F18+'квітень 2026'!F18+'травень 2026'!#REF!+'червень 2026 '!F18+'липень 2026'!F18+'серпень 2026 '!F18+'вересень 2026'!F18+'жовтень 2026'!F18+'листопад 2026'!F18+'грудень 2026'!F18 -> #REF! | G18: ='січень 2026'!G18+'лютий 2026'!G18+'березень 2026'!G18+'квітень 2026'!G18+'травень 2026'!#REF!+'червень 2026 '!G18+'липень 2026'!G18+'серпень 2026 '!G18+'вересень 2026'!G18+'жовтень 2026'!G18+'листопад 2026'!G18+'грудень 2026'!G18 -> #REF! | H18: ='січень 2026'!H18+'лютий 2026'!H18+'березень 2026'!H18+'квітень 2026'!H18+'травень 2026'!#REF!+'червень 2026 '!H18+'липень 2026'!H18+'серпень 2026 '!H18+'вересень 2026'!H18+'жовтень 2026'!H18+'листопад 2026'!H18+'грудень 2026'!H18 -> #REF! | I18: ='січень 2026'!I18+'лютий 2026'!I18+'березень 2026'!I18+'квітень 2026'!I18+'травень 2026'!#REF!+'червень 2026 '!I18+'липень 2026'!I18+'серпень 2026 '!I18+'вересень 2026'!I18+'жовтень 2026'!I18+'листопад 2026'!I18+'грудень 2026'!I18 -> #REF! | J18: ='січень 2026'!J18+'лютий 2026'!J18+'березень 2026'!J18+'квітень 2026'!J18+'травень 2026'!#REF!+'червень 2026 '!J18+'липень 2026'!J18+'серпень 2026 '!J18+'вересень 2026'!J18+'жовтень 2026'!J18+'листопад 2026'!J18+'грудень 2026'!J18 -> #REF! | K18: ='січень 2026'!K18+'лютий 2026'!K18+'березень 2026'!K18+'квітень 2026'!K18+'травень 2026'!#REF!+'червень 2026 '!K18+'липень 2026'!K18+'серпень 2026 '!K18+'вересень 2026'!K18+'жовтень 2026'!K18+'листопад 2026'!K18+'грудень 2026'!K18 -> #REF! | ... V18: ='січень 2026'!V18+'лютий 2026'!V18+'березень 2026'!V18+'квітень 2026'!V18+'травень 2026'!#REF!+'червень 2026 '!V18+'липень 2026'!V18+'серпень 2026 '!V18+'вересень 2026'!V18+'жовтень 2026'!V18+'листопад 2026'!V18+'грудень 2026'!V18 -> #REF! | W18: =SUM(D18:V18) -> #REF! | Y18: 105 | Z18: =W18/Y18 -> #REF!
A19: 10 | B19: № 10 Білочка | D19: ='січень 2026'!D19+'лютий 2026'!D19+'березень 2026'!D19+'квітень 2026'!D19+'травень 2026'!#REF!+'червень 2026 '!D19+'липень 2026'!D19+'серпень 2026 '!D19+'вересень 2026'!D19+'жовтень 2026'!D19+'листопад 2026'!D19+'грудень 2026'!D19 -> #REF! | E19: ='січень 2026'!E19+'лютий 2026'!E19+'березень 2026'!E19+'квітень 2026'!E19+'травень 2026'!#REF!+'червень 2026 '!E19+'липень 2026'!E19+'серпень 2026 '!E19+'вересень 2026'!E19+'жовтень 2026'!E19+'листопад 2026'!E19+'грудень 2026'!E19 -> #REF! | F19: ='січень 2026'!F19+'лютий 2026'!F19+'березень 2026'!F19+'квітень 2026'!F19+'травень 2026'!#REF!+'червень 2026 '!F19+'липень 2026'!F19+'серпень 2026 '!F19+'вересень 2026'!F19+'жовтень 2026'!F19+'листопад 2026'!F19+'грудень 2026'!F19 -> #REF! | G19: ='січень 2026'!G19+'лютий 2026'!G19+'березень 2026'!G19+'квітень 2026'!G19+'травень 2026'!#REF!+'червень 2026 '!G19+'липень 2026'!G19+'серпень 2026 '!G19+'вересень 2026'!G19+'жовтень 2026'!G19+'листопад 2026'!G19+'грудень 2026'!G19 -> #REF! | H19: ='січень 2026'!H19+'лютий 2026'!H19+'березень 2026'!H19+'квітень 2026'!H19+'травень 2026'!#REF!+'червень 2026 '!H19+'липень 2026'!H19+'серпень 2026 '!H19+'вересень 2026'!H19+'жовтень 2026'!H19+'листопад 2026'!H19+'грудень 2026'!H19 -> #REF! | I19: ='січень 2026'!I19+'лютий 2026'!I19+'березень 2026'!I19+'квітень 2026'!I19+'травень 2026'!#REF!+'червень 2026 '!I19+'липень 2026'!I19+'серпень 2026 '!I19+'вересень 2026'!I19+'жовтень 2026'!I19+'листопад 2026'!I19+'грудень 2026'!I19 -> #REF! | J19: ='січень 2026'!J19+'лютий 2026'!J19+'березень 2026'!J19+'квітень 2026'!J19+'травень 2026'!#REF!+'червень 2026 '!J19+'липень 2026'!J19+'серпень 2026 '!J19+'вересень 2026'!J19+'жовтень 2026'!J19+'листопад 2026'!J19+'грудень 2026'!J19 -> #REF! | K19: ='січень 2026'!K19+'лютий 2026'!K19+'березень 2026'!K19+'квітень 2026'!K19+'травень 2026'!#REF!+'червень 2026 '!K19+'липень 2026'!K19+'серпень 2026 '!K19+'вересень 2026'!K19+'жовтень 2026'!K19+'листопад 2026'!K19+'грудень 2026'!K19 -> #REF! | ... V19: ='січень 2026'!V19+'лютий 2026'!V19+'березень 2026'!V19+'квітень 2026'!V19+'травень 2026'!#REF!+'червень 2026 '!V19+'липень 2026'!V19+'серпень 2026 '!V19+'вересень 2026'!V19+'жовтень 2026'!V19+'листопад 2026'!V19+'грудень 2026'!V19 -> #REF! | W19: =SUM(D19:V19) -> #REF! | Y19: 91 | Z19: =W19/Y19 -> #REF!
A20: 11 | B20: № 11 Дивограй | D20: ='січень 2026'!D20+'лютий 2026'!D20+'березень 2026'!D20+'квітень 2026'!D20+'травень 2026'!#REF!+'червень 2026 '!D20+'липень 2026'!D20+'серпень 2026 '!D20+'вересень 2026'!D20+'жовтень 2026'!D20+'листопад 2026'!D20+'грудень 2026'!D20 -> #REF! | E20: ='січень 2026'!E20+'лютий 2026'!E20+'березень 2026'!E20+'квітень 2026'!E20+'травень 2026'!#REF!+'червень 2026 '!E20+'липень 2026'!E20+'серпень 2026 '!E20+'вересень 2026'!E20+'жовтень 2026'!E20+'листопад 2026'!E20+'грудень 2026'!E20 -> #REF! | F20: ='січень 2026'!F20+'лютий 2026'!F20+'березень 2026'!F20+'квітень 2026'!F20+'травень 2026'!#REF!+'червень 2026 '!F20+'липень 2026'!F20+'серпень 2026 '!F20+'вересень 2026'!F20+'жовтень 2026'!F20+'листопад 2026'!F20+'грудень 2026'!F20 -> #REF! | G20: ='січень 2026'!G20+'лютий 2026'!G20+'березень 2026'!G20+'квітень 2026'!G20+'травень 2026'!#REF!+'червень 2026 '!G20+'липень 2026'!G20+'серпень 2026 '!G20+'вересень 2026'!G20+'жовтень 2026'!G20+'листопад 2026'!G20+'грудень 2026'!G20 -> #REF! | H20: ='січень 2026'!H20+'лютий 2026'!H20+'березень 2026'!H20+'квітень 2026'!H20+'травень 2026'!#REF!+'червень 2026 '!H20+'липень 2026'!H20+'серпень 2026 '!H20+'вересень 2026'!H20+'жовтень 2026'!H20+'листопад 2026'!H20+'грудень 2026'!H20 -> #REF! | I20: ='січень 2026'!I20+'лютий 2026'!I20+'березень 2026'!I20+'квітень 2026'!I20+'травень 2026'!#REF!+'червень 2026 '!I20+'липень 2026'!I20+'серпень 2026 '!I20+'вересень 2026'!I20+'жовтень 2026'!I20+'листопад 2026'!I20+'грудень 2026'!I20 -> #REF! | J20: ='січень 2026'!J20+'лютий 2026'!J20+'березень 2026'!J20+'квітень 2026'!J20+'травень 2026'!#REF!+'червень 2026 '!J20+'липень 2026'!J20+'серпень 2026 '!J20+'вересень 2026'!J20+'жовтень 2026'!J20+'листопад 2026'!J20+'грудень 2026'!J20 -> #REF! | K20: ='січень 2026'!K20+'лютий 2026'!K20+'березень 2026'!K20+'квітень 2026'!K20+'травень 2026'!#REF!+'червень 2026 '!K20+'липень 2026'!K20+'серпень 2026 '!K20+'вересень 2026'!K20+'жовтень 2026'!K20+'листопад 2026'!K20+'грудень 2026'!K20 -> #REF! | ... V20: ='січень 2026'!V20+'лютий 2026'!V20+'березень 2026'!V20+'квітень 2026'!V20+'травень 2026'!#REF!+'червень 2026 '!V20+'липень 2026'!V20+'серпень 2026 '!V20+'вересень 2026'!V20+'жовтень 2026'!V20+'листопад 2026'!V20+'грудень 2026'!V20 -> #REF! | W20: =SUM(D20:V20) -> #REF! | Y20: 71 | Z20: =W20/Y20 -> #REF!
A21: 12 | B21: № 12 Струмочок | D21: ='січень 2026'!D21+'лютий 2026'!D21+'березень 2026'!D21+'квітень 2026'!D21+'травень 2026'!#REF!+'червень 2026 '!D21+'липень 2026'!D21+'серпень 2026 '!D21+'вересень 2026'!D21+'жовтень 2026'!D21+'листопад 2026'!D21+'грудень 2026'!D21 -> #REF! | E21: ='січень 2026'!E21+'лютий 2026'!E21+'березень 2026'!E21+'квітень 2026'!E21+'травень 2026'!#REF!+'червень 2026 '!E21+'липень 2026'!E21+'серпень 2026 '!E21+'вересень 2026'!E21+'жовтень 2026'!E21+'листопад 2026'!E21+'грудень 2026'!E21 -> #REF! | F21: ='січень 2026'!F21+'лютий 2026'!F21+'березень 2026'!F21+'квітень 2026'!F21+'травень 2026'!#REF!+'червень 2026 '!F21+'липень 2026'!F21+'серпень 2026 '!F21+'вересень 2026'!F21+'жовтень 2026'!F21+'листопад 2026'!F21+'грудень 2026'!F21 -> #REF! | G21: ='січень 2026'!G21+'лютий 2026'!G21+'березень 2026'!G21+'квітень 2026'!G21+'травень 2026'!#REF!+'червень 2026 '!G21+'липень 2026'!G21+'серпень 2026 '!G21+'вересень 2026'!G21+'жовтень 2026'!G21+'листопад 2026'!G21+'грудень 2026'!G21 -> #REF! | H21: ='січень 2026'!H21+'лютий 2026'!H21+'березень 2026'!H21+'квітень 2026'!H21+'травень 2026'!#REF!+'червень 2026 '!H21+'липень 2026'!H21+'серпень 2026 '!H21+'вересень 2026'!H21+'жовтень 2026'!H21+'листопад 2026'!H21+'грудень 2026'!H21 -> #REF! | I21: ='січень 2026'!I21+'лютий 2026'!I21+'березень 2026'!I21+'квітень 2026'!I21+'травень 2026'!#REF!+'червень 2026 '!I21+'липень 2026'!I21+'серпень 2026 '!I21+'вересень 2026'!I21+'жовтень 2026'!I21+'листопад 2026'!I21+'грудень 2026'!I21 -> #REF! | J21: ='січень 2026'!J21+'лютий 2026'!J21+'березень 2026'!J21+'квітень 2026'!J21+'травень 2026'!#REF!+'червень 2026 '!J21+'липень 2026'!J21+'серпень 2026 '!J21+'вересень 2026'!J21+'жовтень 2026'!J21+'листопад 2026'!J21+'грудень 2026'!J21 -> #REF! | K21: ='січень 2026'!K21+'лютий 2026'!K21+'березень 2026'!K21+'квітень 2026'!K21+'травень 2026'!#REF!+'червень 2026 '!K21+'липень 2026'!K21+'серпень 2026 '!K21+'вересень 2026'!K21+'жовтень 2026'!K21+'листопад 2026'!K21+'грудень 2026'!K21 -> #REF! | ... V21: ='січень 2026'!V21+'лютий 2026'!V21+'березень 2026'!V21+'квітень 2026'!V21+'травень 2026'!#REF!+'червень 2026 '!V21+'липень 2026'!V21+'серпень 2026 '!V21+'вересень 2026'!V21+'жовтень 2026'!V21+'листопад 2026'!V21+'грудень 2026'!V21 -> #REF! | W21: =SUM(D21:V21) -> #REF! | Y21: 111 | Z21: =W21/Y21 -> #REF!
A22: 13 | B22: № 13 Журавлик | D22: ='січень 2026'!D22+'лютий 2026'!D22+'березень 2026'!D22+'квітень 2026'!D22+'травень 2026'!#REF!+'червень 2026 '!D22+'липень 2026'!D22+'серпень 2026 '!D22+'вересень 2026'!D22+'жовтень 2026'!D22+'листопад 2026'!D22+'грудень 2026'!D22 -> #REF! | E22: ='січень 2026'!E22+'лютий 2026'!E22+'березень 2026'!E22+'квітень 2026'!E22+'травень 2026'!#REF!+'червень 2026 '!E22+'липень 2026'!E22+'серпень 2026 '!E22+'вересень 2026'!E22+'жовтень 2026'!E22+'листопад 2026'!E22+'грудень 2026'!E22 -> #REF! | F22: ='січень 2026'!F22+'лютий 2026'!F22+'березень 2026'!F22+'квітень 2026'!F22+'травень 2026'!#REF!+'червень 2026 '!F22+'липень 2026'!F22+'серпень 2026 '!F22+'вересень 2026'!F22+'жовтень 2026'!F22+'листопад 2026'!F22+'грудень 2026'!F22 -> #REF! | G22: ='січень 2026'!G22+'лютий 2026'!G22+'березень 2026'!G22+'квітень 2026'!G22+'травень 2026'!#REF!+'червень 2026 '!G22+'липень 2026'!G22+'серпень 2026 '!G22+'вересень 2026'!G22+'жовтень 2026'!G22+'листопад 2026'!G22+'грудень 2026'!G22 -> #REF! | H22: ='січень 2026'!H22+'лютий 2026'!H22+'березень 2026'!H22+'квітень 2026'!H22+'травень 2026'!#REF!+'червень 2026 '!H22+'липень 2026'!H22+'серпень 2026 '!H22+'вересень 2026'!H22+'жовтень 2026'!H22+'листопад 2026'!H22+'грудень 2026'!H22 -> #REF! | I22: ='січень 2026'!I22+'лютий 2026'!I22+'березень 2026'!I22+'квітень 2026'!I22+'травень 2026'!#REF!+'червень 2026 '!I22+'липень 2026'!I22+'серпень 2026 '!I22+'вересень 2026'!I22+'жовтень 2026'!I22+'листопад 2026'!I22+'грудень 2026'!I22 -> #REF! | J22: ='січень 2026'!J22+'лютий 2026'!J22+'березень 2026'!J22+'квітень 2026'!J22+'травень 2026'!#REF!+'червень 2026 '!J22+'липень 2026'!J22+'серпень 2026 '!J22+'вересень 2026'!J22+'жовтень 2026'!J22+'листопад 2026'!J22+'грудень 2026'!J22 -> #REF! | K22: ='січень 2026'!K22+'лютий 2026'!K22+'березень 2026'!K22+'квітень 2026'!K22+'травень 2026'!#REF!+'червень 2026 '!K22+'липень 2026'!K22+'серпень 2026 '!K22+'вересень 2026'!K22+'жовтень 2026'!K22+'листопад 2026'!K22+'грудень 2026'!K22 -> #REF! | ... V22: ='січень 2026'!V22+'лютий 2026'!V22+'березень 2026'!V22+'квітень 2026'!V22+'травень 2026'!#REF!+'червень 2026 '!V22+'липень 2026'!V22+'серпень 2026 '!V22+'вересень 2026'!V22+'жовтень 2026'!V22+'листопад 2026'!V22+'грудень 2026'!V22 -> #REF! | W22: =SUM(D22:V22) -> #REF! | Y22: 88 | Z22: =W22/Y22 -> #REF!
A23: 14 | B23: № 14 Казка | D23: ='січень 2026'!D23+'лютий 2026'!D23+'березень 2026'!D23+'квітень 2026'!D23+'травень 2026'!#REF!+'червень 2026 '!D23+'липень 2026'!D23+'серпень 2026 '!D23+'вересень 2026'!D23+'жовтень 2026'!D23+'листопад 2026'!D23+'грудень 2026'!D23 -> #REF! | E23: ='січень 2026'!E23+'лютий 2026'!E23+'березень 2026'!E23+'квітень 2026'!E23+'травень 2026'!#REF!+'червень 2026 '!E23+'липень 2026'!E23+'серпень 2026 '!E23+'вересень 2026'!E23+'жовтень 2026'!E23+'листопад 2026'!E23+'грудень 2026'!E23 -> #REF! | F23: ='січень 2026'!F23+'лютий 2026'!F23+'березень 2026'!F23+'квітень 2026'!F23+'травень 2026'!#REF!+'червень 2026 '!F23+'липень 2026'!F23+'серпень 2026 '!F23+'вересень 2026'!F23+'жовтень 2026'!F23+'листопад 2026'!F23+'грудень 2026'!F23 -> #REF! | G23: ='січень 2026'!G23+'лютий 2026'!G23+'березень 2026'!G23+'квітень 2026'!G23+'травень 2026'!#REF!+'червень 2026 '!G23+'липень 2026'!G23+'серпень 2026 '!G23+'вересень 2026'!G23+'жовтень 2026'!G23+'листопад 2026'!G23+'грудень 2026'!G23 -> #REF! | H23: ='січень 2026'!H23+'лютий 2026'!H23+'березень 2026'!H23+'квітень 2026'!H23+'травень 2026'!#REF!+'червень 2026 '!H23+'липень 2026'!H23+'серпень 2026 '!H23+'вересень 2026'!H23+'жовтень 2026'!H23+'листопад 2026'!H23+'грудень 2026'!H23 -> #REF! | I23: ='січень 2026'!I23+'лютий 2026'!I23+'березень 2026'!I23+'квітень 2026'!I23+'травень 2026'!#REF!+'червень 2026 '!I23+'липень 2026'!I23+'серпень 2026 '!I23+'вересень 2026'!I23+'жовтень 2026'!I23+'листопад 2026'!I23+'грудень 2026'!I23 -> #REF! | J23: ='січень 2026'!J23+'лютий 2026'!J23+'березень 2026'!J23+'квітень 2026'!J23+'травень 2026'!#REF!+'червень 2026 '!J23+'липень 2026'!J23+'серпень 2026 '!J23+'вересень 2026'!J23+'жовтень 2026'!J23+'листопад 2026'!J23+'грудень 2026'!J23 -> #REF! | K23: ='січень 2026'!K23+'лютий 2026'!K23+'березень 2026'!K23+'квітень 2026'!K23+'травень 2026'!#REF!+'червень 2026 '!K23+'липень 2026'!K23+'серпень 2026 '!K23+'вересень 2026'!K23+'жовтень 2026'!K23+'листопад 2026'!K23+'грудень 2026'!K23 -> #REF! | ... V23: ='січень 2026'!V23+'лютий 2026'!V23+'березень 2026'!V23+'квітень 2026'!V23+'травень 2026'!#REF!+'червень 2026 '!V23+'липень 2026'!V23+'серпень 2026 '!V23+'вересень 2026'!V23+'жовтень 2026'!V23+'листопад 2026'!V23+'грудень 2026'!V23 -> #REF! | W23: =SUM(D23:V23) -> #REF! | Y23: 90 | Z23: =W23/Y23 -> #REF!
A24: 15 | B24: № 15 Пізнайко | D24: ='січень 2026'!D24+'лютий 2026'!D24+'березень 2026'!D24+'квітень 2026'!D24+'травень 2026'!#REF!+'червень 2026 '!D24+'липень 2026'!D24+'серпень 2026 '!D24+'вересень 2026'!D24+'жовтень 2026'!D24+'листопад 2026'!D24+'грудень 2026'!D24 -> #REF! | E24: ='січень 2026'!E24+'лютий 2026'!E24+'березень 2026'!E24+'квітень 2026'!E24+'травень 2026'!#REF!+'червень 2026 '!E24+'липень 2026'!E24+'серпень 2026 '!E24+'вересень 2026'!E24+'жовтень 2026'!E24+'листопад 2026'!E24+'грудень 2026'!E24 -> #REF! | F24: ='січень 2026'!F24+'лютий 2026'!F24+'березень 2026'!F24+'квітень 2026'!F24+'травень 2026'!#REF!+'червень 2026 '!F24+'липень 2026'!F24+'серпень 2026 '!F24+'вересень 2026'!F24+'жовтень 2026'!F24+'листопад 2026'!F24+'грудень 2026'!F24 -> #REF! | G24: ='січень 2026'!G24+'лютий 2026'!G24+'березень 2026'!G24+'квітень 2026'!G24+'травень 2026'!#REF!+'червень 2026 '!G24+'липень 2026'!G24+'серпень 2026 '!G24+'вересень 2026'!G24+'жовтень 2026'!G24+'листопад 2026'!G24+'грудень 2026'!G24 -> #REF! | H24: ='січень 2026'!H24+'лютий 2026'!H24+'березень 2026'!H24+'квітень 2026'!H24+'травень 2026'!#REF!+'червень 2026 '!H24+'липень 2026'!H24+'серпень 2026 '!H24+'вересень 2026'!H24+'жовтень 2026'!H24+'листопад 2026'!H24+'грудень 2026'!H24 -> #REF! | I24: ='січень 2026'!I24+'лютий 2026'!I24+'березень 2026'!I24+'квітень 2026'!I24+'травень 2026'!#REF!+'червень 2026 '!I24+'липень 2026'!I24+'серпень 2026 '!I24+'вересень 2026'!I24+'жовтень 2026'!I24+'листопад 2026'!I24+'грудень 2026'!I24 -> #REF! | J24: ='січень 2026'!J24+'лютий 2026'!J24+'березень 2026'!J24+'квітень 2026'!J24+'травень 2026'!#REF!+'червень 2026 '!J24+'липень 2026'!J24+'серпень 2026 '!J24+'вересень 2026'!J24+'жовтень 2026'!J24+'листопад 2026'!J24+'грудень 2026'!J24 -> #REF! | K24: ='січень 2026'!K24+'лютий 2026'!K24+'березень 2026'!K24+'квітень 2026'!K24+'травень 2026'!#REF!+'червень 2026 '!K24+'липень 2026'!K24+'серпень 2026 '!K24+'вересень 2026'!K24+'жовтень 2026'!K24+'листопад 2026'!K24+'грудень 2026'!K24 -> #REF! | ... V24: ='січень 2026'!V24+'лютий 2026'!V24+'березень 2026'!V24+'квітень 2026'!V24+'травень 2026'!#REF!+'червень 2026 '!V24+'липень 2026'!V24+'серпень 2026 '!V24+'вересень 2026'!V24+'жовтень 2026'!V24+'листопад 2026'!V24+'грудень 2026'!V24 -> #REF! | W24: =SUM(D24:V24) -> #REF! | Y24: 195 | Z24: =W24/Y24 -> #REF!
A25: 16 | B25: № 16 Калинонька | D25: ='січень 2026'!D25+'лютий 2026'!D25+'березень 2026'!D25+'квітень 2026'!D25+'травень 2026'!#REF!+'червень 2026 '!D25+'липень 2026'!D25+'серпень 2026 '!D25+'вересень 2026'!D25+'жовтень 2026'!D25+'листопад 2026'!D25+'грудень 2026'!D25 -> #REF! | E25: ='січень 2026'!E25+'лютий 2026'!E25+'березень 2026'!E25+'квітень 2026'!E25+'травень 2026'!#REF!+'червень 2026 '!E25+'липень 2026'!E25+'серпень 2026 '!E25+'вересень 2026'!E25+'жовтень 2026'!E25+'листопад 2026'!E25+'грудень 2026'!E25 -> #REF! | F25: ='січень 2026'!F25+'лютий 2026'!F25+'березень 2026'!F25+'квітень 2026'!F25+'травень 2026'!#REF!+'червень 2026 '!F25+'липень 2026'!F25+'серпень 2026 '!F25+'вересень 2026'!F25+'жовтень 2026'!F25+'листопад 2026'!F25+'грудень 2026'!F25 -> #REF! | G25: ='січень 2026'!G25+'лютий 2026'!G25+'березень 2026'!G25+'квітень 2026'!G25+'травень 2026'!#REF!+'червень 2026 '!G25+'липень 2026'!G25+'серпень 2026 '!G25+'вересень 2026'!G25+'жовтень 2026'!G25+'листопад 2026'!G25+'грудень 2026'!G25 -> #REF! | H25: ='січень 2026'!H25+'лютий 2026'!H25+'березень 2026'!H25+'квітень 2026'!H25+'травень 2026'!#REF!+'червень 2026 '!H25+'липень 2026'!H25+'серпень 2026 '!H25+'вересень 2026'!H25+'жовтень 2026'!H25+'листопад 2026'!H25+'грудень 2026'!H25 -> #REF! | I25: ='січень 2026'!I25+'лютий 2026'!I25+'березень 2026'!I25+'квітень 2026'!I25+'травень 2026'!#REF!+'червень 2026 '!I25+'липень 2026'!I25+'серпень 2026 '!I25+'вересень 2026'!I25+'жовтень 2026'!I25+'листопад 2026'!I25+'грудень 2026'!I25 -> #REF! | J25: ='січень 2026'!J25+'лютий 2026'!J25+'березень 2026'!J25+'квітень 2026'!J25+'травень 2026'!#REF!+'червень 2026 '!J25+'липень 2026'!J25+'серпень 2026 '!J25+'вересень 2026'!J25+'жовтень 2026'!J25+'листопад 2026'!J25+'грудень 2026'!J25 -> #REF! | K25: ='січень 2026'!K25+'лютий 2026'!K25+'березень 2026'!K25+'квітень 2026'!K25+'травень 2026'!#REF!+'червень 2026 '!K25+'липень 2026'!K25+'серпень 2026 '!K25+'вересень 2026'!K25+'жовтень 2026'!K25+'листопад 2026'!K25+'грудень 2026'!K25 -> #REF! | ... V25: ='січень 2026'!V25+'лютий 2026'!V25+'березень 2026'!V25+'квітень 2026'!V25+'травень 2026'!#REF!+'червень 2026 '!V25+'липень 2026'!V25+'серпень 2026 '!V25+'вересень 2026'!V25+'жовтень 2026'!V25+'листопад 2026'!V25+'грудень 2026'!V25 -> #REF! | W25: =SUM(D25:V25) -> #REF! | Y25: 69 | Z25: =W25/Y25 -> #REF!
... A28: 19 | B28: Підгороднянський ЗДО Ромашка | D28: ='січень 2026'!D28+'лютий 2026'!D28+'березень 2026'!D28+'квітень 2026'!D28+'травень 2026'!#REF!+'червень 2026 '!D28+'липень 2026'!D28+'серпень 2026 '!D28+'вересень 2026'!D28+'жовтень 2026'!D28+'листопад 2026'!D28+'грудень 2026'!D28 -> #REF! | E28: ='січень 2026'!E28+'лютий 2026'!E28+'березень 2026'!E28+'квітень 2026'!E28+'травень 2026'!#REF!+'червень 2026 '!E28+'липень 2026'!E28+'серпень 2026 '!E28+'вересень 2026'!E28+'жовтень 2026'!E28+'листопад 2026'!E28+'грудень 2026'!E28 -> #REF! | F28: ='січень 2026'!F28+'лютий 2026'!F28+'березень 2026'!F28+'квітень 2026'!F28+'травень 2026'!#REF!+'червень 2026 '!F28+'липень 2026'!F28+'серпень 2026 '!F28+'вересень 2026'!F28+'жовтень 2026'!F28+'листопад 2026'!F28+'грудень 2026'!F28 -> #REF! | G28: ='січень 2026'!G28+'лютий 2026'!G28+'березень 2026'!G28+'квітень 2026'!G28+'травень 2026'!#REF!+'червень 2026 '!G28+'липень 2026'!G28+'серпень 2026 '!G28+'вересень 2026'!G28+'жовтень 2026'!G28+'листопад 2026'!G28+'грудень 2026'!G28 -> #REF! | H28: ='січень 2026'!H28+'лютий 2026'!H28+'березень 2026'!H28+'квітень 2026'!H28+'травень 2026'!#REF!+'червень 2026 '!H28+'липень 2026'!H28+'серпень 2026 '!H28+'вересень 2026'!H28+'жовтень 2026'!H28+'листопад 2026'!H28+'грудень 2026'!H28 -> #REF! | I28: ='січень 2026'!I28+'лютий 2026'!I28+'березень 2026'!I28+'квітень 2026'!I28+'травень 2026'!#REF!+'червень 2026 '!I28+'липень 2026'!I28+'серпень 2026 '!I28+'вересень 2026'!I28+'жовтень 2026'!I28+'листопад 2026'!I28+'грудень 2026'!I28 -> #REF! | J28: ='січень 2026'!J28+'лютий 2026'!J28+'березень 2026'!J28+'квітень 2026'!J28+'травень 2026'!#REF!+'червень 2026 '!J28+'липень 2026'!J28+'серпень 2026 '!J28+'вересень 2026'!J28+'жовтень 2026'!J28+'листопад 2026'!J28+'грудень 2026'!J28 -> #REF! | K28: ='січень 2026'!K28+'лютий 2026'!K28+'березень 2026'!K28+'квітень 2026'!K28+'травень 2026'!#REF!+'червень 2026 '!K28+'липень 2026'!K28+'серпень 2026 '!K28+'вересень 2026'!K28+'жовтень 2026'!K28+'листопад 2026'!K28+'грудень 2026'!K28 -> #REF! | ... V28: ='січень 2026'!V28+'лютий 2026'!V28+'березень 2026'!V28+'квітень 2026'!V28+'травень 2026'!#REF!+'червень 2026 '!V28+'липень 2026'!V28+'серпень 2026 '!V28+'вересень 2026'!V28+'жовтень 2026'!V28+'листопад 2026'!V28+'грудень 2026'!V28 -> #REF! | W28: =SUM(D28:V28) -> #REF! | Y28: 30 | Z28: =W28/Y28 -> #REF!
A29: 20 | B29: Чаусівський ЗДО | D29: ='січень 2026'!D29+'лютий 2026'!D29+'березень 2026'!D29+'квітень 2026'!D29+'травень 2026'!#REF!+'червень 2026 '!D29+'липень 2026'!D29+'серпень 2026 '!D29+'вересень 2026'!D29+'жовтень 2026'!D29+'листопад 2026'!D29+'грудень 2026'!D29 -> #REF! | E29: ='січень 2026'!E29+'лютий 2026'!E29+'березень 2026'!E29+'квітень 2026'!E29+'травень 2026'!#REF!+'червень 2026 '!E29+'липень 2026'!E29+'серпень 2026 '!E29+'вересень 2026'!E29+'жовтень 2026'!E29+'листопад 2026'!E29+'грудень 2026'!E29 -> #REF! | F29: ='січень 2026'!F29+'лютий 2026'!F29+'березень 2026'!F29+'квітень 2026'!F29+'травень 2026'!#REF!+'червень 2026 '!F29+'липень 2026'!F29+'серпень 2026 '!F29+'вересень 2026'!F29+'жовтень 2026'!F29+'листопад 2026'!F29+'грудень 2026'!F29 -> #REF! | G29: ='січень 2026'!G29+'лютий 2026'!G29+'березень 2026'!G29+'квітень 2026'!G29+'травень 2026'!#REF!+'червень 2026 '!G29+'липень 2026'!G29+'серпень 2026 '!G29+'вересень 2026'!G29+'жовтень 2026'!G29+'листопад 2026'!G29+'грудень 2026'!G29 -> #REF! | H29: ='січень 2026'!H29+'лютий 2026'!H29+'березень 2026'!H29+'квітень 2026'!H29+'травень 2026'!#REF!+'червень 2026 '!H29+'липень 2026'!H29+'серпень 2026 '!H29+'вересень 2026'!H29+'жовтень 2026'!H29+'листопад 2026'!H29+'грудень 2026'!H29 -> #REF! | I29: ='січень 2026'!I29+'лютий 2026'!I29+'березень 2026'!I29+'квітень 2026'!I29+'травень 2026'!#REF!+'червень 2026 '!I29+'липень 2026'!I29+'серпень 2026 '!I29+'вересень 2026'!I29+'жовтень 2026'!I29+'листопад 2026'!I29+'грудень 2026'!I29 -> #REF! | J29: ='січень 2026'!J29+'лютий 2026'!J29+'березень 2026'!J29+'квітень 2026'!J29+'травень 2026'!#REF!+'червень 2026 '!J29+'липень 2026'!J29+'серпень 2026 '!J29+'вересень 2026'!J29+'жовтень 2026'!J29+'листопад 2026'!J29+'грудень 2026'!J29 -> #REF! | K29: ='січень 2026'!K29+'лютий 2026'!K29+'березень 2026'!K29+'квітень 2026'!K29+'травень 2026'!#REF!+'червень 2026 '!K29+'липень 2026'!K29+'серпень 2026 '!K29+'вересень 2026'!K29+'жовтень 2026'!K29+'листопад 2026'!K29+'грудень 2026'!K29 -> #REF! | ... V29: ='січень 2026'!V29+'лютий 2026'!V29+'березень 2026'!V29+'квітень 2026'!V29+'травень 2026'!#REF!+'червень 2026 '!V29+'липень 2026'!V29+'серпень 2026 '!V29+'вересень 2026'!V29+'жовтень 2026'!V29+'листопад 2026'!V29+'грудень 2026'!V29 -> #REF! | W29: =SUM(D29:V29) -> #REF!
B30: Разом по 0611010 | D30: ='січень 2026'!D30+'лютий 2026'!D30+'березень 2026'!D30+'квітень 2026'!D30+'травень 2026'!#REF!+'червень 2026 '!D30+'липень 2026'!D30+'серпень 2026 '!D30+'вересень 2026'!D30+'жовтень 2026'!D30+'листопад 2026'!D30+'грудень 2026'!D30 -> #REF! | E30: ='січень 2026'!E30+'лютий 2026'!E30+'березень 2026'!E30+'квітень 2026'!E30+'травень 2026'!#REF!+'червень 2026 '!E30+'липень 2026'!E30+'серпень 2026 '!E30+'вересень 2026'!E30+'жовтень 2026'!E30+'листопад 2026'!E30+'грудень 2026'!E30 -> #REF! | F30: ='січень 2026'!F30+'лютий 2026'!F30+'березень 2026'!F30+'квітень 2026'!F30+'травень 2026'!#REF!+'червень 2026 '!F30+'липень 2026'!F30+'серпень 2026 '!F30+'вересень 2026'!F30+'жовтень 2026'!F30+'листопад 2026'!F30+'грудень 2026'!F30 -> #REF! | G30: ='січень 2026'!G30+'лютий 2026'!G30+'березень 2026'!G30+'квітень 2026'!G30+'травень 2026'!#REF!+'червень 2026 '!G30+'липень 2026'!G30+'серпень 2026 '!G30+'вересень 2026'!G30+'жовтень 2026'!G30+'листопад 2026'!G30+'грудень 2026'!G30 -> #REF! | H30: ='січень 2026'!H30+'лютий 2026'!H30+'березень 2026'!H30+'квітень 2026'!H30+'травень 2026'!#REF!+'червень 2026 '!H30+'липень 2026'!H30+'серпень 2026 '!H30+'вересень 2026'!H30+'жовтень 2026'!H30+'листопад 2026'!H30+'грудень 2026'!H30 -> #REF! | I30: ='січень 2026'!I30+'лютий 2026'!I30+'березень 2026'!I30+'квітень 2026'!I30+'травень 2026'!#REF!+'червень 2026 '!I30+'липень 2026'!I30+'серпень 2026 '!I30+'вересень 2026'!I30+'жовтень 2026'!I30+'листопад 2026'!I30+'грудень 2026'!I30 -> #REF! | J30: ='січень 2026'!J30+'лютий 2026'!J30+'березень 2026'!J30+'квітень 2026'!J30+'травень 2026'!#REF!+'червень 2026 '!J30+'липень 2026'!J30+'серпень 2026 '!J30+'вересень 2026'!J30+'жовтень 2026'!J30+'листопад 2026'!J30+'грудень 2026'!J30 -> #REF! | K30: ='січень 2026'!K30+'лютий 2026'!K30+'березень 2026'!K30+'квітень 2026'!K30+'травень 2026'!#REF!+'червень 2026 '!K30+'липень 2026'!K30+'серпень 2026 '!K30+'вересень 2026'!K30+'жовтень 2026'!K30+'листопад 2026'!K30+'грудень 2026'!K30 -> #REF! | ... V30: ='січень 2026'!V30+'лютий 2026'!V30+'березень 2026'!V30+'квітень 2026'!V30+'травень 2026'!#REF!+'червень 2026 '!V30+'липень 2026'!V30+'серпень 2026 '!V30+'вересень 2026'!V30+'жовтень 2026'!V30+'листопад 2026'!V30+'грудень 2026'!V30 -> #REF! | W30: =SUM(W10:W29) -> #REF! | Y30: =SUM(Y10:Y29) -> 1701 | Z30: =W30/Y30 -> #REF!
B31: Гімназії, ліцеї
A32: 1 | B32: № 1 | D32: ='січень 2026'!D32+'лютий 2026'!D32+'березень 2026'!D32+'квітень 2026'!D32+'травень 2026'!#REF!+'червень 2026 '!D32+'липень 2026'!D32+'серпень 2026 '!D32+'вересень 2026'!D32+'жовтень 2026'!D32+'листопад 2026'!D32+'грудень 2026'!D32 -> #REF! | E32: ='січень 2026'!E32+'лютий 2026'!E32+'березень 2026'!E32+'квітень 2026'!E32+'травень 2026'!#REF!+'червень 2026 '!E32+'липень 2026'!E32+'серпень 2026 '!E32+'вересень 2026'!E32+'жовтень 2026'!E32+'листопад 2026'!E32+'грудень 2026'!E32 -> #REF! | F32: ='січень 2026'!F32+'лютий 2026'!F32+'березень 2026'!F32+'квітень 2026'!F32+'травень 2026'!#REF!+'червень 2026 '!F32+'липень 2026'!F32+'серпень 2026 '!F32+'вересень 2026'!F32+'жовтень 2026'!F32+'листопад 2026'!F32+'грудень 2026'!F32 -> #REF! | G32: ='січень 2026'!G32+'лютий 2026'!G32+'березень 2026'!G32+'квітень 2026'!G32+'травень 2026'!#REF!+'червень 2026 '!G32+'липень 2026'!G32+'серпень 2026 '!G32+'вересень 2026'!G32+'жовтень 2026'!G32+'листопад 2026'!G32+'грудень 2026'!G32 -> #REF! | H32: ='січень 2026'!H32+'лютий 2026'!H32+'березень 2026'!H32+'квітень 2026'!H32+'травень 2026'!#REF!+'червень 2026 '!H32+'липень 2026'!H32+'серпень 2026 '!H32+'вересень 2026'!H32+'жовтень 2026'!H32+'листопад 2026'!H32+'грудень 2026'!H32 -> #REF! | I32: ='січень 2026'!I32+'лютий 2026'!I32+'березень 2026'!I32+'квітень 2026'!I32+'травень 2026'!#REF!+'червень 2026 '!I32+'липень 2026'!I32+'серпень 2026 '!I32+'вересень 2026'!I32+'жовтень 2026'!I32+'листопад 2026'!I32+'грудень 2026'!I32 -> #REF! | J32: ='січень 2026'!J32+'лютий 2026'!J32+'березень 2026'!J32+'квітень 2026'!J32+'травень 2026'!#REF!+'червень 2026 '!J32+'липень 2026'!J32+'серпень 2026 '!J32+'вересень 2026'!J32+'жовтень 2026'!J32+'листопад 2026'!J32+'грудень 2026'!J32 -> #REF! | K32: ='січень 2026'!K32+'лютий 2026'!K32+'березень 2026'!K32+'квітень 2026'!K32+'травень 2026'!#REF!+'червень 2026 '!K32+'липень 2026'!K32+'серпень 2026 '!K32+'вересень 2026'!K32+'жовтень 2026'!K32+'листопад 2026'!K32+'грудень 2026'!K32 -> #REF! | ... V32: ='січень 2026'!V32+'лютий 2026'!V32+'березень 2026'!V32+'квітень 2026'!V32+'травень 2026'!#REF!+'червень 2026 '!V32+'липень 2026'!V32+'серпень 2026 '!V32+'вересень 2026'!V32+'жовтень 2026'!V32+'листопад 2026'!V32+'грудень 2026'!V32 -> #REF! | W32: =SUM(D32:V32) -> #REF!
A33: 2 | B33: № 2 | D33: ='січень 2026'!D33+'лютий 2026'!D33+'березень 2026'!D33+'квітень 2026'!D33+'травень 2026'!#REF!+'червень 2026 '!D33+'липень 2026'!D33+'серпень 2026 '!D33+'вересень 2026'!D33+'жовтень 2026'!D33+'листопад 2026'!D33+'грудень 2026'!D33 -> #REF! | E33: ='січень 2026'!E33+'лютий 2026'!E33+'березень 2026'!E33+'квітень 2026'!E33+'травень 2026'!#REF!+'червень 2026 '!E33+'липень 2026'!E33+'серпень 2026 '!E33+'вересень 2026'!E33+'жовтень 2026'!E33+'листопад 2026'!E33+'грудень 2026'!E33 -> #REF! | F33: ='січень 2026'!F33+'лютий 2026'!F33+'березень 2026'!F33+'квітень 2026'!F33+'травень 2026'!#REF!+'червень 2026 '!F33+'липень 2026'!F33+'серпень 2026 '!F33+'вересень 2026'!F33+'жовтень 2026'!F33+'листопад 2026'!F33+'грудень 2026'!F33 -> #REF! | G33: ='січень 2026'!G33+'лютий 2026'!G33+'березень 2026'!G33+'квітень 2026'!G33+'травень 2026'!#REF!+'червень 2026 '!G33+'липень 2026'!G33+'серпень 2026 '!G33+'вересень 2026'!G33+'жовтень 2026'!G33+'листопад 2026'!G33+'грудень 2026'!G33 -> #REF! | H33: ='січень 2026'!H33+'лютий 2026'!H33+'березень 2026'!H33+'квітень 2026'!H33+'травень 2026'!#REF!+'червень 2026 '!H33+'липень 2026'!H33+'серпень 2026 '!H33+'вересень 2026'!H33+'жовтень 2026'!H33+'листопад 2026'!H33+'грудень 2026'!H33 -> #REF! | I33: ='січень 2026'!I33+'лютий 2026'!I33+'березень 2026'!I33+'квітень 2026'!I33+'травень 2026'!#REF!+'червень 2026 '!I33+'липень 2026'!I33+'серпень 2026 '!I33+'вересень 2026'!I33+'жовтень 2026'!I33+'листопад 2026'!I33+'грудень 2026'!I33 -> #REF! | J33: ='січень 2026'!J33+'лютий 2026'!J33+'березень 2026'!J33+'квітень 2026'!J33+'травень 2026'!#REF!+'червень 2026 '!J33+'липень 2026'!J33+'серпень 2026 '!J33+'вересень 2026'!J33+'жовтень 2026'!J33+'листопад 2026'!J33+'грудень 2026'!J33 -> #REF! | K33: ='січень 2026'!K33+'лютий 2026'!K33+'березень 2026'!K33+'квітень 2026'!K33+'травень 2026'!#REF!+'червень 2026 '!K33+'липень 2026'!K33+'серпень 2026 '!K33+'вересень 2026'!K33+'жовтень 2026'!K33+'листопад 2026'!K33+'грудень 2026'!K33 -> #REF! | ... V33: ='січень 2026'!V33+'лютий 2026'!V33+'березень 2026'!V33+'квітень 2026'!V33+'травень 2026'!#REF!+'червень 2026 '!V33+'липень 2026'!V33+'серпень 2026 '!V33+'вересень 2026'!V33+'жовтень 2026'!V33+'листопад 2026'!V33+'грудень 2026'!V33 -> #REF! | W33: =SUM(D33:V33) -> #REF!
A34: 3 | B34: № 3 | D34: ='січень 2026'!D34+'лютий 2026'!D34+'березень 2026'!D34+'квітень 2026'!D34+'травень 2026'!#REF!+'червень 2026 '!D34+'липень 2026'!D34+'серпень 2026 '!D34+'вересень 2026'!D34+'жовтень 2026'!D34+'листопад 2026'!D34+'грудень 2026'!D34 -> #REF! | E34: ='січень 2026'!E34+'лютий 2026'!E34+'березень 2026'!E34+'квітень 2026'!E34+'травень 2026'!#REF!+'червень 2026 '!E34+'липень 2026'!E34+'серпень 2026 '!E34+'вересень 2026'!E34+'жовтень 2026'!E34+'листопад 2026'!E34+'грудень 2026'!E34 -> #REF! | F34: ='січень 2026'!F34+'лютий 2026'!F34+'березень 2026'!F34+'квітень 2026'!F34+'травень 2026'!#REF!+'червень 2026 '!F34+'липень 2026'!F34+'серпень 2026 '!F34+'вересень 2026'!F34+'жовтень 2026'!F34+'листопад 2026'!F34+'грудень 2026'!F34 -> #REF! | G34: ='січень 2026'!G34+'лютий 2026'!G34+'березень 2026'!G34+'квітень 2026'!G34+'травень 2026'!#REF!+'червень 2026 '!G34+'липень 2026'!G34+'серпень 2026 '!G34+'вересень 2026'!G34+'жовтень 2026'!G34+'листопад 2026'!G34+'грудень 2026'!G34 -> #REF! | H34: ='січень 2026'!H34+'лютий 2026'!H34+'березень 2026'!H34+'квітень 2026'!H34+'травень 2026'!#REF!+'червень 2026 '!H34+'липень 2026'!H34+'серпень 2026 '!H34+'вересень 2026'!H34+'жовтень 2026'!H34+'листопад 2026'!H34+'грудень 2026'!H34 -> #REF! | I34: ='січень 2026'!I34+'лютий 2026'!I34+'березень 2026'!I34+'квітень 2026'!I34+'травень 2026'!#REF!+'червень 2026 '!I34+'липень 2026'!I34+'серпень 2026 '!I34+'вересень 2026'!I34+'жовтень 2026'!I34+'листопад 2026'!I34+'грудень 2026'!I34 -> #REF! | J34: ='січень 2026'!J34+'лютий 2026'!J34+'березень 2026'!J34+'квітень 2026'!J34+'травень 2026'!#REF!+'червень 2026 '!J34+'липень 2026'!J34+'серпень 2026 '!J34+'вересень 2026'!J34+'жовтень 2026'!J34+'листопад 2026'!J34+'грудень 2026'!J34 -> #REF! | K34: ='січень 2026'!K34+'лютий 2026'!K34+'березень 2026'!K34+'квітень 2026'!K34+'травень 2026'!#REF!+'червень 2026 '!K34+'липень 2026'!K34+'серпень 2026 '!K34+'вересень 2026'!K34+'жовтень 2026'!K34+'листопад 2026'!K34+'грудень 2026'!K34 -> #REF! | ... V34: ='січень 2026'!V34+'лютий 2026'!V34+'березень 2026'!V34+'квітень 2026'!V34+'травень 2026'!#REF!+'червень 2026 '!V34+'липень 2026'!V34+'серпень 2026 '!V34+'вересень 2026'!V34+'жовтень 2026'!V34+'листопад 2026'!V34+'грудень 2026'!V34 -> #REF! | W34: =SUM(D34:V34) -> #REF!
A35: 4 | B35: № 4 | D35: ='січень 2026'!D35+'лютий 2026'!D35+'березень 2026'!D35+'квітень 2026'!D35+'травень 2026'!#REF!+'червень 2026 '!D35+'липень 2026'!D35+'серпень 2026 '!D35+'вересень 2026'!D35+'жовтень 2026'!D35+'листопад 2026'!D35+'грудень 2026'!D35 -> #REF! | E35: ='січень 2026'!E35+'лютий 2026'!E35+'березень 2026'!E35+'квітень 2026'!E35+'травень 2026'!#REF!+'червень 2026 '!E35+'липень 2026'!E35+'серпень 2026 '!E35+'вересень 2026'!E35+'жовтень 2026'!E35+'листопад 2026'!E35+'грудень 2026'!E35 -> #REF! | F35: ='січень 2026'!F35+'лютий 2026'!F35+'березень 2026'!F35+'квітень 2026'!F35+'травень 2026'!#REF!+'червень 2026 '!F35+'липень 2026'!F35+'серпень 2026 '!F35+'вересень 2026'!F35+'жовтень 2026'!F35+'листопад 2026'!F35+'грудень 2026'!F35 -> #REF! | G35: ='січень 2026'!G35+'лютий 2026'!G35+'березень 2026'!G35+'квітень 2026'!G35+'травень 2026'!#REF!+'червень 2026 '!G35+'липень 2026'!G35+'серпень 2026 '!G35+'вересень 2026'!G35+'жовтень 2026'!G35+'листопад 2026'!G35+'грудень 2026'!G35 -> #REF! | H35: ='січень 2026'!H35+'лютий 2026'!H35+'березень 2026'!H35+'квітень 2026'!H35+'травень 2026'!#REF!+'червень 2026 '!H35+'липень 2026'!H35+'серпень 2026 '!H35+'вересень 2026'!H35+'жовтень 2026'!H35+'листопад 2026'!H35+'грудень 2026'!H35 -> #REF! | I35: ='січень 2026'!I35+'лютий 2026'!I35+'березень 2026'!I35+'квітень 2026'!I35+'травень 2026'!#REF!+'червень 2026 '!I35+'липень 2026'!I35+'серпень 2026 '!I35+'вересень 2026'!I35+'жовтень 2026'!I35+'листопад 2026'!I35+'грудень 2026'!I35 -> #REF! | J35: ='січень 2026'!J35+'лютий 2026'!J35+'березень 2026'!J35+'квітень 2026'!J35+'травень 2026'!#REF!+'червень 2026 '!J35+'липень 2026'!J35+'серпень 2026 '!J35+'вересень 2026'!J35+'жовтень 2026'!J35+'листопад 2026'!J35+'грудень 2026'!J35 -> #REF! | K35: ='січень 2026'!K35+'лютий 2026'!K35+'березень 2026'!K35+'квітень 2026'!K35+'травень 2026'!#REF!+'червень 2026 '!K35+'липень 2026'!K35+'серпень 2026 '!K35+'вересень 2026'!K35+'жовтень 2026'!K35+'листопад 2026'!K35+'грудень 2026'!K35 -> #REF! | ... V35: ='січень 2026'!V35+'лютий 2026'!V35+'березень 2026'!V35+'квітень 2026'!V35+'травень 2026'!#REF!+'червень 2026 '!V35+'липень 2026'!V35+'серпень 2026 '!V35+'вересень 2026'!V35+'жовтень 2026'!V35+'листопад 2026'!V35+'грудень 2026'!V35 -> #REF! | W35: =SUM(D35:V35) -> #REF!
A36: 5 | B36: № 5 | D36: ='січень 2026'!D36+'лютий 2026'!D36+'березень 2026'!D36+'квітень 2026'!D36+'травень 2026'!#REF!+'червень 2026 '!D36+'липень 2026'!D36+'серпень 2026 '!D36+'вересень 2026'!D36+'жовтень 2026'!D36+'листопад 2026'!D36+'грудень 2026'!D36 -> #REF! | E36: ='січень 2026'!E36+'лютий 2026'!E36+'березень 2026'!E36+'квітень 2026'!E36+'травень 2026'!#REF!+'червень 2026 '!E36+'липень 2026'!E36+'серпень 2026 '!E36+'вересень 2026'!E36+'жовтень 2026'!E36+'листопад 2026'!E36+'грудень 2026'!E36 -> #REF! | F36: ='січень 2026'!F36+'лютий 2026'!F36+'березень 2026'!F36+'квітень 2026'!F36+'травень 2026'!#REF!+'червень 2026 '!F36+'липень 2026'!F36+'серпень 2026 '!F36+'вересень 2026'!F36+'жовтень 2026'!F36+'листопад 2026'!F36+'грудень 2026'!F36 -> #REF! | G36: ='січень 2026'!G36+'лютий 2026'!G36+'березень 2026'!G36+'квітень 2026'!G36+'травень 2026'!#REF!+'червень 2026 '!G36+'липень 2026'!G36+'серпень 2026 '!G36+'вересень 2026'!G36+'жовтень 2026'!G36+'листопад 2026'!G36+'грудень 2026'!G36 -> #REF! | H36: ='січень 2026'!H36+'лютий 2026'!H36+'березень 2026'!H36+'квітень 2026'!H36+'травень 2026'!#REF!+'червень 2026 '!H36+'липень 2026'!H36+'серпень 2026 '!H36+'вересень 2026'!H36+'жовтень 2026'!H36+'листопад 2026'!H36+'грудень 2026'!H36 -> #REF! | I36: ='січень 2026'!I36+'лютий 2026'!I36+'березень 2026'!I36+'квітень 2026'!I36+'травень 2026'!#REF!+'червень 2026 '!I36+'липень 2026'!I36+'серпень 2026 '!I36+'вересень 2026'!I36+'жовтень 2026'!I36+'листопад 2026'!I36+'грудень 2026'!I36 -> #REF! | J36: ='січень 2026'!J36+'лютий 2026'!J36+'березень 2026'!J36+'квітень 2026'!J36+'травень 2026'!#REF!+'червень 2026 '!J36+'липень 2026'!J36+'серпень 2026 '!J36+'вересень 2026'!J36+'жовтень 2026'!J36+'листопад 2026'!J36+'грудень 2026'!J36 -> #REF! | K36: ='січень 2026'!K36+'лютий 2026'!K36+'березень 2026'!K36+'квітень 2026'!K36+'травень 2026'!#REF!+'червень 2026 '!K36+'липень 2026'!K36+'серпень 2026 '!K36+'вересень 2026'!K36+'жовтень 2026'!K36+'листопад 2026'!K36+'грудень 2026'!K36 -> #REF! | ... V36: ='січень 2026'!V36+'лютий 2026'!V36+'березень 2026'!V36+'квітень 2026'!V36+'травень 2026'!#REF!+'червень 2026 '!V36+'липень 2026'!V36+'серпень 2026 '!V36+'вересень 2026'!V36+'жовтень 2026'!V36+'листопад 2026'!V36+'грудень 2026'!V36 -> #REF! | W36: =SUM(D36:V36) -> #REF!
A37: 6 | B37: № 6 | D37: ='січень 2026'!D37+'лютий 2026'!D37+'березень 2026'!D37+'квітень 2026'!D37+'травень 2026'!#REF!+'червень 2026 '!D37+'липень 2026'!D37+'серпень 2026 '!D37+'вересень 2026'!D37+'жовтень 2026'!D37+'листопад 2026'!D37+'грудень 2026'!D37 -> #REF! | E37: ='січень 2026'!E37+'лютий 2026'!E37+'березень 2026'!E37+'квітень 2026'!E37+'травень 2026'!#REF!+'червень 2026 '!E37+'липень 2026'!E37+'серпень 2026 '!E37+'вересень 2026'!E37+'жовтень 2026'!E37+'листопад 2026'!E37+'грудень 2026'!E37 -> #REF! | F37: ='січень 2026'!F37+'лютий 2026'!F37+'березень 2026'!F37+'квітень 2026'!F37+'травень 2026'!#REF!+'червень 2026 '!F37+'липень 2026'!F37+'серпень 2026 '!F37+'вересень 2026'!F37+'жовтень 2026'!F37+'листопад 2026'!F37+'грудень 2026'!F37 -> #REF! | G37: ='січень 2026'!G37+'лютий 2026'!G37+'березень 2026'!G37+'квітень 2026'!G37+'травень 2026'!#REF!+'червень 2026 '!G37+'липень 2026'!G37+'серпень 2026 '!G37+'вересень 2026'!G37+'жовтень 2026'!G37+'листопад 2026'!G37+'грудень 2026'!G37 -> #REF! | H37: ='січень 2026'!H37+'лютий 2026'!H37+'березень 2026'!H37+'квітень 2026'!H37+'травень 2026'!#REF!+'червень 2026 '!H37+'липень 2026'!H37+'серпень 2026 '!H37+'вересень 2026'!H37+'жовтень 2026'!H37+'листопад 2026'!H37+'грудень 2026'!H37 -> #REF! | I37: ='січень 2026'!I37+'лютий 2026'!I37+'березень 2026'!I37+'квітень 2026'!I37+'травень 2026'!#REF!+'червень 2026 '!I37+'липень 2026'!I37+'серпень 2026 '!I37+'вересень 2026'!I37+'жовтень 2026'!I37+'листопад 2026'!I37+'грудень 2026'!I37 -> #REF! | J37: ='січень 2026'!J37+'лютий 2026'!J37+'березень 2026'!J37+'квітень 2026'!J37+'травень 2026'!#REF!+'червень 2026 '!J37+'липень 2026'!J37+'серпень 2026 '!J37+'вересень 2026'!J37+'жовтень 2026'!J37+'листопад 2026'!J37+'грудень 2026'!J37 -> #REF! | K37: ='січень 2026'!K37+'лютий 2026'!K37+'березень 2026'!K37+'квітень 2026'!K37+'травень 2026'!#REF!+'червень 2026 '!K37+'липень 2026'!K37+'серпень 2026 '!K37+'вересень 2026'!K37+'жовтень 2026'!K37+'листопад 2026'!K37+'грудень 2026'!K37 -> #REF! | ... V37: ='січень 2026'!V37+'лютий 2026'!V37+'березень 2026'!V37+'квітень 2026'!V37+'травень 2026'!#REF!+'червень 2026 '!V37+'липень 2026'!V37+'серпень 2026 '!V37+'вересень 2026'!V37+'жовтень 2026'!V37+'листопад 2026'!V37+'грудень 2026'!V37 -> #REF! | W37: =SUM(D37:V37) -> #REF!
A38: 7 | B38: № 7 | D38: ='січень 2026'!D38+'лютий 2026'!D38+'березень 2026'!D38+'квітень 2026'!D38+'травень 2026'!#REF!+'червень 2026 '!D38+'липень 2026'!D38+'серпень 2026 '!D38+'вересень 2026'!D38+'жовтень 2026'!D38+'листопад 2026'!D38+'грудень 2026'!D38 -> #REF! | E38: ='січень 2026'!E38+'лютий 2026'!E38+'березень 2026'!E38+'квітень 2026'!E38+'травень 2026'!#REF!+'червень 2026 '!E38+'липень 2026'!E38+'серпень 2026 '!E38+'вересень 2026'!E38+'жовтень 2026'!E38+'листопад 2026'!E38+'грудень 2026'!E38 -> #REF! | F38: ='січень 2026'!F38+'лютий 2026'!F38+'березень 2026'!F38+'квітень 2026'!F38+'травень 2026'!#REF!+'червень 2026 '!F38+'липень 2026'!F38+'серпень 2026 '!F38+'вересень 2026'!F38+'жовтень 2026'!F38+'листопад 2026'!F38+'грудень 2026'!F38 -> #REF! | G38: ='січень 2026'!G38+'лютий 2026'!G38+'березень 2026'!G38+'квітень 2026'!G38+'травень 2026'!#REF!+'червень 2026 '!G38+'липень 2026'!G38+'серпень 2026 '!G38+'вересень 2026'!G38+'жовтень 2026'!G38+'листопад 2026'!G38+'грудень 2026'!G38 -> #REF! | H38: ='січень 2026'!H38+'лютий 2026'!H38+'березень 2026'!H38+'квітень 2026'!H38+'травень 2026'!#REF!+'червень 2026 '!H38+'липень 2026'!H38+'серпень 2026 '!H38+'вересень 2026'!H38+'жовтень 2026'!H38+'листопад 2026'!H38+'грудень 2026'!H38 -> #REF! | I38: ='січень 2026'!I38+'лютий 2026'!I38+'березень 2026'!I38+'квітень 2026'!I38+'травень 2026'!#REF!+'червень 2026 '!I38+'липень 2026'!I38+'серпень 2026 '!I38+'вересень 2026'!I38+'жовтень 2026'!I38+'листопад 2026'!I38+'грудень 2026'!I38 -> #REF! | J38: ='січень 2026'!J38+'лютий 2026'!J38+'березень 2026'!J38+'квітень 2026'!J38+'травень 2026'!#REF!+'червень 2026 '!J38+'липень 2026'!J38+'серпень 2026 '!J38+'вересень 2026'!J38+'жовтень 2026'!J38+'листопад 2026'!J38+'грудень 2026'!J38 -> #REF! | K38: ='січень 2026'!K38+'лютий 2026'!K38+'березень 2026'!K38+'квітень 2026'!K38+'травень 2026'!#REF!+'червень 2026 '!K38+'липень 2026'!K38+'серпень 2026 '!K38+'вересень 2026'!K38+'жовтень 2026'!K38+'листопад 2026'!K38+'грудень 2026'!K38 -> #REF! | ... V38: ='січень 2026'!V38+'лютий 2026'!V38+'березень 2026'!V38+'квітень 2026'!V38+'травень 2026'!#REF!+'червень 2026 '!V38+'липень 2026'!V38+'серпень 2026 '!V38+'вересень 2026'!V38+'жовтень 2026'!V38+'листопад 2026'!V38+'грудень 2026'!V38 -> #REF! | W38: =SUM(D38:V38) -> #REF!
A39: 8 | B39: № 8 | D39: ='січень 2026'!D39+'лютий 2026'!D39+'березень 2026'!D39+'квітень 2026'!D39+'травень 2026'!#REF!+'червень 2026 '!D39+'липень 2026'!D39+'серпень 2026 '!D39+'вересень 2026'!D39+'жовтень 2026'!D39+'листопад 2026'!D39+'грудень 2026'!D39 -> #REF! | E39: ='січень 2026'!E39+'лютий 2026'!E39+'березень 2026'!E39+'квітень 2026'!E39+'травень 2026'!#REF!+'червень 2026 '!E39+'липень 2026'!E39+'серпень 2026 '!E39+'вересень 2026'!E39+'жовтень 2026'!E39+'листопад 2026'!E39+'грудень 2026'!E39 -> #REF! | F39: ='січень 2026'!F39+'лютий 2026'!F39+'березень 2026'!F39+'квітень 2026'!F39+'травень 2026'!#REF!+'червень 2026 '!F39+'липень 2026'!F39+'серпень 2026 '!F39+'вересень 2026'!F39+'жовтень 2026'!F39+'листопад 2026'!F39+'грудень 2026'!F39 -> #REF! | G39: ='січень 2026'!G39+'лютий 2026'!G39+'березень 2026'!G39+'квітень 2026'!G39+'травень 2026'!#REF!+'червень 2026 '!G39+'липень 2026'!G39+'серпень 2026 '!G39+'вересень 2026'!G39+'жовтень 2026'!G39+'листопад 2026'!G39+'грудень 2026'!G39 -> #REF! | H39: ='січень 2026'!H39+'лютий 2026'!H39+'березень 2026'!H39+'квітень 2026'!H39+'травень 2026'!#REF!+'червень 2026 '!H39+'липень 2026'!H39+'серпень 2026 '!H39+'вересень 2026'!H39+'жовтень 2026'!H39+'листопад 2026'!H39+'грудень 2026'!H39 -> #REF! | I39: ='січень 2026'!I39+'лютий 2026'!I39+'березень 2026'!I39+'квітень 2026'!I39+'травень 2026'!#REF!+'червень 2026 '!I39+'липень 2026'!I39+'серпень 2026 '!I39+'вересень 2026'!I39+'жовтень 2026'!I39+'листопад 2026'!I39+'грудень 2026'!I39 -> #REF! | J39: ='січень 2026'!J39+'лютий 2026'!J39+'березень 2026'!J39+'квітень 2026'!J39+'травень 2026'!#REF!+'червень 2026 '!J39+'липень 2026'!J39+'серпень 2026 '!J39+'вересень 2026'!J39+'жовтень 2026'!J39+'листопад 2026'!J39+'грудень 2026'!J39 -> #REF! | K39: ='січень 2026'!K39+'лютий 2026'!K39+'березень 2026'!K39+'квітень 2026'!K39+'травень 2026'!#REF!+'червень 2026 '!K39+'липень 2026'!K39+'серпень 2026 '!K39+'вересень 2026'!K39+'жовтень 2026'!K39+'листопад 2026'!K39+'грудень 2026'!K39 -> #REF! | ... V39: ='січень 2026'!V39+'лютий 2026'!V39+'березень 2026'!V39+'квітень 2026'!V39+'травень 2026'!#REF!+'червень 2026 '!V39+'липень 2026'!V39+'серпень 2026 '!V39+'вересень 2026'!V39+'жовтень 2026'!V39+'листопад 2026'!V39+'грудень 2026'!V39 -> #REF! | W39: =SUM(D39:V39) -> #REF!
A40: 9 | B40: № 9 | D40: ='січень 2026'!D40+'лютий 2026'!D40+'березень 2026'!D40+'квітень 2026'!D40+'травень 2026'!#REF!+'червень 2026 '!D40+'липень 2026'!D40+'серпень 2026 '!D40+'вересень 2026'!D40+'жовтень 2026'!D40+'листопад 2026'!D40+'грудень 2026'!D40 -> #REF! | E40: ='січень 2026'!E40+'лютий 2026'!E40+'березень 2026'!E40+'квітень 2026'!E40+'травень 2026'!#REF!+'червень 2026 '!E40+'липень 2026'!E40+'серпень 2026 '!E40+'вересень 2026'!E40+'жовтень 2026'!E40+'листопад 2026'!E40+'грудень 2026'!E40 -> #REF! | F40: ='січень 2026'!F40+'лютий 2026'!F40+'березень 2026'!F40+'квітень 2026'!F40+'травень 2026'!#REF!+'червень 2026 '!F40+'липень 2026'!F40+'серпень 2026 '!F40+'вересень 2026'!F40+'жовтень 2026'!F40+'листопад 2026'!F40+'грудень 2026'!F40 -> #REF! | G40: ='січень 2026'!G40+'лютий 2026'!G40+'березень 2026'!G40+'квітень 2026'!G40+'травень 2026'!#REF!+'червень 2026 '!G40+'липень 2026'!G40+'серпень 2026 '!G40+'вересень 2026'!G40+'жовтень 2026'!G40+'листопад 2026'!G40+'грудень 2026'!G40 -> #REF! | H40: ='січень 2026'!H40+'лютий 2026'!H40+'березень 2026'!H40+'квітень 2026'!H40+'травень 2026'!#REF!+'червень 2026 '!H40+'липень 2026'!H40+'серпень 2026 '!H40+'вересень 2026'!H40+'жовтень 2026'!H40+'листопад 2026'!H40+'грудень 2026'!H40 -> #REF! | I40: ='січень 2026'!I40+'лютий 2026'!I40+'березень 2026'!I40+'квітень 2026'!I40+'травень 2026'!#REF!+'червень 2026 '!I40+'липень 2026'!I40+'серпень 2026 '!I40+'вересень 2026'!I40+'жовтень 2026'!I40+'листопад 2026'!I40+'грудень 2026'!I40 -> #REF! | J40: ='січень 2026'!J40+'лютий 2026'!J40+'березень 2026'!J40+'квітень 2026'!J40+'травень 2026'!#REF!+'червень 2026 '!J40+'липень 2026'!J40+'серпень 2026 '!J40+'вересень 2026'!J40+'жовтень 2026'!J40+'листопад 2026'!J40+'грудень 2026'!J40 -> #REF! | K40: ='січень 2026'!K40+'лютий 2026'!K40+'березень 2026'!K40+'квітень 2026'!K40+'травень 2026'!#REF!+'червень 2026 '!K40+'липень 2026'!K40+'серпень 2026 '!K40+'вересень 2026'!K40+'жовтень 2026'!K40+'листопад 2026'!K40+'грудень 2026'!K40 -> #REF! | ... V40: ='січень 2026'!V40+'лютий 2026'!V40+'березень 2026'!V40+'квітень 2026'!V40+'травень 2026'!#REF!+'червень 2026 '!V40+'липень 2026'!V40+'серпень 2026 '!V40+'вересень 2026'!V40+'жовтень 2026'!V40+'листопад 2026'!V40+'грудень 2026'!V40 -> #REF! | W40: =SUM(D40:V40) -> #REF!
A41: 10 | B41: № 10 | D41: ='січень 2026'!D41+'лютий 2026'!D41+'березень 2026'!D41+'квітень 2026'!D41+'травень 2026'!#REF!+'червень 2026 '!D41+'липень 2026'!D41+'серпень 2026 '!D41+'вересень 2026'!D41+'жовтень 2026'!D41+'листопад 2026'!D41+'грудень 2026'!D41 -> #REF! | E41: ='січень 2026'!E41+'лютий 2026'!E41+'березень 2026'!E41+'квітень 2026'!E41+'травень 2026'!#REF!+'червень 2026 '!E41+'липень 2026'!E41+'серпень 2026 '!E41+'вересень 2026'!E41+'жовтень 2026'!E41+'листопад 2026'!E41+'грудень 2026'!E41 -> #REF! | F41: ='січень 2026'!F41+'лютий 2026'!F41+'березень 2026'!F41+'квітень 2026'!F41+'травень 2026'!#REF!+'червень 2026 '!F41+'липень 2026'!F41+'серпень 2026 '!F41+'вересень 2026'!F41+'жовтень 2026'!F41+'листопад 2026'!F41+'грудень 2026'!F41 -> #REF! | G41: ='січень 2026'!G41+'лютий 2026'!G41+'березень 2026'!G41+'квітень 2026'!G41+'травень 2026'!#REF!+'червень 2026 '!G41+'липень 2026'!G41+'серпень 2026 '!G41+'вересень 2026'!G41+'жовтень 2026'!G41+'листопад 2026'!G41+'грудень 2026'!G41 -> #REF! | H41: ='січень 2026'!H41+'лютий 2026'!H41+'березень 2026'!H41+'квітень 2026'!H41+'травень 2026'!#REF!+'червень 2026 '!H41+'липень 2026'!H41+'серпень 2026 '!H41+'вересень 2026'!H41+'жовтень 2026'!H41+'листопад 2026'!H41+'грудень 2026'!H41 -> #REF! | I41: ='січень 2026'!I41+'лютий 2026'!I41+'березень 2026'!I41+'квітень 2026'!I41+'травень 2026'!#REF!+'червень 2026 '!I41+'липень 2026'!I41+'серпень 2026 '!I41+'вересень 2026'!I41+'жовтень 2026'!I41+'листопад 2026'!I41+'грудень 2026'!I41 -> #REF! | J41: ='січень 2026'!J41+'лютий 2026'!J41+'березень 2026'!J41+'квітень 2026'!J41+'травень 2026'!#REF!+'червень 2026 '!J41+'липень 2026'!J41+'серпень 2026 '!J41+'вересень 2026'!J41+'жовтень 2026'!J41+'листопад 2026'!J41+'грудень 2026'!J41 -> #REF! | K41: ='січень 2026'!K41+'лютий 2026'!K41+'березень 2026'!K41+'квітень 2026'!K41+'травень 2026'!#REF!+'червень 2026 '!K41+'липень 2026'!K41+'серпень 2026 '!K41+'вересень 2026'!K41+'жовтень 2026'!K41+'листопад 2026'!K41+'грудень 2026'!K41 -> #REF! | ... V41: ='січень 2026'!V41+'лютий 2026'!V41+'березень 2026'!V41+'квітень 2026'!V41+'травень 2026'!#REF!+'червень 2026 '!V41+'липень 2026'!V41+'серпень 2026 '!V41+'вересень 2026'!V41+'жовтень 2026'!V41+'листопад 2026'!V41+'грудень 2026'!V41 -> #REF! | W41: =SUM(D41:V41) -> #REF!
A42: 11 | B42: почат школа № 11 | D42: ='січень 2026'!D42+'лютий 2026'!D42+'березень 2026'!D42+'квітень 2026'!D42+'травень 2026'!#REF!+'червень 2026 '!D42+'липень 2026'!D42+'серпень 2026 '!D42+'вересень 2026'!D42+'жовтень 2026'!D42+'листопад 2026'!D42+'грудень 2026'!D42 -> #REF! | E42: ='січень 2026'!E42+'лютий 2026'!E42+'березень 2026'!E42+'квітень 2026'!E42+'травень 2026'!#REF!+'червень 2026 '!E42+'липень 2026'!E42+'серпень 2026 '!E42+'вересень 2026'!E42+'жовтень 2026'!E42+'листопад 2026'!E42+'грудень 2026'!E42 -> #REF! | F42: ='січень 2026'!F42+'лютий 2026'!F42+'березень 2026'!F42+'квітень 2026'!F42+'травень 2026'!#REF!+'червень 2026 '!F42+'липень 2026'!F42+'серпень 2026 '!F42+'вересень 2026'!F42+'жовтень 2026'!F42+'листопад 2026'!F42+'грудень 2026'!F42 -> #REF! | G42: ='січень 2026'!G42+'лютий 2026'!G42+'березень 2026'!G42+'квітень 2026'!G42+'травень 2026'!#REF!+'червень 2026 '!G42+'липень 2026'!G42+'серпень 2026 '!G42+'вересень 2026'!G42+'жовтень 2026'!G42+'листопад 2026'!G42+'грудень 2026'!G42 -> #REF! | H42: ='січень 2026'!H42+'лютий 2026'!H42+'березень 2026'!H42+'квітень 2026'!H42+'травень 2026'!#REF!+'червень 2026 '!H42+'липень 2026'!H42+'серпень 2026 '!H42+'вересень 2026'!H42+'жовтень 2026'!H42+'листопад 2026'!H42+'грудень 2026'!H42 -> #REF! | I42: ='січень 2026'!I42+'лютий 2026'!I42+'березень 2026'!I42+'квітень 2026'!I42+'травень 2026'!#REF!+'червень 2026 '!I42+'липень 2026'!I42+'серпень 2026 '!I42+'вересень 2026'!I42+'жовтень 2026'!I42+'листопад 2026'!I42+'грудень 2026'!I42 -> #REF! | J42: ='січень 2026'!J42+'лютий 2026'!J42+'березень 2026'!J42+'квітень 2026'!J42+'травень 2026'!#REF!+'червень 2026 '!J42+'липень 2026'!J42+'серпень 2026 '!J42+'вересень 2026'!J42+'жовтень 2026'!J42+'листопад 2026'!J42+'грудень 2026'!J42 -> #REF! | K42: ='січень 2026'!K42+'лютий 2026'!K42+'березень 2026'!K42+'квітень 2026'!K42+'травень 2026'!#REF!+'червень 2026 '!K42+'липень 2026'!K42+'серпень 2026 '!K42+'вересень 2026'!K42+'жовтень 2026'!K42+'листопад 2026'!K42+'грудень 2026'!K42 -> #REF! | ... V42: ='січень 2026'!V42+'лютий 2026'!V42+'березень 2026'!V42+'квітень 2026'!V42+'травень 2026'!#REF!+'червень 2026 '!V42+'липень 2026'!V42+'серпень 2026 '!V42+'вересень 2026'!V42+'жовтень 2026'!V42+'листопад 2026'!V42+'грудень 2026'!V42 -> #REF! | W42: =SUM(D42:V42) -> #REF!
A43: 12 | B43: Л Лідер | D43: ='січень 2026'!D43+'лютий 2026'!D43+'березень 2026'!D43+'квітень 2026'!D43+'травень 2026'!#REF!+'червень 2026 '!D43+'липень 2026'!D43+'серпень 2026 '!D43+'вересень 2026'!D43+'жовтень 2026'!D43+'листопад 2026'!D43+'грудень 2026'!D43 -> #REF! | E43: ='січень 2026'!E43+'лютий 2026'!E43+'березень 2026'!E43+'квітень 2026'!E43+'травень 2026'!#REF!+'червень 2026 '!E43+'липень 2026'!E43+'серпень 2026 '!E43+'вересень 2026'!E43+'жовтень 2026'!E43+'листопад 2026'!E43+'грудень 2026'!E43 -> #REF! | F43: ='січень 2026'!F43+'лютий 2026'!F43+'березень 2026'!F43+'квітень 2026'!F43+'травень 2026'!#REF!+'червень 2026 '!F43+'липень 2026'!F43+'серпень 2026 '!F43+'вересень 2026'!F43+'жовтень 2026'!F43+'листопад 2026'!F43+'грудень 2026'!F43 -> #REF! | G43: ='січень 2026'!G43+'лютий 2026'!G43+'березень 2026'!G43+'квітень 2026'!G43+'травень 2026'!#REF!+'червень 2026 '!G43+'липень 2026'!G43+'серпень 2026 '!G43+'вересень 2026'!G43+'жовтень 2026'!G43+'листопад 2026'!G43+'грудень 2026'!G43 -> #REF! | H43: ='січень 2026'!H43+'лютий 2026'!H43+'березень 2026'!H43+'квітень 2026'!H43+'травень 2026'!#REF!+'червень 2026 '!H43+'липень 2026'!H43+'серпень 2026 '!H43+'вересень 2026'!H43+'жовтень 2026'!H43+'листопад 2026'!H43+'грудень 2026'!H43 -> #REF! | I43: ='січень 2026'!I43+'лютий 2026'!I43+'березень 2026'!I43+'квітень 2026'!I43+'травень 2026'!#REF!+'червень 2026 '!I43+'липень 2026'!I43+'серпень 2026 '!I43+'вересень 2026'!I43+'жовтень 2026'!I43+'листопад 2026'!I43+'грудень 2026'!I43 -> #REF! | J43: ='січень 2026'!J43+'лютий 2026'!J43+'березень 2026'!J43+'квітень 2026'!J43+'травень 2026'!#REF!+'червень 2026 '!J43+'липень 2026'!J43+'серпень 2026 '!J43+'вересень 2026'!J43+'жовтень 2026'!J43+'листопад 2026'!J43+'грудень 2026'!J43 -> #REF! | K43: ='січень 2026'!K43+'лютий 2026'!K43+'березень 2026'!K43+'квітень 2026'!K43+'травень 2026'!#REF!+'червень 2026 '!K43+'липень 2026'!K43+'серпень 2026 '!K43+'вересень 2026'!K43+'жовтень 2026'!K43+'листопад 2026'!K43+'грудень 2026'!K43 -> #REF! | ... V43: ='січень 2026'!V43+'лютий 2026'!V43+'березень 2026'!V43+'квітень 2026'!V43+'травень 2026'!#REF!+'червень 2026 '!V43+'липень 2026'!V43+'серпень 2026 '!V43+'вересень 2026'!V43+'жовтень 2026'!V43+'листопад 2026'!V43+'грудень 2026'!V43 -> #REF! | W43: =SUM(D43:V43) -> #REF!
... A49: 18 | B49: Грушівська гімназія | D49: ='січень 2026'!D49+'лютий 2026'!D49+'березень 2026'!D49+'квітень 2026'!D49+'травень 2026'!#REF!+'червень 2026 '!D49+'липень 2026'!D49+'серпень 2026 '!D49+'вересень 2026'!D49+'жовтень 2026'!D49+'листопад 2026'!D49+'грудень 2026'!D49 -> #REF! | E49: ='січень 2026'!E49+'лютий 2026'!E49+'березень 2026'!E49+'квітень 2026'!E49+'травень 2026'!#REF!+'червень 2026 '!E49+'липень 2026'!E49+'серпень 2026 '!E49+'вересень 2026'!E49+'жовтень 2026'!E49+'листопад 2026'!E49+'грудень 2026'!E49 -> #REF! | F49: ='січень 2026'!F49+'лютий 2026'!F49+'березень 2026'!F49+'квітень 2026'!F49+'травень 2026'!#REF!+'червень 2026 '!F49+'липень 2026'!F49+'серпень 2026 '!F49+'вересень 2026'!F49+'жовтень 2026'!F49+'листопад 2026'!F49+'грудень 2026'!F49 -> #REF! | G49: ='січень 2026'!G49+'лютий 2026'!G49+'березень 2026'!G49+'квітень 2026'!G49+'травень 2026'!#REF!+'червень 2026 '!G49+'липень 2026'!G49+'серпень 2026 '!G49+'вересень 2026'!G49+'жовтень 2026'!G49+'листопад 2026'!G49+'грудень 2026'!G49 -> #REF! | H49: ='січень 2026'!H49+'лютий 2026'!H49+'березень 2026'!H49+'квітень 2026'!H49+'травень 2026'!#REF!+'червень 2026 '!H49+'липень 2026'!H49+'серпень 2026 '!H49+'вересень 2026'!H49+'жовтень 2026'!H49+'листопад 2026'!H49+'грудень 2026'!H49 -> #REF! | I49: ='січень 2026'!I49+'лютий 2026'!I49+'березень 2026'!I49+'квітень 2026'!I49+'травень 2026'!#REF!+'червень 2026 '!I49+'липень 2026'!I49+'серпень 2026 '!I49+'вересень 2026'!I49+'жовтень 2026'!I49+'листопад 2026'!I49+'грудень 2026'!I49 -> #REF! | J49: ='січень 2026'!J49+'лютий 2026'!J49+'березень 2026'!J49+'квітень 2026'!J49+'травень 2026'!#REF!+'червень 2026 '!J49+'липень 2026'!J49+'серпень 2026 '!J49+'вересень 2026'!J49+'жовтень 2026'!J49+'листопад 2026'!J49+'грудень 2026'!J49 -> #REF! | K49: ='січень 2026'!K49+'лютий 2026'!K49+'березень 2026'!K49+'квітень 2026'!K49+'травень 2026'!#REF!+'червень 2026 '!K49+'липень 2026'!K49+'серпень 2026 '!K49+'вересень 2026'!K49+'жовтень 2026'!K49+'листопад 2026'!K49+'грудень 2026'!K49 -> #REF! | ... V49: ='січень 2026'!V49+'лютий 2026'!V49+'березень 2026'!V49+'квітень 2026'!V49+'травень 2026'!#REF!+'червень 2026 '!V49+'липень 2026'!V49+'серпень 2026 '!V49+'вересень 2026'!V49+'жовтень 2026'!V49+'листопад 2026'!V49+'грудень 2026'!V49 -> #REF! | W49: =SUM(D49:V49) -> #REF!
B50: Разом по 0611021 | D50: ='січень 2026'!D50+'лютий 2026'!D50+'березень 2026'!D50+'квітень 2026'!D50+'травень 2026'!#REF!+'червень 2026 '!D50+'липень 2026'!D50+'серпень 2026 '!D50+'вересень 2026'!D50+'жовтень 2026'!D50+'листопад 2026'!D50+'грудень 2026'!D50 -> #REF! | E50: ='січень 2026'!E50+'лютий 2026'!E50+'березень 2026'!E50+'квітень 2026'!E50+'травень 2026'!#REF!+'червень 2026 '!E50+'липень 2026'!E50+'серпень 2026 '!E50+'вересень 2026'!E50+'жовтень 2026'!E50+'листопад 2026'!E50+'грудень 2026'!E50 -> #REF! | F50: ='січень 2026'!F50+'лютий 2026'!F50+'березень 2026'!F50+'квітень 2026'!F50+'травень 2026'!#REF!+'червень 2026 '!F50+'липень 2026'!F50+'серпень 2026 '!F50+'вересень 2026'!F50+'жовтень 2026'!F50+'листопад 2026'!F50+'грудень 2026'!F50 -> #REF! | G50: ='січень 2026'!G50+'лютий 2026'!G50+'березень 2026'!G50+'квітень 2026'!G50+'травень 2026'!#REF!+'червень 2026 '!G50+'липень 2026'!G50+'серпень 2026 '!G50+'вересень 2026'!G50+'жовтень 2026'!G50+'листопад 2026'!G50+'грудень 2026'!G50 -> #REF! | H50: ='січень 2026'!H50+'лютий 2026'!H50+'березень 2026'!H50+'квітень 2026'!H50+'травень 2026'!#REF!+'червень 2026 '!H50+'липень 2026'!H50+'серпень 2026 '!H50+'вересень 2026'!H50+'жовтень 2026'!H50+'листопад 2026'!H50+'грудень 2026'!H50 -> #REF! | I50: ='січень 2026'!I50+'лютий 2026'!I50+'березень 2026'!I50+'квітень 2026'!I50+'травень 2026'!#REF!+'червень 2026 '!I50+'липень 2026'!I50+'серпень 2026 '!I50+'вересень 2026'!I50+'жовтень 2026'!I50+'листопад 2026'!I50+'грудень 2026'!I50 -> #REF! | J50: ='січень 2026'!J50+'лютий 2026'!J50+'березень 2026'!J50+'квітень 2026'!J50+'травень 2026'!#REF!+'червень 2026 '!J50+'липень 2026'!J50+'серпень 2026 '!J50+'вересень 2026'!J50+'жовтень 2026'!J50+'листопад 2026'!J50+'грудень 2026'!J50 -> #REF! | K50: ='січень 2026'!K50+'лютий 2026'!K50+'березень 2026'!K50+'квітень 2026'!K50+'травень 2026'!#REF!+'червень 2026 '!K50+'липень 2026'!K50+'серпень 2026 '!K50+'вересень 2026'!K50+'жовтень 2026'!K50+'листопад 2026'!K50+'грудень 2026'!K50 -> #REF! | ... V50: ='січень 2026'!V50+'лютий 2026'!V50+'березень 2026'!V50+'квітень 2026'!V50+'травень 2026'!#REF!+'червень 2026 '!V50+'липень 2026'!V50+'серпень 2026 '!V50+'вересень 2026'!V50+'жовтень 2026'!V50+'листопад 2026'!V50+'грудень 2026'!V50 -> #REF! | W50: =SUM(W32:W49) -> #REF!
B51: Заклади позашкільної освіти
A52: 1 | B52: ДЮЦНВ | D52: ='січень 2026'!D52+'лютий 2026'!D52+'березень 2026'!D52+'квітень 2026'!D52+'травень 2026'!#REF!+'червень 2026 '!D52+'липень 2026'!D52+'серпень 2026 '!D52+'вересень 2026'!D52+'жовтень 2026'!D52+'листопад 2026'!D52+'грудень 2026'!D52 -> #REF! | E52: ='січень 2026'!E52+'лютий 2026'!E52+'березень 2026'!E52+'квітень 2026'!E52+'травень 2026'!#REF!+'червень 2026 '!E52+'липень 2026'!E52+'серпень 2026 '!E52+'вересень 2026'!E52+'жовтень 2026'!E52+'листопад 2026'!E52+'грудень 2026'!E52 -> #REF! | F52: ='січень 2026'!F52+'лютий 2026'!F52+'березень 2026'!F52+'квітень 2026'!F52+'травень 2026'!#REF!+'червень 2026 '!F52+'липень 2026'!F52+'серпень 2026 '!F52+'вересень 2026'!F52+'жовтень 2026'!F52+'листопад 2026'!F52+'грудень 2026'!F52 -> #REF! | G52: ='січень 2026'!G52+'лютий 2026'!G52+'березень 2026'!G52+'квітень 2026'!G52+'травень 2026'!#REF!+'червень 2026 '!G52+'липень 2026'!G52+'серпень 2026 '!G52+'вересень 2026'!G52+'жовтень 2026'!G52+'листопад 2026'!G52+'грудень 2026'!G52 -> #REF! | H52: ='січень 2026'!H52+'лютий 2026'!H52+'березень 2026'!H52+'квітень 2026'!H52+'травень 2026'!#REF!+'червень 2026 '!H52+'липень 2026'!H52+'серпень 2026 '!H52+'вересень 2026'!H52+'жовтень 2026'!H52+'листопад 2026'!H52+'грудень 2026'!H52 -> #REF! | I52: ='січень 2026'!I52+'лютий 2026'!I52+'березень 2026'!I52+'квітень 2026'!I52+'травень 2026'!#REF!+'червень 2026 '!I52+'липень 2026'!I52+'серпень 2026 '!I52+'вересень 2026'!I52+'жовтень 2026'!I52+'листопад 2026'!I52+'грудень 2026'!I52 -> #REF! | J52: ='січень 2026'!J52+'лютий 2026'!J52+'березень 2026'!J52+'квітень 2026'!J52+'травень 2026'!#REF!+'червень 2026 '!J52+'липень 2026'!J52+'серпень 2026 '!J52+'вересень 2026'!J52+'жовтень 2026'!J52+'листопад 2026'!J52+'грудень 2026'!J52 -> #REF! | K52: ='січень 2026'!K52+'лютий 2026'!K52+'березень 2026'!K52+'квітень 2026'!K52+'травень 2026'!#REF!+'червень 2026 '!K52+'липень 2026'!K52+'серпень 2026 '!K52+'вересень 2026'!K52+'жовтень 2026'!K52+'листопад 2026'!K52+'грудень 2026'!K52 -> #REF! | ... V52: ='січень 2026'!V52+'лютий 2026'!V52+'березень 2026'!V52+'квітень 2026'!V52+'травень 2026'!#REF!+'червень 2026 '!V52+'липень 2026'!V52+'серпень 2026 '!V52+'вересень 2026'!V52+'жовтень 2026'!V52+'листопад 2026'!V52+'грудень 2026'!V52 -> #REF! | W52: =SUM(D52:V52) -> #REF!
A53: 2 | B53: ЦНТТУМ | D53: ='січень 2026'!D53+'лютий 2026'!D53+'березень 2026'!D53+'квітень 2026'!D53+'травень 2026'!D9+'червень 2026 '!D53+'липень 2026'!D53+'серпень 2026 '!D53+'вересень 2026'!D53+'жовтень 2026'!D53+'листопад 2026'!D53+'грудень 2026'!D53 -> 1005294.4 | E53: ='січень 2026'!E53+'лютий 2026'!E53+'березень 2026'!E53+'квітень 2026'!E53+'травень 2026'!E9+'червень 2026 '!E53+'липень 2026'!E53+'серпень 2026 '!E53+'вересень 2026'!E53+'жовтень 2026'!E53+'листопад 2026'!E53+'грудень 2026'!E53 -> 220790.83 | F53: ='січень 2026'!F53+'лютий 2026'!F53+'березень 2026'!F53+'квітень 2026'!F53+'травень 2026'!F9+'червень 2026 '!F53+'липень 2026'!F53+'серпень 2026 '!F53+'вересень 2026'!F53+'жовтень 2026'!F53+'листопад 2026'!F53+'грудень 2026'!F53 -> 29614.5 | G53: ='січень 2026'!G53+'лютий 2026'!G53+'березень 2026'!G53+'квітень 2026'!G53+'травень 2026'!G9+'червень 2026 '!G53+'липень 2026'!G53+'серпень 2026 '!G53+'вересень 2026'!G53+'жовтень 2026'!G53+'листопад 2026'!G53+'грудень 2026'!G53 -> 0 | H53: ='січень 2026'!H53+'лютий 2026'!H53+'березень 2026'!H53+'квітень 2026'!H53+'травень 2026'!H9+'червень 2026 '!H53+'липень 2026'!H53+'серпень 2026 '!H53+'вересень 2026'!H53+'жовтень 2026'!H53+'листопад 2026'!H53+'грудень 2026'!H53 -> 0 | I53: ='січень 2026'!I53+'лютий 2026'!I53+'березень 2026'!I53+'квітень 2026'!I53+'травень 2026'!I9+'червень 2026 '!I53+'липень 2026'!I53+'серпень 2026 '!I53+'вересень 2026'!I53+'жовтень 2026'!I53+'листопад 2026'!I53+'грудень 2026'!I53 -> 0 | J53: ='січень 2026'!J53+'лютий 2026'!J53+'березень 2026'!J53+'квітень 2026'!J53+'травень 2026'!J9+'червень 2026 '!J53+'липень 2026'!J53+'серпень 2026 '!J53+'вересень 2026'!J53+'жовтень 2026'!J53+'листопад 2026'!J53+'грудень 2026'!J53 -> 6725.45 | K53: ='січень 2026'!K53+'лютий 2026'!K53+'березень 2026'!K53+'квітень 2026'!K53+'травень 2026'!K9+'червень 2026 '!K53+'липень 2026'!K53+'серпень 2026 '!K53+'вересень 2026'!K53+'жовтень 2026'!K53+'листопад 2026'!K53+'грудень 2026'!K53 -> 0 | ... V53: ='січень 2026'!V53+'лютий 2026'!V53+'березень 2026'!V53+'квітень 2026'!V53+'травень 2026'!V9+'червень 2026 '!V53+'липень 2026'!V53+'серпень 2026 '!V53+'вересень 2026'!V53+'жовтень 2026'!V53+'листопад 2026'!V53+'грудень 2026'!V53 -> 0 | W53: =SUM(D53:V53) -> 1840386.1
A54: 3 | B54: СЮН | D54: ='січень 2026'!D54+'лютий 2026'!D54+'березень 2026'!D54+'квітень 2026'!D54+'травень 2026'!#REF!+'червень 2026 '!D54+'липень 2026'!D54+'серпень 2026 '!D54+'вересень 2026'!D54+'жовтень 2026'!D54+'листопад 2026'!D54+'грудень 2026'!D54 -> #REF! | E54: ='січень 2026'!E54+'лютий 2026'!E54+'березень 2026'!E54+'квітень 2026'!E54+'травень 2026'!#REF!+'червень 2026 '!E54+'липень 2026'!E54+'серпень 2026 '!E54+'вересень 2026'!E54+'жовтень 2026'!E54+'листопад 2026'!E54+'грудень 2026'!E54 -> #REF! | F54: ='січень 2026'!F54+'лютий 2026'!F54+'березень 2026'!F54+'квітень 2026'!F54+'травень 2026'!#REF!+'червень 2026 '!F54+'липень 2026'!F54+'серпень 2026 '!F54+'вересень 2026'!F54+'жовтень 2026'!F54+'листопад 2026'!F54+'грудень 2026'!F54 -> #REF! | G54: ='січень 2026'!G54+'лютий 2026'!G54+'березень 2026'!G54+'квітень 2026'!G54+'травень 2026'!#REF!+'червень 2026 '!G54+'липень 2026'!G54+'серпень 2026 '!G54+'вересень 2026'!G54+'жовтень 2026'!G54+'листопад 2026'!G54+'грудень 2026'!G54 -> #REF! | H54: ='січень 2026'!H54+'лютий 2026'!H54+'березень 2026'!H54+'квітень 2026'!H54+'травень 2026'!#REF!+'червень 2026 '!H54+'липень 2026'!H54+'серпень 2026 '!H54+'вересень 2026'!H54+'жовтень 2026'!H54+'листопад 2026'!H54+'грудень 2026'!H54 -> #REF! | I54: ='січень 2026'!I54+'лютий 2026'!I54+'березень 2026'!I54+'квітень 2026'!I54+'травень 2026'!#REF!+'червень 2026 '!I54+'липень 2026'!I54+'серпень 2026 '!I54+'вересень 2026'!I54+'жовтень 2026'!I54+'листопад 2026'!I54+'грудень 2026'!I54 -> #REF! | J54: ='січень 2026'!J54+'лютий 2026'!J54+'березень 2026'!J54+'квітень 2026'!J54+'травень 2026'!#REF!+'червень 2026 '!J54+'липень 2026'!J54+'серпень 2026 '!J54+'вересень 2026'!J54+'жовтень 2026'!J54+'листопад 2026'!J54+'грудень 2026'!J54 -> #REF! | K54: ='січень 2026'!K54+'лютий 2026'!K54+'березень 2026'!K54+'квітень 2026'!K54+'травень 2026'!#REF!+'червень 2026 '!K54+'липень 2026'!K54+'серпень 2026 '!K54+'вересень 2026'!K54+'жовтень 2026'!K54+'листопад 2026'!K54+'грудень 2026'!K54 -> #REF! | ... V54: ='січень 2026'!V54+'лютий 2026'!V54+'березень 2026'!V54+'квітень 2026'!V54+'травень 2026'!#REF!+'червень 2026 '!V54+'липень 2026'!V54+'серпень 2026 '!V54+'вересень 2026'!V54+'жовтень 2026'!V54+'листопад 2026'!V54+'грудень 2026'!V54 -> #REF! | W54: =SUM(D54:V54) -> #REF!
B55: Разом по 0611070 | D55: ='січень 2026'!D55+'лютий 2026'!D55+'березень 2026'!D55+'квітень 2026'!D55+'травень 2026'!#REF!+'червень 2026 '!D55+'липень 2026'!D55+'серпень 2026 '!D55+'вересень 2026'!D55+'жовтень 2026'!D55+'листопад 2026'!D55+'грудень 2026'!D55 -> #REF! | E55: ='січень 2026'!E55+'лютий 2026'!E55+'березень 2026'!E55+'квітень 2026'!E55+'травень 2026'!#REF!+'червень 2026 '!E55+'липень 2026'!E55+'серпень 2026 '!E55+'вересень 2026'!E55+'жовтень 2026'!E55+'листопад 2026'!E55+'грудень 2026'!E55 -> #REF! | F55: ='січень 2026'!F55+'лютий 2026'!F55+'березень 2026'!F55+'квітень 2026'!F55+'травень 2026'!#REF!+'червень 2026 '!F55+'липень 2026'!F55+'серпень 2026 '!F55+'вересень 2026'!F55+'жовтень 2026'!F55+'листопад 2026'!F55+'грудень 2026'!F55 -> #REF! | G55: ='січень 2026'!G55+'лютий 2026'!G55+'березень 2026'!G55+'квітень 2026'!G55+'травень 2026'!#REF!+'червень 2026 '!G55+'липень 2026'!G55+'серпень 2026 '!G55+'вересень 2026'!G55+'жовтень 2026'!G55+'листопад 2026'!G55+'грудень 2026'!G55 -> #REF! | H55: ='січень 2026'!H55+'лютий 2026'!H55+'березень 2026'!H55+'квітень 2026'!H55+'травень 2026'!#REF!+'червень 2026 '!H55+'липень 2026'!H55+'серпень 2026 '!H55+'вересень 2026'!H55+'жовтень 2026'!H55+'листопад 2026'!H55+'грудень 2026'!H55 -> #REF! | I55: ='січень 2026'!I55+'лютий 2026'!I55+'березень 2026'!I55+'квітень 2026'!I55+'травень 2026'!#REF!+'червень 2026 '!I55+'липень 2026'!I55+'серпень 2026 '!I55+'вересень 2026'!I55+'жовтень 2026'!I55+'листопад 2026'!I55+'грудень 2026'!I55 -> #REF! | J55: ='січень 2026'!J55+'лютий 2026'!J55+'березень 2026'!J55+'квітень 2026'!J55+'травень 2026'!#REF!+'червень 2026 '!J55+'липень 2026'!J55+'серпень 2026 '!J55+'вересень 2026'!J55+'жовтень 2026'!J55+'листопад 2026'!J55+'грудень 2026'!J55 -> #REF! | K55: ='січень 2026'!K55+'лютий 2026'!K55+'березень 2026'!K55+'квітень 2026'!K55+'травень 2026'!#REF!+'червень 2026 '!K55+'липень 2026'!K55+'серпень 2026 '!K55+'вересень 2026'!K55+'жовтень 2026'!K55+'листопад 2026'!K55+'грудень 2026'!K55 -> #REF! | ... V55: ='січень 2026'!V55+'лютий 2026'!V55+'березень 2026'!V55+'квітень 2026'!V55+'травень 2026'!#REF!+'червень 2026 '!V55+'липень 2026'!V55+'серпень 2026 '!V55+'вересень 2026'!V55+'жовтень 2026'!V55+'листопад 2026'!V55+'грудень 2026'!V55 -> #REF! | W55: =SUM(W52:W54) -> #REF!
B57: ІРЦ, 0611151 | D57: ='січень 2026'!D57+'лютий 2026'!D57+'березень 2026'!D57+'квітень 2026'!D57+'травень 2026'!#REF!+'червень 2026 '!D57+'липень 2026'!D57+'серпень 2026 '!D57+'вересень 2026'!D57+'жовтень 2026'!D57+'листопад 2026'!D57+'грудень 2026'!D57 -> #REF! | E57: ='січень 2026'!E57+'лютий 2026'!E57+'березень 2026'!E57+'квітень 2026'!E57+'травень 2026'!#REF!+'червень 2026 '!E57+'липень 2026'!E57+'серпень 2026 '!E57+'вересень 2026'!E57+'жовтень 2026'!E57+'листопад 2026'!E57+'грудень 2026'!E57 -> #REF! | F57: ='січень 2026'!F57+'лютий 2026'!F57+'березень 2026'!F57+'квітень 2026'!F57+'травень 2026'!#REF!+'червень 2026 '!F57+'липень 2026'!F57+'серпень 2026 '!F57+'вересень 2026'!F57+'жовтень 2026'!F57+'листопад 2026'!F57+'грудень 2026'!F57 -> #REF! | G57: ='січень 2026'!G57+'лютий 2026'!G57+'березень 2026'!G57+'квітень 2026'!G57+'травень 2026'!#REF!+'червень 2026 '!G57+'липень 2026'!G57+'серпень 2026 '!G57+'вересень 2026'!G57+'жовтень 2026'!G57+'листопад 2026'!G57+'грудень 2026'!G57 -> #REF! | H57: ='січень 2026'!H57+'лютий 2026'!H57+'березень 2026'!H57+'квітень 2026'!H57+'травень 2026'!#REF!+'червень 2026 '!H57+'липень 2026'!H57+'серпень 2026 '!H57+'вересень 2026'!H57+'жовтень 2026'!H57+'листопад 2026'!H57+'грудень 2026'!H57 -> #REF! | I57: ='січень 2026'!I57+'лютий 2026'!I57+'березень 2026'!I57+'квітень 2026'!I57+'травень 2026'!#REF!+'червень 2026 '!I57+'липень 2026'!I57+'серпень 2026 '!I57+'вересень 2026'!I57+'жовтень 2026'!I57+'листопад 2026'!I57+'грудень 2026'!I57 -> #REF! | J57: ='січень 2026'!J57+'лютий 2026'!J57+'березень 2026'!J57+'квітень 2026'!J57+'травень 2026'!#REF!+'червень 2026 '!J57+'липень 2026'!J57+'серпень 2026 '!J57+'вересень 2026'!J57+'жовтень 2026'!J57+'листопад 2026'!J57+'грудень 2026'!J57 -> #REF! | K57: ='січень 2026'!K57+'лютий 2026'!K57+'березень 2026'!K57+'квітень 2026'!K57+'травень 2026'!#REF!+'червень 2026 '!K57+'липень 2026'!K57+'серпень 2026 '!K57+'вересень 2026'!K57+'жовтень 2026'!K57+'листопад 2026'!K57+'грудень 2026'!K57 -> #REF! | ... V57: ='січень 2026'!V57+'лютий 2026'!V57+'березень 2026'!V57+'квітень 2026'!V57+'травень 2026'!#REF!+'червень 2026 '!V57+'липень 2026'!V57+'серпень 2026 '!V57+'вересень 2026'!V57+'жовтень 2026'!V57+'листопад 2026'!V57+'грудень 2026'!V57 -> #REF! | W57: =SUM(D57:V57) -> #REF!
B59: ДЮСШ, 0615031 | D59: ='січень 2026'!D59+'лютий 2026'!D59+'березень 2026'!D59+'квітень 2026'!D59+'травень 2026'!#REF!+'червень 2026 '!D59+'липень 2026'!D59+'серпень 2026 '!D59+'вересень 2026'!D59+'жовтень 2026'!D59+'листопад 2026'!D59+'грудень 2026'!D59 -> #REF! | E59: ='січень 2026'!E59+'лютий 2026'!E59+'березень 2026'!E59+'квітень 2026'!E59+'травень 2026'!#REF!+'червень 2026 '!E59+'липень 2026'!E59+'серпень 2026 '!E59+'вересень 2026'!E59+'жовтень 2026'!E59+'листопад 2026'!E59+'грудень 2026'!E59 -> #REF! | F59: ='січень 2026'!F59+'лютий 2026'!F59+'березень 2026'!F59+'квітень 2026'!F59+'травень 2026'!#REF!+'червень 2026 '!F59+'липень 2026'!F59+'серпень 2026 '!F59+'вересень 2026'!F59+'жовтень 2026'!F59+'листопад 2026'!F59+'грудень 2026'!F59 -> #REF! | G59: ='січень 2026'!G59+'лютий 2026'!G59+'березень 2026'!G59+'квітень 2026'!G59+'травень 2026'!#REF!+'червень 2026 '!G59+'липень 2026'!G59+'серпень 2026 '!G59+'вересень 2026'!G59+'жовтень 2026'!G59+'листопад 2026'!G59+'грудень 2026'!G59 -> #REF! | H59: ='січень 2026'!H59+'лютий 2026'!H59+'березень 2026'!H59+'квітень 2026'!H59+'травень 2026'!#REF!+'червень 2026 '!H59+'липень 2026'!H59+'серпень 2026 '!H59+'вересень 2026'!H59+'жовтень 2026'!H59+'листопад 2026'!H59+'грудень 2026'!H59 -> #REF! | I59: ='січень 2026'!I59+'лютий 2026'!I59+'березень 2026'!I59+'квітень 2026'!I59+'травень 2026'!#REF!+'червень 2026 '!I59+'липень 2026'!I59+'серпень 2026 '!I59+'вересень 2026'!I59+'жовтень 2026'!I59+'листопад 2026'!I59+'грудень 2026'!I59 -> #REF! | J59: ='січень 2026'!J59+'лютий 2026'!J59+'березень 2026'!J59+'квітень 2026'!J59+'травень 2026'!#REF!+'червень 2026 '!J59+'липень 2026'!J59+'серпень 2026 '!J59+'вересень 2026'!J59+'жовтень 2026'!J59+'листопад 2026'!J59+'грудень 2026'!J59 -> #REF! | K59: ='січень 2026'!K59+'лютий 2026'!K59+'березень 2026'!K59+'квітень 2026'!K59+'травень 2026'!#REF!+'червень 2026 '!K59+'липень 2026'!K59+'серпень 2026 '!K59+'вересень 2026'!K59+'жовтень 2026'!K59+'листопад 2026'!K59+'грудень 2026'!K59 -> #REF! | ... V59: ='січень 2026'!V59+'лютий 2026'!V59+'березень 2026'!V59+'квітень 2026'!V59+'травень 2026'!#REF!+'червень 2026 '!V59+'липень 2026'!V59+'серпень 2026 '!V59+'вересень 2026'!V59+'жовтень 2026'!V59+'листопад 2026'!V59+'грудень 2026'!V59 -> #REF! | W59: =SUM(D59:V59) -> #REF!
D60: ='січень 2026'!D60+'лютий 2026'!D60+'березень 2026'!D60+'квітень 2026'!D60+'травень 2026'!#REF!+'червень 2026 '!D60+'липень 2026'!D60+'серпень 2026 '!D60+'вересень 2026'!D60+'жовтень 2026'!D60+'листопад 2026'!D60+'грудень 2026'!D60 -> #REF! | E60: ='січень 2026'!E60+'лютий 2026'!E60+'березень 2026'!E60+'квітень 2026'!E60+'травень 2026'!#REF!+'червень 2026 '!E60+'липень 2026'!E60+'серпень 2026 '!E60+'вересень 2026'!E60+'жовтень 2026'!E60+'листопад 2026'!E60+'грудень 2026'!E60 -> #REF! | F60: ='січень 2026'!F60+'лютий 2026'!F60+'березень 2026'!F60+'квітень 2026'!F60+'травень 2026'!#REF!+'червень 2026 '!F60+'липень 2026'!F60+'серпень 2026 '!F60+'вересень 2026'!F60+'жовтень 2026'!F60+'листопад 2026'!F60+'грудень 2026'!F60 -> #REF! | G60: ='січень 2026'!G60+'лютий 2026'!G60+'березень 2026'!G60+'квітень 2026'!G60+'травень 2026'!#REF!+'червень 2026 '!G60+'липень 2026'!G60+'серпень 2026 '!G60+'вересень 2026'!G60+'жовтень 2026'!G60+'листопад 2026'!G60+'грудень 2026'!G60 -> #REF! | H60: ='січень 2026'!H60+'лютий 2026'!H60+'березень 2026'!H60+'квітень 2026'!H60+'травень 2026'!#REF!+'червень 2026 '!H60+'липень 2026'!H60+'серпень 2026 '!H60+'вересень 2026'!H60+'жовтень 2026'!H60+'листопад 2026'!H60+'грудень 2026'!H60 -> #REF! | I60: ='січень 2026'!I60+'лютий 2026'!I60+'березень 2026'!I60+'квітень 2026'!I60+'травень 2026'!#REF!+'червень 2026 '!I60+'липень 2026'!I60+'серпень 2026 '!I60+'вересень 2026'!I60+'жовтень 2026'!I60+'листопад 2026'!I60+'грудень 2026'!I60 -> #REF! | J60: ='січень 2026'!J60+'лютий 2026'!J60+'березень 2026'!J60+'квітень 2026'!J60+'травень 2026'!#REF!+'червень 2026 '!J60+'липень 2026'!J60+'серпень 2026 '!J60+'вересень 2026'!J60+'жовтень 2026'!J60+'листопад 2026'!J60+'грудень 2026'!J60 -> #REF! | K60: ='січень 2026'!K60+'лютий 2026'!K60+'березень 2026'!K60+'квітень 2026'!K60+'травень 2026'!#REF!+'червень 2026 '!K60+'липень 2026'!K60+'серпень 2026 '!K60+'вересень 2026'!K60+'жовтень 2026'!K60+'листопад 2026'!K60+'грудень 2026'!K60 -> #REF! | ... V60: ='січень 2026'!V60+'лютий 2026'!V60+'березень 2026'!V60+'квітень 2026'!V60+'травень 2026'!#REF!+'червень 2026 '!V60+'липень 2026'!V60+'серпень 2026 '!V60+'вересень 2026'!V60+'жовтень 2026'!V60+'листопад 2026'!V60+'грудень 2026'!V60 -> #REF!
B61: метод. кабінет, 0611160 | D61: ='січень 2026'!D61+'лютий 2026'!D61+'березень 2026'!D61+'квітень 2026'!D61+'травень 2026'!#REF!+'червень 2026 '!D61+'липень 2026'!D61+'серпень 2026 '!D61+'вересень 2026'!D61+'жовтень 2026'!D61+'листопад 2026'!D61+'грудень 2026'!D61 -> #REF! | E61: ='січень 2026'!E61+'лютий 2026'!E61+'березень 2026'!E61+'квітень 2026'!E61+'травень 2026'!#REF!+'червень 2026 '!E61+'липень 2026'!E61+'серпень 2026 '!E61+'вересень 2026'!E61+'жовтень 2026'!E61+'листопад 2026'!E61+'грудень 2026'!E61 -> #REF! | F61: ='січень 2026'!F61+'лютий 2026'!F61+'березень 2026'!F61+'квітень 2026'!F61+'травень 2026'!#REF!+'червень 2026 '!F61+'липень 2026'!F61+'серпень 2026 '!F61+'вересень 2026'!F61+'жовтень 2026'!F61+'листопад 2026'!F61+'грудень 2026'!F61 -> #REF! | G61: ='січень 2026'!G61+'лютий 2026'!G61+'березень 2026'!G61+'квітень 2026'!G61+'травень 2026'!#REF!+'червень 2026 '!G61+'липень 2026'!G61+'серпень 2026 '!G61+'вересень 2026'!G61+'жовтень 2026'!G61+'листопад 2026'!G61+'грудень 2026'!G61 -> #REF! | H61: ='січень 2026'!H61+'лютий 2026'!H61+'березень 2026'!H61+'квітень 2026'!H61+'травень 2026'!#REF!+'червень 2026 '!H61+'липень 2026'!H61+'серпень 2026 '!H61+'вересень 2026'!H61+'жовтень 2026'!H61+'листопад 2026'!H61+'грудень 2026'!H61 -> #REF! | I61: ='січень 2026'!I61+'лютий 2026'!I61+'березень 2026'!I61+'квітень 2026'!I61+'травень 2026'!#REF!+'червень 2026 '!I61+'липень 2026'!I61+'серпень 2026 '!I61+'вересень 2026'!I61+'жовтень 2026'!I61+'листопад 2026'!I61+'грудень 2026'!I61 -> #REF! | J61: ='січень 2026'!J61+'лютий 2026'!J61+'березень 2026'!J61+'квітень 2026'!J61+'травень 2026'!#REF!+'червень 2026 '!J61+'липень 2026'!J61+'серпень 2026 '!J61+'вересень 2026'!J61+'жовтень 2026'!J61+'листопад 2026'!J61+'грудень 2026'!J61 -> #REF! | K61: ='січень 2026'!K61+'лютий 2026'!K61+'березень 2026'!K61+'квітень 2026'!K61+'травень 2026'!#REF!+'червень 2026 '!K61+'липень 2026'!K61+'серпень 2026 '!K61+'вересень 2026'!K61+'жовтень 2026'!K61+'листопад 2026'!K61+'грудень 2026'!K61 -> #REF! | ... V61: ='січень 2026'!V61+'лютий 2026'!V61+'березень 2026'!V61+'квітень 2026'!V61+'травень 2026'!#REF!+'червень 2026 '!V61+'липень 2026'!V61+'серпень 2026 '!V61+'вересень 2026'!V61+'жовтень 2026'!V61+'листопад 2026'!V61+'грудень 2026'!V61 -> #REF! | W61: =SUM(D61:V61) -> #REF!
